Workbook
Name 生徒名①: 初期設定!$F$8:$F$47
Name 生徒名②: 初期設定!$I$8:$I$47
Name 生徒名③: 初期設定!$L$8:$L$47
Name 生徒名④: 初期設定!$O$8:$O$47
Name 生徒名⑤: 初期設定!$R$8:$R$47
Name 生徒名⑥: 初期設定!$U$8:$U$47
Name 生徒名⑦: 初期設定!$X$8:$X$47
Name 生徒名⑧: 初期設定!$AA$8:$AA$47

Sheet 使い方
A1: ナビ☆チェック 到達度・課題発見シート
A3: (1) 【初期設定】のシートで，必要事項を記入してください。
B4: ① 学年を入力してください。
B5: ② クラス名を入力してください。
C6: 例1） １組，２組，３組，…
C7: 例2） A組，B組，C組，…
B8: ③ 生徒氏名を入力してください。
A12: (2) 【正答数入力】シートで，点数を入力してください。
B13: ① 実施日を入力してください。
B14: ② 大問（項目）ごとの正答数を入力してください。
B15: ③ 国語以下，社会，数学，理科，英語についても
B16: 正答数入力をしてください。
A21: (3) 【個票】シートの組と生徒名を選択してください。
B22: ※プルダウンメニューから選択してください。
B23: ※未入力のままプリントすると，生徒が自分で
B24: 記入するシートとして使用することもできます。

Sheet 初期設定
A1: 初期設定
A2: ・学年とクラス名を入力してください。
A3: ・各クラスに在籍している生徒名を入力してください。（他のファイルからコピーする際は必ず値貼り付けをしてください）
A5: 学年 | C5: 年 | D5: クラス① | F5: 組 | G5: クラス② | I5: 組 | J5: クラス③ | L5: 組 | M5: クラス④ | O5: 組 | P5: クラス⑤ | R5: 組 | S5: クラス⑥ | U5: 組 | V5: クラス⑦ | X5: 組 | Y5: クラス⑧ | AA5: 組
E7: № | F7: 生徒氏名 | H7: № | I7: 生徒氏名 | K7: № | L7: 生徒氏名 | N7: № | O7: 生徒氏名 | Q7: № | R7: 生徒氏名 | T7: № | U7: 生徒氏名 | W7: № | X7: 生徒氏名 | Z7: № | AA7: 生徒氏名
E8: 1 | H8: 1 | K8: 1 | N8: 1 | Q8: 1 | T8: 1 | W8: 1 | Z8: 1
E9: 2 | H9: 2 | K9: 2 | N9: 2 | Q9: 2 | T9: 2 | W9: 2 | Z9: 2
E10: 3 | H10: 3 | K10: 3 | N10: 3 | Q10: 3 | T10: 3 | W10: 3 | Z10: 3
E11: 4 | H11: 4 | K11: 4 | N11: 4 | Q11: 4 | T11: 4 | W11: 4 | Z11: 4
E12: 5 | H12: 5 | K12: 5 | N12: 5 | Q12: 5 | T12: 5 | W12: 5 | Z12: 5
E13: 6 | H13: 6 | K13: 6 | N13: 6 | Q13: 6 | T13: 6 | W13: 6 | Z13: 6
E14: 7 | H14: 7 | K14: 7 | N14: 7 | Q14: 7 | T14: 7 | W14: 7 | Z14: 7
E15: 8 | H15: 8 | K15: 8 | N15: 8 | Q15: 8 | T15: 8 | W15: 8 | Z15: 8
E16: 9 | H16: 9 | K16: 9 | N16: 9 | Q16: 9 | T16: 9 | W16: 9 | Z16: 9
E17: 10 | H17: 10 | K17: 10 | N17: 10 | Q17: 10 | T17: 10 | W17: 10 | Z17: 10
E18: 11 | H18: 11 | K18: 11 | N18: 11 | Q18: 11 | T18: 11 | W18: 11 | Z18: 11
E19: 12 | H19: 12 | K19: 12 | N19: 12 | Q19: 12 | T19: 12 | W19: 12 | Z19: 12
... E47: 40 | H47: 40 | K47: 40 | N47: 40 | Q47: 40 | T47: 40 | W47: 40 | Z47: 40

Sheet 正答数入力
A1: 国語 | B1: ナビ☆チェック 項目別正答数入力一覧表 国語 | AA1: ナビ☆チェック 項目別正答数入力一覧表 社会 | AZ1: ナビ☆チェック 項目別正答数入力一覧表 数学 | BY1: ナビ☆チェック 項目別正答数入力一覧表 理科 | CX1: ナビ☆チェック 項目別正答数入力一覧表 英語
A2: 社会
A3: 数学 | B3: 国 語 | E3: １回 | G3: 実施日 | I3: ２回 | K3: 実施日 | M3: ３回 | O3: 実施日 | Q3: ４回 | S3: 実施日 | U3: ５回 | W3: 実施日 | Y3: 合計 | AA3: 社 会 | AD3: １回 | AF3: 実施日 | AH3: ２回 | AJ3: 実施日 | AL3: ３回 | AN3: 実施日 | AP3: ４回 | AR3: 実施日 | AT3: ５回 | AV3: 実施日 | AX3: 合計 | AZ3: 数 学 | BC3: １回 | BE3: 実施日 | BG3: ２回 | BI3: 実施日 | BK3: ３回 | BM3: 実施日 | BO3: ４回 | BQ3: 実施日 | BS3: ５回 | BU3: 実施日 | BW3: 合計 | BY3: 理 科 | CB3: １回 | CD3: 実施日 | CF3: ２回 | CH3: 実施日 | CJ3: ３回 | CL3: 実施日 | CN3: ４回 | CP3: 実施日 | CR3: ５回 | CT3: 実施日 | CV3: 合計 | CX3: 英 語 | DA3: １回 | DC3: 実施日 | DE3: ２回 | DG3: 実施日 | DI3: ３回 | DK3: 実施日 | DM3: ４回 | DO3: 実施日 | DQ3: ５回 | DS3: 実施日 | DU3: 合計
A4: 理科 | E4: 項目1 | F4: 項目2 | G4: 項目3 | H4: 項目4 | I4: 項目5 | J4: 項目6 | K4: 項目7 | L4: 項目8 | M4: 項目9 | N4: 項目10 | O4: 項目11 | P4: 項目12 | Q4: 項目13 | R4: 項目14 | S4: 項目15 | T4: 項目16 | U4: 項目17 | V4: 項目18 | W4: 項目19 | X4: 項目20 | AD4: 項目1 | AE4: 項目2 | AF4: 項目3 | AG4: 項目4 | AH4: 項目5 | AI4: 項目6 | AJ4: 項目7 | AK4: 項目8 | AL4: 項目9 | AM4: 項目10 | AN4: 項目11 | AO4: 項目12 | AP4: 項目13 | AQ4: 項目14 | AR4: 項目15 | AS4: 項目16 | AT4: 項目17 | AU4: 項目18 | AV4: 項目19 | AW4: 項目20 | BC4: 項目1 | BD4: 項目2 | BE4: 項目3 | BF4: 項目4 | BG4: 項目5 | BH4: 項目6 | BI4: 項目7 | BJ4: 項目8 | BK4: 項目9 | BL4: 項目10 | BM4: 項目11 | BN4: 項目12 | BO4: 項目13 | BP4: 項目14 | BQ4: 項目15 | BR4: 項目16 | BS4: 項目17 | BT4: 項目18 | BU4: 項目19 | BV4: 項目20 | CB4: 項目1 | CC4: 項目2 | CD4: 項目3 | CE4: 項目4 | CF4: 項目5 | CG4: 項目6 | CH4: 項目7 | CI4: 項目8 | CJ4: 項目9 | CK4: 項目10 | CL4: 項目11 | CM4: 項目12 | CN4: 項目13 | CO4: 項目14 | CP4: 項目15 | CQ4: 項目16 | CR4: 項目17 | CS4: 項目18 | CT4: 項目19 | CU4: 項目20 | DA4: 項目1 | DB4: 項目2 | DC4: 項目3 | DD4: 項目4 | DE4: 項目5 | DF4: 項目6 | DG4: 項目7 | DH4: 項目8 | DI4: 項目9 | DJ4: 項目10 | DK4: 項目11 | DL4: 項目12 | DM4: 項目13 | DN4: 項目14 | DO4: 項目15 | DP4: 項目16 | DQ4: 項目17 | DR4: 項目18 | DS4: 項目19 | DT4: 項目20
A5: 英語 | B5: クラス | C5: 番号 | D5: 名前 | E5: 3 | F5: 3 | G5: 3 | H5: 3 | I5: 3 | J5: 3 | K5: 3 | L5: 3 | M5: 3 | N5: 3 | O5: 3 | P5: 3 | Q5: 3 | R5: 3 | S5: 3 | T5: 3 | U5: 3 | V5: 3 | W5: 3 | X5: 3 | Y5: =SUM(E5:X5) -> 60 | AA5: クラス | AB5: 番号 | AC5: 名前 | AD5: 4 | AE5: 4 | AF5: 4 | AG5: 4 | AH5: 4 | AI5: 4 | AJ5: 4 | AK5: 4 | AL5: 4 | AM5: 4 | AN5: 4 | AO5: 4 | AP5: 4 | AQ5: 4 | AR5: 4 | AS5: 4 | AT5: 4 | AU5: 4 | AV5: 4 | AW5: 4 | AX5: =SUM(AD5:AW5) -> 80 | AZ5: クラス | BA5: 番号 | BB5: 名前 | BC5: 4 | BD5: 4 | BE5: 4 | BF5: 4 | BG5: 4 | BH5: 4 | BI5: 4 | BJ5: 4 | BK5: 4 | BL5: 4 | BM5: 4 | BN5: 4 | BO5: 4 | BP5: 4 | BQ5: 4 | BR5: 4 | BS5: 4 | BT5: 4 | BU5: 4 | BV5: 4 | BW5: =SUM(BC5:BV5) -> 80 | BY5: クラス | BZ5: 番号 | CA5: 名前 | CB5: 4 | CC5: 4 | CD5: 4 | CE5: 4 | CF5: 4 | CG5: 4 | CH5: 4 | CI5: 4 | CJ5: 4 | CK5: 4 | CL5: 4 | CM5: 4 | CN5: 4 | CO5: 4 | CP5: 4 | CQ5: 4 | CR5: 4 | CS5: 4 | CT5: 4 | CU5: 4 | CV5: =SUM(CB5:CU5) -> 80 | CX5: クラス | CY5: 番号 | CZ5: 名前 | DA5: 4 | DB5: 4 | DC5: 4 | DD5: 4 | DE5: 4 | DF5: 4 | DG5: 4 | DH5: 4 | DI5: 4 | DJ5: 4 | DK5: 4 | DL5: 4 | DM5: 4 | DN5: 4 | DO5: 4 | DP5: 4 | DQ5: 4 | DR5: 4 | DS5: 4 | DT5: 4 | DU5: =SUM(DA5:DT5) -> 80
B6: =IF(初期設定!E5="","",初期設定!E5&"組") | C6: =IF(D6="","",COUNTA(D6:D6)) | D6: =IF(初期設定!F8="","",初期設定!F8) | Y6: =IF(COUNT(E6:X6)=0,"",SUM(E6:X6)) | AA6: =$B$6 | AB6: =IF(AC6="","",COUNTA(AC6:AC6)) | AC6: =$D$6 | AX6: =IF(COUNT(AD6:AW6)=0,"",SUM(AD6:AW6)) | AZ6: =$B$6 | BA6: =IF(BB6="","",COUNTA(BB6:BB6)) | BB6: =$D$6 | BW6: =IF(COUNT(BC6:BV6)=0,"",SUM(BC6:BV6)) | BY6: =$B$6 | BZ6: =IF(CA6="","",COUNTA(CA6:CA6)) | CA6: =$D$6 | CV6: =IF(COUNT(CB6:CU6)=0,"",SUM(CB6:CU6)) | CX6: =$B$6 | CY6: =IF(CZ6="","",COUNTA(CZ6:CZ6)) | CZ6: =$D$6 | DU6: =IF(COUNT(DA6:DT6)=0,"",SUM(DA6:DT6)) | DV6: =IF(初期設定!F8="","",初期設定!$E$5&正答数入力!CY6&正答数入力!CZ6)
A7: =IF(B6="","",B6) | C7: =IF(D7="","",COUNTA(D6:D7)) | D7: =IF(初期設定!F9="","",初期設定!F9) | Y7: =IF(COUNT(E7:X7)=0,"",SUM(E7:X7)) | AB7: =IF(AC7="","",COUNTA(AC6:AC7)) | AC7: =$D$7 | AX7: =IF(COUNT(AD7:AW7)=0,"",SUM(AD7:AW7)) | BA7: =IF(BB7="","",COUNTA(BB6:BB7)) | BB7: =$D$7 | BW7: =IF(COUNT(BC7:BV7)=0,"",SUM(BC7:BV7)) | BZ7: =IF(CA7="","",COUNTA(CA6:CA7)) | CA7: =$D$7 | CV7: =IF(COUNT(CB7:CU7)=0,"",SUM(CB7:CU7)) | CY7: =IF(CZ7="","",COUNTA(CZ6:CZ7)) | CZ7: =$D$7 | DU7: =IF(COUNT(DA7:DT7)=0,"",SUM(DA7:DT7)) | DV7: =IF(初期設定!F9="","",初期設定!$E$5&正答数入力!CY7&正答数入力!CZ7)
C8: =IF(D8="","",COUNTA(D6:D8)) | D8: =IF(初期設定!F10="","",初期設定!F10) | Y8: =IF(COUNT(E8:X8)=0,"",SUM(E8:X8)) | AB8: =IF(AC8="","",COUNTA(AC6:AC8)) | AC8: =$D$8 | AX8: =IF(COUNT(AD8:AW8)=0,"",SUM(AD8:AW8)) | BA8: =IF(BB8="","",COUNTA(BB6:BB8)) | BB8: =$D$8 | BW8: =IF(COUNT(BC8:BV8)=0,"",SUM(BC8:BV8)) | BZ8: =IF(CA8="","",COUNTA(CA6:CA8)) | CA8: =$D$8 | CV8: =IF(COUNT(CB8:CU8)=0,"",SUM(CB8:CU8)) | CY8: =IF(CZ8="","",COUNTA(CZ6:CZ8)) | CZ8: =$D$8 | DU8: =IF(COUNT(DA8:DT8)=0,"",SUM(DA8:DT8)) | DV8: =IF(初期設定!F10="","",初期設定!$E$5&正答数入力!CY8&正答数入力!CZ8)
A9: =IF(B48="","",B48) | C9: =IF(D9="","",COUNTA(D6:D9)) | D9: =IF(初期設定!F11="","",初期設定!F11) | Y9: =IF(COUNT(E9:X9)=0,"",SUM(E9:X9)) | AB9: =IF(AC9="","",COUNTA(AC6:AC9)) | AC9: =$D$9 | AX9: =IF(COUNT(AD9:AW9)=0,"",SUM(AD9:AW9)) | BA9: =IF(BB9="","",COUNTA(BB6:BB9)) | BB9: =$D$9 | BW9: =IF(COUNT(BC9:BV9)=0,"",SUM(BC9:BV9)) | BZ9: =IF(CA9="","",COUNTA(CA6:CA9)) | CA9: =$D$9 | CV9: =IF(COUNT(CB9:CU9)=0,"",SUM(CB9:CU9)) | CY9: =IF(CZ9="","",COUNTA(CZ6:CZ9)) | CZ9: =$D$9 | DU9: =IF(COUNT(DA9:DT9)=0,"",SUM(DA9:DT9)) | DV9: =IF(初期設定!F11="","",初期設定!$E$5&正答数入力!CY9&正答数入力!CZ9)
C10: =IF(D10="","",COUNTA(D6:D10)) | D10: =IF(初期設定!F12="","",初期設定!F12) | Y10: =IF(COUNT(E10:X10)=0,"",SUM(E10:X10)) | AB10: =IF(AC10="","",COUNTA(AC6:AC10)) | AC10: =$D$10 | AX10: =IF(COUNT(AD10:AW10)=0,"",SUM(AD10:AW10)) | BA10: =IF(BB10="","",COUNTA(BB6:BB10)) | BB10: =$D$10 | BW10: =IF(COUNT(BC10:BV10)=0,"",SUM(BC10:BV10)) | BZ10: =IF(CA10="","",COUNTA(CA6:CA10)) | CA10: =$D$10 | CV10: =IF(COUNT(CB10:CU10)=0,"",SUM(CB10:CU10)) | CY10: =IF(CZ10="","",COUNTA(CZ6:CZ10)) | CZ10: =$D$10 | DU10: =IF(COUNT(DA10:DT10)=0,"",SUM(DA10:DT10)) | DV10: =IF(初期設定!F12="","",初期設定!$E$5&正答数入力!CY10&正答数入力!CZ10)
A11: =IF(B90="","",B90) | C11: =IF(D11="","",COUNTA(D6:D11)) | D11: =IF(初期設定!F13="","",初期設定!F13) | Y11: =IF(COUNT(E11:X11)=0,"",SUM(E11:X11)) | AB11: =IF(AC11="","",COUNTA(AC6:AC11)) | AC11: =$D$11 | AX11: =IF(COUNT(AD11:AW11)=0,"",SUM(AD11:AW11)) | BA11: =IF(BB11="","",COUNTA(BB6:BB11)) | BB11: =$D$11 | BW11: =IF(COUNT(BC11:BV11)=0,"",SUM(BC11:BV11)) | BZ11: =IF(CA11="","",COUNTA(CA6:CA11)) | CA11: =$D$11 | CV11: =IF(COUNT(CB11:CU11)=0,"",SUM(CB11:CU11)) | CY11: =IF(CZ11="","",COUNTA(CZ6:CZ11)) | CZ11: =$D$11 | DU11: =IF(COUNT(DA11:DT11)=0,"",SUM(DA11:DT11)) | DV11: =IF(初期設定!F13="","",初期設定!$E$5&正答数入力!CY11&正答数入力!CZ11)
C12: =IF(D12="","",COUNTA(D6:D12)) | D12: =IF(初期設定!F14="","",初期設定!F14) | Y12: =IF(COUNT(E12:X12)=0,"",SUM(E12:X12)) | AB12: =IF(AC12="","",COUNTA(AC6:AC12)) | AC12: =$D$12 | AX12: =IF(COUNT(AD12:AW12)=0,"",SUM(AD12:AW12)) | BA12: =IF(BB12="","",COUNTA(BB6:BB12)) | BB12: =$D$12 | BW12: =IF(COUNT(BC12:BV12)=0,"",SUM(BC12:BV12)) | BZ12: =IF(CA12="","",COUNTA(CA6:CA12)) | CA12: =$D$12 | CV12: =IF(COUNT(CB12:CU12)=0,"",SUM(CB12:CU12)) | CY12: =IF(CZ12="","",COUNTA(CZ6:CZ12)) | CZ12: =$D$12 | DU12: =IF(COUNT(DA12:DT12)=0,"",SUM(DA12:DT12)) | DV12: =IF(初期設定!F14="","",初期設定!$E$5&正答数入力!CY12&正答数入力!CZ12)
A13: =IF(B132="","",B132) | C13: =IF(D13="","",COUNTA(D6:D13)) | D13: =IF(初期設定!F15="","",初期設定!F15) | Y13: =IF(COUNT(E13:X13)=0,"",SUM(E13:X13)) | AB13: =IF(AC13="","",COUNTA(AC6:AC13)) | AC13: =$D$13 | AX13: =IF(COUNT(AD13:AW13)=0,"",SUM(AD13:AW13)) | BA13: =IF(BB13="","",COUNTA(BB6:BB13)) | BB13: =$D$13 | BW13: =IF(COUNT(BC13:BV13)=0,"",SUM(BC13:BV13)) | BZ13: =IF(CA13="","",COUNTA(CA6:CA13)) | CA13: =$D$13 | CV13: =IF(COUNT(CB13:CU13)=0,"",SUM(CB13:CU13)) | CY13: =IF(CZ13="","",COUNTA(CZ6:CZ13)) | CZ13: =$D$13 | DU13: =IF(COUNT(DA13:DT13)=0,"",SUM(DA13:DT13)) | DV13: =IF(初期設定!F15="","",初期設定!$E$5&正答数入力!CY13&正答数入力!CZ13)
C14: =IF(D14="","",COUNTA(D6:D14)) | D14: =IF(初期設定!F16="","",初期設定!F16) | Y14: =IF(COUNT(E14:X14)=0,"",SUM(E14:X14)) | AB14: =IF(AC14="","",COUNTA(AC6:AC14)) | AC14: =$D$14 | AX14: =IF(COUNT(AD14:AW14)=0,"",SUM(AD14:AW14)) | BA14: =IF(BB14="","",COUNTA(BB6:BB14)) | BB14: =$D$14 | BW14: =IF(COUNT(BC14:BV14)=0,"",SUM(BC14:BV14)) | BZ14: =IF(CA14="","",COUNTA(CA6:CA14)) | CA14: =$D$14 | CV14: =IF(COUNT(CB14:CU14)=0,"",SUM(CB14:CU14)) | CY14: =IF(CZ14="","",COUNTA(CZ6:CZ14)) | CZ14: =$D$14 | DU14: =IF(COUNT(DA14:DT14)=0,"",SUM(DA14:DT14)) | DV14: =IF(初期設定!F16="","",初期設定!$E$5&正答数入力!CY14&正答数入力!CZ14)
A15: =IF(B174="","",B174) | C15: =IF(D15="","",COUNTA(D6:D15)) | D15: =IF(初期設定!F17="","",初期設定!F17) | Y15: =IF(COUNT(E15:X15)=0,"",SUM(E15:X15)) | AB15: =IF(AC15="","",COUNTA(AC6:AC15)) | AC15: =$D$15 | AX15: =IF(COUNT(AD15:AW15)=0,"",SUM(AD15:AW15)) | BA15: =IF(BB15="","",COUNTA(BB6:BB15)) | BB15: =$D$15 | BW15: =IF(COUNT(BC15:BV15)=0,"",SUM(BC15:BV15)) | BZ15: =IF(CA15="","",COUNTA(CA6:CA15)) | CA15: =$D$15 | CV15: =IF(COUNT(CB15:CU15)=0,"",SUM(CB15:CU15)) | CY15: =IF(CZ15="","",COUNTA(CZ6:CZ15)) | CZ15: =$D$15 | DU15: =IF(COUNT(DA15:DT15)=0,"",SUM(DA15:DT15)) | DV15: =IF(初期設定!F17="","",初期設定!$E$5&正答数入力!CY15&正答数入力!CZ15)
C16: =IF(D16="","",COUNTA(D6:D16)) | D16: =IF(初期設定!F18="","",初期設定!F18) | Y16: =IF(COUNT(E16:X16)=0,"",SUM(E16:X16)) | AB16: =IF(AC16="","",COUNTA(AC6:AC16)) | AC16: =$D$16 | AX16: =IF(COUNT(AD16:AW16)=0,"",SUM(AD16:AW16)) | BA16: =IF(BB16="","",COUNTA(BB6:BB16)) | BB16: =$D$16 | BW16: =IF(COUNT(BC16:BV16)=0,"",SUM(BC16:BV16)) | BZ16: =IF(CA16="","",COUNTA(CA6:CA16)) | CA16: =$D$16 | CV16: =IF(COUNT(CB16:CU16)=0,"",SUM(CB16:CU16)) | CY16: =IF(CZ16="","",COUNTA(CZ6:CZ16)) | CZ16: =$D$16 | DU16: =IF(COUNT(DA16:DT16)=0,"",SUM(DA16:DT16)) | DV16: =IF(初期設定!F18="","",初期設定!$E$5&正答数入力!CY16&正答数入力!CZ16)
A17: =IF(B216="","",B216) | C17: =IF(D17="","",COUNTA(D6:D17)) | D17: =IF(初期設定!F19="","",初期設定!F19) | Y17: =IF(COUNT(E17:X17)=0,"",SUM(E17:X17)) | AB17: =IF(AC17="","",COUNTA(AC6:AC17)) | AC17: =$D$17 | AX17: =IF(COUNT(AD17:AW17)=0,"",SUM(AD17:AW17)) | BA17: =IF(BB17="","",COUNTA(BB6:BB17)) | BB17: =$D$17 | BW17: =IF(COUNT(BC17:BV17)=0,"",SUM(BC17:BV17)) | BZ17: =IF(CA17="","",COUNTA(CA6:CA17)) | CA17: =$D$17 | CV17: =IF(COUNT(CB17:CU17)=0,"",SUM(CB17:CU17)) | CY17: =IF(CZ17="","",COUNTA(CZ6:CZ17)) | CZ17: =$D$17 | DU17: =IF(COUNT(DA17:DT17)=0,"",SUM(DA17:DT17)) | DV17: =IF(初期設定!F19="","",初期設定!$E$5&正答数入力!CY17&正答数入力!CZ17)
C18: =IF(D18="","",COUNTA(D6:D18)) | D18: =IF(初期設定!F20="","",初期設定!F20) | Y18: =IF(COUNT(E18:X18)=0,"",SUM(E18:X18)) | AB18: =IF(AC18="","",COUNTA(AC6:AC18)) | AC18: =$D$18 | AX18: =IF(COUNT(AD18:AW18)=0,"",SUM(AD18:AW18)) | BA18: =IF(BB18="","",COUNTA(BB6:BB18)) | BB18: =$D$18 | BW18: =IF(COUNT(BC18:BV18)=0,"",SUM(BC18:BV18)) | BZ18: =IF(CA18="","",COUNTA(CA6:CA18)) | CA18: =$D$18 | CV18: =IF(COUNT(CB18:CU18)=0,"",SUM(CB18:CU18)) | CY18: =IF(CZ18="","",COUNTA(CZ6:CZ18)) | CZ18: =$D$18 | DU18: =IF(COUNT(DA18:DT18)=0,"",SUM(DA18:DT18)) | DV18: =IF(初期設定!F20="","",初期設定!$E$5&正答数入力!CY18&正答数入力!CZ18)
A19: =IF(B258="","",B258) | C19: =IF(D19="","",COUNTA(D6:D19)) | D19: =IF(初期設定!F21="","",初期設定!F21) | Y19: =IF(COUNT(E19:X19)=0,"",SUM(E19:X19)) | AB19: =IF(AC19="","",COUNTA(AC6:AC19)) | AC19: =$D$19 | AX19: =IF(COUNT(AD19:AW19)=0,"",SUM(AD19:AW19)) | BA19: =IF(BB19="","",COUNTA(BB6:BB19)) | BB19: =$D$19 | BW19: =IF(COUNT(BC19:BV19)=0,"",SUM(BC19:BV19)) | BZ19: =IF(CA19="","",COUNTA(CA6:CA19)) | CA19: =$D$19 | CV19: =IF(COUNT(CB19:CU19)=0,"",SUM(CB19:CU19)) | CY19: =IF(CZ19="","",COUNTA(CZ6:CZ19)) | CZ19: =$D$19 | DU19: =IF(COUNT(DA19:DT19)=0,"",SUM(DA19:DT19)) | DV19: =IF(初期設定!F21="","",初期設定!$E$5&正答数入力!CY19&正答数入力!CZ19)
C20: =IF(D20="","",COUNTA(D6:D20)) | D20: =IF(初期設定!F22="","",初期設定!F22) | Y20: =IF(COUNT(E20:X20)=0,"",SUM(E20:X20)) | AB20: =IF(AC20="","",COUNTA(AC6:AC20)) | AC20: =$D$20 | AX20: =IF(COUNT(AD20:AW20)=0,"",SUM(AD20:AW20)) | BA20: =IF(BB20="","",COUNTA(BB6:BB20)) | BB20: =$D$20 | BW20: =IF(COUNT(BC20:BV20)=0,"",SUM(BC20:BV20)) | BZ20: =IF(CA20="","",COUNTA(CA6:CA20)) | CA20: =$D$20 | CV20: =IF(COUNT(CB20:CU20)=0,"",SUM(CB20:CU20)) | CY20: =IF(CZ20="","",COUNTA(CZ6:CZ20)) | CZ20: =$D$20 | DU20: =IF(COUNT(DA20:DT20)=0,"",SUM(DA20:DT20)) | DV20: =IF(初期設定!F22="","",初期設定!$E$5&正答数入力!CY20&正答数入力!CZ20)
A21: =IF(B300="","",B300) | C21: =IF(D21="","",COUNTA(D6:D21)) | D21: =IF(初期設定!F23="","",初期設定!F23) | Y21: =IF(COUNT(E21:X21)=0,"",SUM(E21:X21)) | AB21: =IF(AC21="","",COUNTA(AC6:AC21)) | AC21: =$D$21 | AX21: =IF(COUNT(AD21:AW21)=0,"",SUM(AD21:AW21)) | BA21: =IF(BB21="","",COUNTA(BB6:BB21)) | BB21: =$D$21 | BW21: =IF(COUNT(BC21:BV21)=0,"",SUM(BC21:BV21)) | BZ21: =IF(CA21="","",COUNTA(CA6:CA21)) | CA21: =$D$21 | CV21: =IF(COUNT(CB21:CU21)=0,"",SUM(CB21:CU21)) | CY21: =IF(CZ21="","",COUNTA(CZ6:CZ21)) | CZ21: =$D$21 | DU21: =IF(COUNT(DA21:DT21)=0,"",SUM(DA21:DT21)) | DV21: =IF(初期設定!F23="","",初期設定!$E$5&正答数入力!CY21&正答数入力!CZ21)
C22: =IF(D22="","",COUNTA(D6:D22)) | D22: =IF(初期設定!F24="","",初期設定!F24) | Y22: =IF(COUNT(E22:X22)=0,"",SUM(E22:X22)) | AB22: =IF(AC22="","",COUNTA(AC6:AC22)) | AC22: =$D$22 | AX22: =IF(COUNT(AD22:AW22)=0,"",SUM(AD22:AW22)) | BA22: =IF(BB22="","",COUNTA(BB6:BB22)) | BB22: =$D$22 | BW22: =IF(COUNT(BC22:BV22)=0,"",SUM(BC22:BV22)) | BZ22: =IF(CA22="","",COUNTA(CA6:CA22)) | CA22: =$D$22 | CV22: =IF(COUNT(CB22:CU22)=0,"",SUM(CB22:CU22)) | CY22: =IF(CZ22="","",COUNTA(CZ6:CZ22)) | CZ22: =$D$22 | DU22: =IF(COUNT(DA22:DT22)=0,"",SUM(DA22:DT22)) | DV22: =IF(初期設定!F24="","",初期設定!$E$5&正答数入力!CY22&正答数入力!CZ22)
C23: =IF(D23="","",COUNTA(D6:D23)) | D23: =IF(初期設定!F25="","",初期設定!F25) | Y23: =IF(COUNT(E23:X23)=0,"",SUM(E23:X23)) | AB23: =IF(AC23="","",COUNTA(AC6:AC23)) | AC23: =$D$23 | AX23: =IF(COUNT(AD23:AW23)=0,"",SUM(AD23:AW23)) | BA23: =IF(BB23="","",COUNTA(BB6:BB23)) | BB23: =$D$23 | BW23: =IF(COUNT(BC23:BV23)=0,"",SUM(BC23:BV23)) | BZ23: =IF(CA23="","",COUNTA(CA6:CA23)) | CA23: =$D$23 | CV23: =IF(COUNT(CB23:CU23)=0,"",SUM(CB23:CU23)) | CY23: =IF(CZ23="","",COUNTA(CZ6:CZ23)) | CZ23: =$D$23 | DU23: =IF(COUNT(DA23:DT23)=0,"",SUM(DA23:DT23)) | DV23: =IF(初期設定!F25="","",初期設定!$E$5&正答数入力!CY23&正答数入力!CZ23)
C24: =IF(D24="","",COUNTA(D6:D24)) | D24: =IF(初期設定!F26="","",初期設定!F26) | Y24: =IF(COUNT(E24:X24)=0,"",SUM(E24:X24)) | AB24: =IF(AC24="","",COUNTA(AC6:AC24)) | AC24: =$D$24 | AX24: =IF(COUNT(AD24:AW24)=0,"",SUM(AD24:AW24)) | BA24: =IF(BB24="","",COUNTA(BB6:BB24)) | BB24: =$D$24 | BW24: =IF(COUNT(BC24:BV24)=0,"",SUM(BC24:BV24)) | BZ24: =IF(CA24="","",COUNTA(CA6:CA24)) | CA24: =$D$24 | CV24: =IF(COUNT(CB24:CU24)=0,"",SUM(CB24:CU24)) | CY24: =IF(CZ24="","",COUNTA(CZ6:CZ24)) | CZ24: =$D$24 | DU24: =IF(COUNT(DA24:DT24)=0,"",SUM(DA24:DT24)) | DV24: =IF(初期設定!F26="","",初期設定!$E$5&正答数入力!CY24&正答数入力!CZ24)
C25: =IF(D25="","",COUNTA(D6:D25)) | D25: =IF(初期設定!F27="","",初期設定!F27) | Y25: =IF(COUNT(E25:X25)=0,"",SUM(E25:X25)) | AB25: =IF(AC25="","",COUNTA(AC6:AC25)) | AC25: =$D$25 | AX25: =IF(COUNT(AD25:AW25)=0,"",SUM(AD25:AW25)) | BA25: =IF(BB25="","",COUNTA(BB6:BB25)) | BB25: =$D$25 | BW25: =IF(COUNT(BC25:BV25)=0,"",SUM(BC25:BV25)) | BZ25: =IF(CA25="","",COUNTA(CA6:CA25)) | CA25: =$D$25 | CV25: =IF(COUNT(CB25:CU25)=0,"",SUM(CB25:CU25)) | CY25: =IF(CZ25="","",COUNTA(CZ6:CZ25)) | CZ25: =$D$25 | DU25: =IF(COUNT(DA25:DT25)=0,"",SUM(DA25:DT25)) | DV25: =IF(初期設定!F27="","",初期設定!$E$5&正答数入力!CY25&正答数入力!CZ25)
C26: =IF(D26="","",COUNTA(D6:D26)) | D26: =IF(初期設定!F28="","",初期設定!F28) | Y26: =IF(COUNT(E26:X26)=0,"",SUM(E26:X26)) | AB26: =IF(AC26="","",COUNTA(AC6:AC26)) | AC26: =$D$26 | AX26: =IF(COUNT(AD26:AW26)=0,"",SUM(AD26:AW26)) | BA26: =IF(BB26="","",COUNTA(BB6:BB26)) | BB26: =$D$26 | BW26: =IF(COUNT(BC26:BV26)=0,"",SUM(BC26:BV26)) | BZ26: =IF(CA26="","",COUNTA(CA6:CA26)) | CA26: =$D$26 | CV26: =IF(COUNT(CB26:CU26)=0,"",SUM(CB26:CU26)) | CY26: =IF(CZ26="","",COUNTA(CZ6:CZ26)) | CZ26: =$D$26 | DU26: =IF(COUNT(DA26:DT26)=0,"",SUM(DA26:DT26)) | DV26: =IF(初期設定!F28="","",初期設定!$E$5&正答数入力!CY26&正答数入力!CZ26)
C27: =IF(D27="","",COUNTA(D6:D27)) | D27: =IF(初期設定!F29="","",初期設定!F29) | Y27: =IF(COUNT(E27:X27)=0,"",SUM(E27:X27)) | AB27: =IF(AC27="","",COUNTA(AC6:AC27)) | AC27: =$D$27 | AX27: =IF(COUNT(AD27:AW27)=0,"",SUM(AD27:AW27)) | BA27: =IF(BB27="","",COUNTA(BB6:BB27)) | BB27: =$D$27 | BW27: =IF(COUNT(BC27:BV27)=0,"",SUM(BC27:BV27)) | BZ27: =IF(CA27="","",COUNTA(CA6:CA27)) | CA27: =$D$27 | CV27: =IF(COUNT(CB27:CU27)=0,"",SUM(CB27:CU27)) | CY27: =IF(CZ27="","",COUNTA(CZ6:CZ27)) | CZ27: =$D$27 | DU27: =IF(COUNT(DA27:DT27)=0,"",SUM(DA27:DT27)) | DV27: =IF(初期設定!F29="","",初期設定!$E$5&正答数入力!CY27&正答数入力!CZ27)
C28: =IF(D28="","",COUNTA(D6:D28)) | D28: =IF(初期設定!F30="","",初期設定!F30) | Y28: =IF(COUNT(E28:X28)=0,"",SUM(E28:X28)) | AB28: =IF(AC28="","",COUNTA(AC6:AC28)) | AC28: =$D$28 | AX28: =IF(COUNT(AD28:AW28)=0,"",SUM(AD28:AW28)) | BA28: =IF(BB28="","",COUNTA(BB6:BB28)) | BB28: =$D$28 | BW28: =IF(COUNT(BC28:BV28)=0,"",SUM(BC28:BV28)) | BZ28: =IF(CA28="","",COUNTA(CA6:CA28)) | CA28: =$D$28 | CV28: =IF(COUNT(CB28:CU28)=0,"",SUM(CB28:CU28)) | CY28: =IF(CZ28="","",COUNTA(CZ6:CZ28)) | CZ28: =$D$28 | DU28: =IF(COUNT(DA28:DT28)=0,"",SUM(DA28:DT28)) | DV28: =IF(初期設定!F30="","",初期設定!$E$5&正答数入力!CY28&正答数入力!CZ28)
C29: =IF(D29="","",COUNTA(D6:D29)) | D29: =IF(初期設定!F31="","",初期設定!F31) | Y29: =IF(COUNT(E29:X29)=0,"",SUM(E29:X29)) | AB29: =IF(AC29="","",COUNTA(AC6:AC29)) | AC29: =$D$29 | AX29: =IF(COUNT(AD29:AW29)=0,"",SUM(AD29:AW29)) | BA29: =IF(BB29="","",COUNTA(BB6:BB29)) | BB29: =$D$29 | BW29: =IF(COUNT(BC29:BV29)=0,"",SUM(BC29:BV29)) | BZ29: =IF(CA29="","",COUNTA(CA6:CA29)) | CA29: =$D$29 | CV29: =IF(COUNT(CB29:CU29)=0,"",SUM(CB29:CU29)) | CY29: =IF(CZ29="","",COUNTA(CZ6:CZ29)) | CZ29: =$D$29 | DU29: =IF(COUNT(DA29:DT29)=0,"",SUM(DA29:DT29)) | DV29: =IF(初期設定!F31="","",初期設定!$E$5&正答数入力!CY29&正答数入力!CZ29)
C30: =IF(D30="","",COUNTA(D6:D30)) | D30: =IF(初期設定!F32="","",初期設定!F32) | Y30: =IF(COUNT(E30:X30)=0,"",SUM(E30:X30)) | AB30: =IF(AC30="","",COUNTA(AC6:AC30)) | AC30: =$D$30 | AX30: =IF(COUNT(AD30:AW30)=0,"",SUM(AD30:AW30)) | BA30: =IF(BB30="","",COUNTA(BB6:BB30)) | BB30: =$D$30 | BW30: =IF(COUNT(BC30:BV30)=0,"",SUM(BC30:BV30)) | BZ30: =IF(CA30="","",COUNTA(CA6:CA30)) | CA30: =$D$30 | CV30: =IF(COUNT(CB30:CU30)=0,"",SUM(CB30:CU30)) | CY30: =IF(CZ30="","",COUNTA(CZ6:CZ30)) | CZ30: =$D$30 | DU30: =IF(COUNT(DA30:DT30)=0,"",SUM(DA30:DT30)) | DV30: =IF(初期設定!F32="","",初期設定!$E$5&正答数入力!CY30&正答数入力!CZ30)
C31: =IF(D31="","",COUNTA(D6:D31)) | D31: =IF(初期設定!F33="","",初期設定!F33) | Y31: =IF(COUNT(E31:X31)=0,"",SUM(E31:X31)) | AB31: =IF(AC31="","",COUNTA(AC6:AC31)) | AC31: =$D$31 | AX31: =IF(COUNT(AD31:AW31)=0,"",SUM(AD31:AW31)) | BA31: =IF(BB31="","",COUNTA(BB6:BB31)) | BB31: =$D$31 | BW31: =IF(COUNT(BC31:BV31)=0,"",SUM(BC31:BV31)) | BZ31: =IF(CA31="","",COUNTA(CA6:CA31)) | CA31: =$D$31 | CV31: =IF(COUNT(CB31:CU31)=0,"",SUM(CB31:CU31)) | CY31: =IF(CZ31="","",COUNTA(CZ6:CZ31)) | CZ31: =$D$31 | DU31: =IF(COUNT(DA31:DT31)=0,"",SUM(DA31:DT31)) | DV31: =IF(初期設定!F33="","",初期設定!$E$5&正答数入力!CY31&正答数入力!CZ31)
C32: =IF(D32="","",COUNTA(D6:D32)) | D32: =IF(初期設定!F34="","",初期設定!F34) | Y32: =IF(COUNT(E32:X32)=0,"",SUM(E32:X32)) | AB32: =IF(AC32="","",COUNTA(AC6:AC32)) | AC32: =$D$32 | AX32: =IF(COUNT(AD32:AW32)=0,"",SUM(AD32:AW32)) | BA32: =IF(BB32="","",COUNTA(BB6:BB32)) | BB32: =$D$32 | BW32: =IF(COUNT(BC32:BV32)=0,"",SUM(BC32:BV32)) | BZ32: =IF(CA32="","",COUNTA(CA6:CA32)) | CA32: =$D$32 | CV32: =IF(COUNT(CB32:CU32)=0,"",SUM(CB32:CU32)) | CY32: =IF(CZ32="","",COUNTA(CZ6:CZ32)) | CZ32: =$D$32 | DU32: =IF(COUNT(DA32:DT32)=0,"",SUM(DA32:DT32)) | DV32: =IF(初期設定!F34="","",初期設定!$E$5&正答数入力!CY32&正答数入力!CZ32)
C33: =IF(D33="","",COUNTA(D6:D33)) | D33: =IF(初期設定!F35="","",初期設定!F35) | Y33: =IF(COUNT(E33:X33)=0,"",SUM(E33:X33)) | AB33: =IF(AC33="","",COUNTA(AC6:AC33)) | AC33: =$D$33 | AX33: =IF(COUNT(AD33:AW33)=0,"",SUM(AD33:AW33)) | BA33: =IF(BB33="","",COUNTA(BB6:BB33)) | BB33: =$D$33 | BW33: =IF(COUNT(BC33:BV33)=0,"",SUM(BC33:BV33)) | BZ33: =IF(CA33="","",COUNTA(CA6:CA33)) | CA33: =$D$33 | CV33: =IF(COUNT(CB33:CU33)=0,"",SUM(CB33:CU33)) | CY33: =IF(CZ33="","",COUNTA(CZ6:CZ33)) | CZ33: =$D$33 | DU33: =IF(COUNT(DA33:DT33)=0,"",SUM(DA33:DT33)) | DV33: =IF(初期設定!F35="","",初期設定!$E$5&正答数入力!CY33&正答数入力!CZ33)
C34: =IF(D34="","",COUNTA(D6:D34)) | D34: =IF(初期設定!F36="","",初期設定!F36) | Y34: =IF(COUNT(E34:X34)=0,"",SUM(E34:X34)) | AB34: =IF(AC34="","",COUNTA(AC6:AC34)) | AC34: =$D$34 | AX34: =IF(COUNT(AD34:AW34)=0,"",SUM(AD34:AW34)) | BA34: =IF(BB34="","",COUNTA(BB6:BB34)) | BB34: =$D$34 | BW34: =IF(COUNT(BC34:BV34)=0,"",SUM(BC34:BV34)) | BZ34: =IF(CA34="","",COUNTA(CA6:CA34)) | CA34: =$D$34 | CV34: =IF(COUNT(CB34:CU34)=0,"",SUM(CB34:CU34)) | CY34: =IF(CZ34="","",COUNTA(CZ6:CZ34)) | CZ34: =$D$34 | DU34: =IF(COUNT(DA34:DT34)=0,"",SUM(DA34:DT34)) | DV34: =IF(初期設定!F36="","",初期設定!$E$5&正答数入力!CY34&正答数入力!CZ34)
C35: =IF(D35="","",COUNTA(D6:D35)) | D35: =IF(初期設定!F37="","",初期設定!F37) | Y35: =IF(COUNT(E35:X35)=0,"",SUM(E35:X35)) | AB35: =IF(AC35="","",COUNTA(AC6:AC35)) | AC35: =$D$35 | AX35: =IF(COUNT(AD35:AW35)=0,"",SUM(AD35:AW35)) | BA35: =IF(BB35="","",COUNTA(BB6:BB35)) | BB35: =$D$35 | BW35: =IF(COUNT(BC35:BV35)=0,"",SUM(BC35:BV35)) | BZ35: =IF(CA35="","",COUNTA(CA6:CA35)) | CA35: =$D$35 | CV35: =IF(COUNT(CB35:CU35)=0,"",SUM(CB35:CU35)) | CY35: =IF(CZ35="","",COUNTA(CZ6:CZ35)) | CZ35: =$D$35 | DU35: =IF(COUNT(DA35:DT35)=0,"",SUM(DA35:DT35)) | DV35: =IF(初期設定!F37="","",初期設定!$E$5&正答数入力!CY35&正答数入力!CZ35)
C36: =IF(D36="","",COUNTA(D6:D36)) | D36: =IF(初期設定!F38="","",初期設定!F38) | Y36: =IF(COUNT(E36:X36)=0,"",SUM(E36:X36)) | AB36: =IF(AC36="","",COUNTA(AC6:AC36)) | AC36: =$D$36 | AX36: =IF(COUNT(AD36:AW36)=0,"",SUM(AD36:AW36)) | BA36: =IF(BB36="","",COUNTA(BB6:BB36)) | BB36: =$D$36 | BW36: =IF(COUNT(BC36:BV36)=0,"",SUM(BC36:BV36)) | BZ36: =IF(CA36="","",COUNTA(CA6:CA36)) | CA36: =$D$36 | CV36: =IF(COUNT(CB36:CU36)=0,"",SUM(CB36:CU36)) | CY36: =IF(CZ36="","",COUNTA(CZ6:CZ36)) | CZ36: =$D$36 | DU36: =IF(COUNT(DA36:DT36)=0,"",SUM(DA36:DT36)) | DV36: =IF(初期設定!F38="","",初期設定!$E$5&正答数入力!CY36&正答数入力!CZ36)
C37: =IF(D37="","",COUNTA(D6:D37)) | D37: =IF(初期設定!F39="","",初期設定!F39) | Y37: =IF(COUNT(E37:X37)=0,"",SUM(E37:X37)) | AB37: =IF(AC37="","",COUNTA(AC6:AC37)) | AC37: =$D$37 | AX37: =IF(COUNT(AD37:AW37)=0,"",SUM(AD37:AW37)) | BA37: =IF(BB37="","",COUNTA(BB6:BB37)) | BB37: =$D$37 | BW37: =IF(COUNT(BC37:BV37)=0,"",SUM(BC37:BV37)) | BZ37: =IF(CA37="","",COUNTA(CA6:CA37)) | CA37: =$D$37 | CV37: =IF(COUNT(CB37:CU37)=0,"",SUM(CB37:CU37)) | CY37: =IF(CZ37="","",COUNTA(CZ6:CZ37)) | CZ37: =$D$37 | DU37: =IF(COUNT(DA37:DT37)=0,"",SUM(DA37:DT37)) | DV37: =IF(初期設定!F39="","",初期設定!$E$5&正答数入力!CY37&正答数入力!CZ37)
C38: =IF(D38="","",COUNTA(D6:D38)) | D38: =IF(初期設定!F40="","",初期設定!F40) | Y38: =IF(COUNT(E38:X38)=0,"",SUM(E38:X38)) | AB38: =IF(AC38="","",COUNTA(AC6:AC38)) | AC38: =$D$38 | AX38: =IF(COUNT(AD38:AW38)=0,"",SUM(AD38:AW38)) | BA38: =IF(BB38="","",COUNTA(BB6:BB38)) | BB38: =$D$38 | BW38: =IF(COUNT(BC38:BV38)=0,"",SUM(BC38:BV38)) | BZ38: =IF(CA38="","",COUNTA(CA6:CA38)) | CA38: =$D$38 | CV38: =IF(COUNT(CB38:CU38)=0,"",SUM(CB38:CU38)) | CY38: =IF(CZ38="","",COUNTA(CZ6:CZ38)) | CZ38: =$D$38 | DU38: =IF(COUNT(DA38:DT38)=0,"",SUM(DA38:DT38)) | DV38: =IF(初期設定!F40="","",初期設定!$E$5&正答数入力!CY38&正答数入力!CZ38)
C39: =IF(D39="","",COUNTA(D6:D39)) | D39: =IF(初期設定!F41="","",初期設定!F41) | Y39: =IF(COUNT(E39:X39)=0,"",SUM(E39:X39)) | AB39: =IF(AC39="","",COUNTA(AC6:AC39)) | AC39: =$D$39 | AX39: =IF(COUNT(AD39:AW39)=0,"",SUM(AD39:AW39)) | BA39: =IF(BB39="","",COUNTA(BB6:BB39)) | BB39: =$D$39 | BW39: =IF(COUNT(BC39:BV39)=0,"",SUM(BC39:BV39)) | BZ39: =IF(CA39="","",COUNTA(CA6:CA39)) | CA39: =$D$39 | CV39: =IF(COUNT(CB39:CU39)=0,"",SUM(CB39:CU39)) | CY39: =IF(CZ39="","",COUNTA(CZ6:CZ39)) | CZ39: =$D$39 | DU39: =IF(COUNT(DA39:DT39)=0,"",SUM(DA39:DT39)) | DV39: =IF(初期設定!F41="","",初期設定!$E$5&正答数入力!CY39&正答数入力!CZ39)
C40: =IF(D40="","",COUNTA(D6:D40)) | D40: =IF(初期設定!F42="","",初期設定!F42) | Y40: =IF(COUNT(E40:X40)=0,"",SUM(E40:X40)) | AB40: =IF(AC40="","",COUNTA(AC6:AC40)) | AC40: =$D$40 | AX40: =IF(COUNT(AD40:AW40)=0,"",SUM(AD40:AW40)) | BA40: =IF(BB40="","",COUNTA(BB6:BB40)) | BB40: =$D$40 | BW40: =IF(COUNT(BC40:BV40)=0,"",SUM(BC40:BV40)) | BZ40: =IF(CA40="","",COUNTA(CA6:CA40)) | CA40: =$D$40 | CV40: =IF(COUNT(CB40:CU40)=0,"",SUM(CB40:CU40)) | CY40: =IF(CZ40="","",COUNTA(CZ6:CZ40)) | CZ40: =$D$40 | DU40: =IF(COUNT(DA40:DT40)=0,"",SUM(DA40:DT40)) | DV40: =IF(初期設定!F42="","",初期設定!$E$5&正答数入力!CY40&正答数入力!CZ40)
...

Sheet 個票
N1: ナビ☆チェック 到達度・課題発見シート
Y2: =IF(初期設定!B5=""," ",初期設定!B5)&IF(初期設定!B5=""," "," 年 ")&IF(B5=""," ",B5)&" 組" -> 組 | AB2: 名前 | AC2: =IF(B7="","",B7)
B3: =IF(OR(B5="",B7="",ISERROR(B5&B32&B7)),"",B5&B32&B7) | E3: 内容 | F3: No. | G3: 回 | H3: 実施日 | I3: 国 語 | J3: ナビ☆チェック | M3: 実施日 | N3: 社 会 | O3: ナビ☆チェック | R3: 実施日 | S3: 数 学 | T3: ナビ☆チェック | W3: 実施日 | X3: 理 科 | Y3: ナビ☆チェック | AB3: 実施日 | AC3: 英 語 | AD3: ナビ☆チェック
A4: 組・生徒名を 選択してください。 | J4: 小問数 | K4: 正答数 | L4: 到達度 | O4: 小問数 | P4: 正答数 | Q4: 到達度 | T4: 小問数 | U4: 正答数 | V4: 到達度 | Y4: 小問数 | Z4: 正答数 | AA4: 到達度 | AD4: 小問数 | AE4: 正答数 | AF4: 到達度
C5: 組 | E5: １・２年の学習内容 | F5: 1 | G5: １回 | H5: =IF(正答数入力!H3="","",正答数入力!H3) | I5: 漢字の基礎をまなぶ | J5: =正答数入力!E5 -> 3 | K5: =IF($B$3="","",INDEX(正答数入力!$E$6:$E$341,MATCH(個票!$B$3,正答数入力!$DV$6:$DV$341,0))) | L5: =IF(OR(K5="",K5=0),"☆☆☆",IF(K5=1,"★☆☆",IF(K5=2,"★★☆","★★★"))) -> ☆☆☆ | M5: =IF(正答数入力!AG3="","",正答数入力!AG3) | N5: 世界のすがた | O5: =正答数入力!AD5 -> 4 | P5: =IF($B$3="","",INDEX(正答数入力!$AD$6:$AD$341,MATCH(個票!$B$3,正答数入力!$DV$6:$DV$341,0))) | Q5: =IF(OR(P5="",P5=0),"☆☆☆☆",IF(P5=1,"★☆☆☆",IF(P5=2,"★★☆☆",IF(P5=3,"★★★☆","★★★★")))) -> ☆☆☆☆ | R5: =IF(正答数入力!BF3="","",正答数入力!BF3) | S5: 正の数・負の数⑴ | T5: =正答数入力!BC5 -> 4 | U5: =IF($B$3="","",INDEX(正答数入力!$BC$6:$BC$341,MATCH(個票!$B$3,正答数入力!$DV$6:$DV$341,0))) | V5: =IF(OR(U5="",U5=0),"☆☆☆☆",IF(U5=1,"★☆☆☆",IF(U5=2,"★★☆☆",IF(U5=3,"★★★☆","★★★★")))) -> ☆☆☆☆ | W5: =IF(正答数入力!CE3="","",正答数入力!CE3) | X5: 植物の特徴となかま | Y5: =正答数入力!CB5 -> 4 | Z5: =IF($B$3="","",INDEX(正答数入力!$CB$6:$CB$341,MATCH(個票!$B$3,正答数入力!$DV$6:$DV$341,0))) | AA5: =IF(OR(Z5="",Z5=0),"☆☆☆☆",IF(Z5=1,"★☆☆☆",IF(Z5=2,"★★☆☆",IF(Z5=3,"★★★☆","★★★★")))) -> ☆☆☆☆ | AB5: =IF(正答数入力!DD3="","",正答数入力!DD3) | AC5: be動詞（現在・過去） | AD5: =正答数入力!DA5 -> 4 | AE5: =IF($B$3="","",INDEX(正答数入力!$DA$6:$DA$341,MATCH(個票!$B$3,正答数入力!$DV$6:$DV$341,0))) | AF5: =IF(OR(AE5="",AE5=0),"☆☆☆☆",IF(AE5=1,"★☆☆☆",IF(AE5=2,"★★☆☆",IF(AE5=3,"★★★☆","★★★★")))) -> ☆☆☆☆
F6: 2 | I6: 熟語をまなぶ | J6: =正答数入力!F5 -> 3 | K6: =IF($B$3="","",INDEX(正答数入力!$F$6:$F$341,MATCH(個票!$B$3,正答数入力!$DV$6:$DV$341,0))) | L6: =IF(OR(K6="",K6=0),"☆☆☆",IF(K6=1,"★☆☆",IF(K6=2,"★★☆","★★★"))) -> ☆☆☆ | N6: 日本のすがた | O6: =正答数入力!AE5 -> 4 | P6: =IF($B$3="","",INDEX(正答数入力!$AE$6:$AE$341,MATCH(個票!$B$3,正答数入力!$DV$6:$DV$341,0))) | Q6: =IF(OR(P6="",P6=0),"☆☆☆☆",IF(P6=1,"★☆☆☆",IF(P6=2,"★★☆☆",IF(P6=3,"★★★☆","★★★★")))) -> ☆☆☆☆ | S6: 正の数・負の数⑵ | T6: =正答数入力!BD5 -> 4 | U6: =IF($B$3="","",INDEX(正答数入力!$BD$6:$BD$341,MATCH(個票!$B$3,正答数入力!$DV$6:$DV$341,0))) | V6: =IF(OR(U6="",U6=0),"☆☆☆☆",IF(U6=1,"★☆☆☆",IF(U6=2,"★★☆☆",IF(U6=3,"★★★☆","★★★★")))) -> ☆☆☆☆ | X6: 動物のなかま | Y6: =正答数入力!CC5 -> 4 | Z6: =IF($B$3="","",INDEX(正答数入力!$CC$6:$CC$341,MATCH(個票!$B$3,正答数入力!$DV$6:$DV$341,0))) | AA6: =IF(OR(Z6="",Z6=0),"☆☆☆☆",IF(Z6=1,"★☆☆☆",IF(Z6=2,"★★☆☆",IF(Z6=3,"★★★☆","★★★★")))) -> ☆☆☆☆ | AC6: 一般動詞⑴（現在） | AD6: =正答数入力!DB5 -> 4 | AE6: =IF($B$3="","",INDEX(正答数入力!$DB$6:$DB$341,MATCH(個票!$B$3,正答数入力!$DV$6:$DV$341,0))) | AF6: =IF(OR(AE6="",AE6=0),"☆☆☆☆",IF(AE6=1,"★☆☆☆",IF(AE6=2,"★★☆☆",IF(AE6=3,"★★★☆","★★★★")))) -> ☆☆☆☆
A7: 生徒名 | F7: 3 | I7: 語句をまなぶ | J7: =正答数入力!G5 -> 3 | K7: =IF($B$3="","",INDEX(正答数入力!$G$6:$G$341,MATCH(個票!$B$3,正答数入力!$DV$6:$DV$341,0))) | L7: =IF(OR(K7="",K7=0),"☆☆☆",IF(K7=1,"★☆☆",IF(K7=2,"★★☆","★★★"))) -> ☆☆☆ | N7: 世界各地の人々の生活と環境 | O7: =正答数入力!AF5 -> 4 | P7: =IF($B$3="","",INDEX(正答数入力!$AF$6:$AF$341,MATCH(個票!$B$3,正答数入力!$DV$6:$DV$341,0))) | Q7: =IF(OR(P7="",P7=0),"☆☆☆☆",IF(P7=1,"★☆☆☆",IF(P7=2,"★★☆☆",IF(P7=3,"★★★☆","★★★★")))) -> ☆☆☆☆ | S7: 文字と式 | T7: =正答数入力!BE5 -> 4 | U7: =IF($B$3="","",INDEX(正答数入力!$BE$6:$BE$341,MATCH(個票!$B$3,正答数入力!$DV$6:$DV$341,0))) | V7: =IF(OR(U7="",U7=0),"☆☆☆☆",IF(U7=1,"★☆☆☆",IF(U7=2,"★★☆☆",IF(U7=3,"★★★☆","★★★★")))) -> ☆☆☆☆ | X7: 観察・実験の基礎操作 | Y7: =正答数入力!CD5 -> 4 | Z7: =IF($B$3="","",INDEX(正答数入力!$CD$6:$CD$341,MATCH(個票!$B$3,正答数入力!$DV$6:$DV$341,0))) | AA7: =IF(OR(Z7="",Z7=0),"☆☆☆☆",IF(Z7=1,"★☆☆☆",IF(Z7=2,"★★☆☆",IF(Z7=3,"★★★☆","★★★★")))) -> ☆☆☆☆ | AC7: 一般動詞⑵（過去） | AD7: =正答数入力!DC5 -> 4 | AE7: =IF($B$3="","",INDEX(正答数入力!$DC$6:$DC$341,MATCH(個票!$B$3,正答数入力!$DV$6:$DV$341,0))) | AF7: =IF(OR(AE7="",AE7=0),"☆☆☆☆",IF(AE7=1,"★☆☆☆",IF(AE7=2,"★★☆☆",IF(AE7=3,"★★★☆","★★★★")))) -> ☆☆☆☆
F8: 4 | I8: 文章中の語句の意味をとらえる | J8: =正答数入力!H5 -> 3 | K8: =IF($B$3="","",INDEX(正答数入力!$H$6:$H$341,MATCH(個票!$B$3,正答数入力!$DV$6:$DV$341,0))) | L8: =IF(OR(K8="",K8=0),"☆☆☆",IF(K8=1,"★☆☆",IF(K8=2,"★★☆","★★★"))) -> ☆☆☆ | N8: アジア州，ヨーロッパ州 | O8: =正答数入力!AG5 -> 4 | P8: =IF($B$3="","",INDEX(正答数入力!$AG$6:$AG$341,MATCH(個票!$B$3,正答数入力!$DV$6:$DV$341,0))) | Q8: =IF(OR(P8="",P8=0),"☆☆☆☆",IF(P8=1,"★☆☆☆",IF(P8=2,"★★☆☆",IF(P8=3,"★★★☆","★★★★")))) -> ☆☆☆☆ | S8: １次方程式⑴ | T8: =正答数入力!BF5 -> 4 | U8: =IF($B$3="","",INDEX(正答数入力!$BF$6:$BF$341,MATCH(個票!$B$3,正答数入力!$DV$6:$DV$341,0))) | V8: =IF(OR(U8="",U8=0),"☆☆☆☆",IF(U8=1,"★☆☆☆",IF(U8=2,"★★☆☆",IF(U8=3,"★★★☆","★★★★")))) -> ☆☆☆☆ | X8: 物質のすがた | Y8: =正答数入力!CE5 -> 4 | Z8: =IF($B$3="","",INDEX(正答数入力!$CE$6:$CE$341,MATCH(個票!$B$3,正答数入力!$DV$6:$DV$341,0))) | AA8: =IF(OR(Z8="",Z8=0),"☆☆☆☆",IF(Z8=1,"★☆☆☆",IF(Z8=2,"★★☆☆",IF(Z8=3,"★★★☆","★★★★")))) -> ☆☆☆☆ | AC8: 進行形 | AD8: =正答数入力!DD5 -> 4 | AE8: =IF($B$3="","",INDEX(正答数入力!$DD$6:$DD$341,MATCH(個票!$B$3,正答数入力!$DV$6:$DV$341,0))) | AF8: =IF(OR(AE8="",AE8=0),"☆☆☆☆",IF(AE8=1,"★☆☆☆",IF(AE8=2,"★★☆☆",IF(AE8=3,"★★★☆","★★★★")))) -> ☆☆☆☆
I9: 小計 | J9: =SUM(J5:J8) -> 12 | K9: =IF(COUNTBLANK(K5:K8)=4,"",SUM(K5:K8)) | N9: 小計 | O9: =SUM(O5:O8) -> 16 | P9: =IF(COUNTBLANK(P5:P8)=4,"",SUM(P5:P8)) | S9: 小計 | T9: =SUM(T5:T8) -> 16 | U9: =IF(COUNTBLANK(U5:U8)=4,"",SUM(U5:U8)) | X9: 小計 | Y9: =SUM(Y5:Y8) -> 16 | Z9: =IF(COUNTBLANK(Z5:Z8)=4,"",SUM(Z5:Z8)) | AC9: 小計 | AD9: =SUM(AD5:AD8) -> 16 | AE9: =IF(COUNTBLANK(AE5:AE8)=4,"",SUM(AE5:AE8))
F10: 5 | G10: ２回 | H10: =IF(正答数入力!L3="","",正答数入力!L3) | I10: 指示語・接続語をとらえる | J10: =正答数入力!I5 -> 3 | K10: =IF($B$3="","",INDEX(正答数入力!$I$6:$I$341,MATCH(個票!$B$3,正答数入力!$DV$6:$DV$341,0))) | L10: =IF(OR(K10="",K10=0),"☆☆☆",IF(K10=1,"★☆☆",IF(K10=2,"★★☆","★★★"))) -> ☆☆☆ | M10: =IF(正答数入力!AK3="","",正答数入力!AK3) | N10: アフリカ州，北アメリカ州 | O10: =正答数入力!AH5 -> 4 | P10: =IF($B$3="","",INDEX(正答数入力!$AH$6:$AH$341,MATCH(個票!$B$3,正答数入力!$DV$6:$DV$341,0))) | Q10: =IF(OR(P10="",P10=0),"☆☆☆☆",IF(P10=1,"★☆☆☆",IF(P10=2,"★★☆☆",IF(P10=3,"★★★☆","★★★★")))) -> ☆☆☆☆ | R10: =IF(正答数入力!BJ3="","",正答数入力!BJ3) | S10: １次方程式⑵ | T10: =正答数入力!BG5 -> 4 | U10: =IF($B$3="","",INDEX(正答数入力!$BG$6:$BG$341,MATCH(個票!$B$3,正答数入力!$DV$6:$DV$341,0))) | V10: =IF(OR(U10="",U10=0),"☆☆☆☆",IF(U10=1,"★☆☆☆",IF(U10=2,"★★☆☆",IF(U10=3,"★★★☆","★★★★")))) -> ☆☆☆☆ | W10: =IF(正答数入力!CI3="","",正答数入力!CI3) | X10: 気体と水溶液 | Y10: =正答数入力!CF5 -> 4 | Z10: =IF($B$3="","",INDEX(正答数入力!$CF$6:$CF$341,MATCH(個票!$B$3,正答数入力!$DV$6:$DV$341,0))) | AA10: =IF(OR(Z10="",Z10=0),"☆☆☆☆",IF(Z10=1,"★☆☆☆",IF(Z10=2,"★★☆☆",IF(Z10=3,"★★★☆","★★★★")))) -> ☆☆☆☆ | AB10: =IF(正答数入力!DH3="","",正答数入力!DH3) | AC10: 名詞／a，an，the | AD10: =正答数入力!DE5 -> 4 | AE10: =IF($B$3="","",INDEX(正答数入力!$DE$6:$DE$341,MATCH(個票!$B$3,正答数入力!$DV$6:$DV$341,0))) | AF10: =IF(OR(AE10="",AE10=0),"☆☆☆☆",IF(AE10=1,"★☆☆☆",IF(AE10=2,"★★☆☆",IF(AE10=3,"★★★☆","★★★★")))) -> ☆☆☆☆
F11: 6 | I11: 理由をとらえる | J11: =正答数入力!J5 -> 3 | K11: =IF($B$3="","",INDEX(正答数入力!$J$6:$J$341,MATCH(個票!$B$3,正答数入力!$DV$6:$DV$341,0))) | L11: =IF(OR(K11="",K11=0),"☆☆☆",IF(K11=1,"★☆☆",IF(K11=2,"★★☆","★★★"))) -> ☆☆☆ | N11: 南アメリカ州，オセアニア州 | O11: =正答数入力!AI5 -> 4 | P11: =IF($B$3="","",INDEX(正答数入力!$AI$6:$AI$341,MATCH(個票!$B$3,正答数入力!$DV$6:$DV$341,0))) | Q11: =IF(OR(P11="",P11=0),"☆☆☆☆",IF(P11=1,"★☆☆☆",IF(P11=2,"★★☆☆",IF(P11=3,"★★★☆","★★★★")))) -> ☆☆☆☆ | S11: 比例と反比例 | T11: =正答数入力!BH5 -> 4 | U11: =IF($B$3="","",INDEX(正答数入力!$BH$6:$BH$341,MATCH(個票!$B$3,正答数入力!$DV$6:$DV$341,0))) | V11: =IF(OR(U11="",U11=0),"☆☆☆☆",IF(U11=1,"★☆☆☆",IF(U11=2,"★★☆☆",IF(U11=3,"★★★☆","★★★★")))) -> ☆☆☆☆ | X11: 光の性質 | Y11: =正答数入力!CG5 -> 4 | Z11: =IF($B$3="","",INDEX(正答数入力!$CG$6:$CG$341,MATCH(個票!$B$3,正答数入力!$DV$6:$DV$341,0))) | AA11: =IF(OR(Z11="",Z11=0),"☆☆☆☆",IF(Z11=1,"★☆☆☆",IF(Z11=2,"★★☆☆",IF(Z11=3,"★★★☆","★★★★")))) -> ☆☆☆☆ | AC11: 代名詞 | AD11: =正答数入力!DF5 -> 4 | AE11: =IF($B$3="","",INDEX(正答数入力!$DF$6:$DF$341,MATCH(個票!$B$3,正答数入力!$DV$6:$DV$341,0))) | AF11: =IF(OR(AE11="",AE11=0),"☆☆☆☆",IF(AE11=1,"★☆☆☆",IF(AE11=2,"★★☆☆",IF(AE11=3,"★★★☆","★★★★")))) -> ☆☆☆☆
F12: 7 | I12: 段落の構成をとらえる | J12: =正答数入力!K5 -> 3 | K12: =IF($B$3="","",INDEX(正答数入力!$K$6:$K$341,MATCH(個票!$B$3,正答数入力!$DV$6:$DV$341,0))) | L12: =IF(OR(K12="",K12=0),"☆☆☆",IF(K12=1,"★☆☆",IF(K12=2,"★★☆","★★★"))) -> ☆☆☆ | N12: 地域調査の手法 | O12: =正答数入力!AJ5 -> 4 | P12: =IF($B$3="","",INDEX(正答数入力!$AJ$6:$AJ$341,MATCH(個票!$B$3,正答数入力!$DV$6:$DV$341,0))) | Q12: =IF(OR(P12="",P12=0),"☆☆☆☆",IF(P12=1,"★☆☆☆",IF(P12=2,"★★☆☆",IF(P12=3,"★★★☆","★★★★")))) -> ☆☆☆☆ | S12: 平面図形 | T12: =正答数入力!BI5 -> 4 | U12: =IF($B$3="","",INDEX(正答数入力!$BI$6:$BI$341,MATCH(個票!$B$3,正答数入力!$DV$6:$DV$341,0))) | V12: =IF(OR(U12="",U12=0),"☆☆☆☆",IF(U12=1,"★☆☆☆",IF(U12=2,"★★☆☆",IF(U12=3,"★★★☆","★★★★")))) -> ☆☆☆☆ | X12: 音と力 | Y12: =正答数入力!CH5 -> 4 | Z12: =IF($B$3="","",INDEX(正答数入力!$CH$6:$CH$341,MATCH(個票!$B$3,正答数入力!$DV$6:$DV$341,0))) | AA12: =IF(OR(Z12="",Z12=0),"☆☆☆☆",IF(Z12=1,"★☆☆☆",IF(Z12=2,"★★☆☆",IF(Z12=3,"★★★☆","★★★★")))) -> ☆☆☆☆ | AC12: 形容詞 | AD12: =正答数入力!DG5 -> 4 | AE12: =IF($B$3="","",INDEX(正答数入力!$DG$6:$DG$341,MATCH(個票!$B$3,正答数入力!$DV$6:$DV$341,0))) | AF12: =IF(OR(AE12="",AE12=0),"☆☆☆☆",IF(AE12=1,"★☆☆☆",IF(AE12=2,"★★☆☆",IF(AE12=3,"★★★☆","★★★★")))) -> ☆☆☆☆
F13: 8 | I13: 要旨をとらえる | J13: =正答数入力!L5 -> 3 | K13: =IF($B$3="","",INDEX(正答数入力!$L$6:$L$341,MATCH(個票!$B$3,正答数入力!$DV$6:$DV$341,0))) | L13: =IF(OR(K13="",K13=0),"☆☆☆",IF(K13=1,"★☆☆",IF(K13=2,"★★☆","★★★"))) -> ☆☆☆ | N13: 自然環境，人口 | O13: =正答数入力!AK5 -> 4 | P13: =IF($B$3="","",INDEX(正答数入力!$AK$6:$AK$341,MATCH(個票!$B$3,正答数入力!$DV$6:$DV$341,0))) | Q13: =IF(OR(P13="",P13=0),"☆☆☆☆",IF(P13=1,"★☆☆☆",IF(P13=2,"★★☆☆",IF(P13=3,"★★★☆","★★★★")))) -> ☆☆☆☆ | S13: 空間図形⑴ | T13: =正答数入力!BJ5 -> 4 | U13: =IF($B$3="","",INDEX(正答数入力!$BJ$6:$BJ$341,MATCH(個票!$B$3,正答数入力!$DV$6:$DV$341,0))) | V13: =IF(OR(U13="",U13=0),"☆☆☆☆",IF(U13=1,"★☆☆☆",IF(U13=2,"★★☆☆",IF(U13=3,"★★★☆","★★★★")))) -> ☆☆☆☆ | X13: 火山と地震 | Y13: =正答数入力!CI5 -> 4 | Z13: =IF($B$3="","",INDEX(正答数入力!$CI$6:$CI$341,MATCH(個票!$B$3,正答数入力!$DV$6:$DV$341,0))) | AA13: =IF(OR(Z13="",Z13=0),"☆☆☆☆",IF(Z13=1,"★☆☆☆",IF(Z13=2,"★★☆☆",IF(Z13=3,"★★★☆","★★★★")))) -> ☆☆☆☆ | AC13: 副詞 | AD13: =正答数入力!DH5 -> 4 | AE13: =IF($B$3="","",INDEX(正答数入力!$DH$6:$DH$341,MATCH(個票!$B$3,正答数入力!$DV$6:$DV$341,0))) | AF13: =IF(OR(AE13="",AE13=0),"☆☆☆☆",IF(AE13=1,"★☆☆☆",IF(AE13=2,"★★☆☆",IF(AE13=3,"★★★☆","★★★★")))) -> ☆☆☆☆
I14: 小計 | J14: =SUM(J10:J13) -> 12 | K14: =IF(COUNTBLANK(K10:K13)=4,"",SUM(K10:K13)) | N14: 小計 | O14: =SUM(O10:O13) -> 16 | P14: =IF(COUNTBLANK(P10:P13)=4,"",SUM(P10:P13)) | S14: 小計 | T14: =SUM(T10:T13) -> 16 | U14: =IF(COUNTBLANK(U10:U13)=4,"",SUM(U10:U13)) | X14: 小計 | Y14: =SUM(Y10:Y13) -> 16 | Z14: =IF(COUNTBLANK(Z10:Z13)=4,"",SUM(Z10:Z13)) | AC14: 小計 | AD14: =SUM(AD10:AD13) -> 16 | AE14: =IF(COUNTBLANK(AE10:AE13)=4,"",SUM(AE10:AE13))
F15: 9 | G15: ３回 | H15: =IF(正答数入力!P3="","",正答数入力!P3) | I15: 情景・心情をとらえる | J15: =正答数入力!M5 -> 3 | K15: =IF($B$3="","",INDEX(正答数入力!$M$6:$M$341,MATCH(個票!$B$3,正答数入力!$DV$6:$DV$341,0))) | L15: =IF(OR(K15="",K15=0),"☆☆☆",IF(K15=1,"★☆☆",IF(K15=2,"★★☆","★★★"))) -> ☆☆☆ | M15: =IF(正答数入力!AO3="","",正答数入力!AO3) | N15: 資源・産業，交通・通信 | O15: =正答数入力!AL5 -> 4 | P15: =IF($B$3="","",INDEX(正答数入力!$AL$6:$AL$341,MATCH(個票!$B$3,正答数入力!$DV$6:$DV$341,0))) | Q15: =IF(OR(P15="",P15=0),"☆☆☆☆",IF(P15=1,"★☆☆☆",IF(P15=2,"★★☆☆",IF(P15=3,"★★★☆","★★★★")))) -> ☆☆☆☆ | R15: =IF(正答数入力!BN3="","",正答数入力!BN3) | S15: 空間図形⑵ | T15: =正答数入力!BK5 -> 4 | U15: =IF($B$3="","",INDEX(正答数入力!$BK$6:$BK$341,MATCH(個票!$B$3,正答数入力!$DV$6:$DV$341,0))) | V15: =IF(OR(U15="",U15=0),"☆☆☆☆",IF(U15=1,"★☆☆☆",IF(U15=2,"★★☆☆",IF(U15=3,"★★★☆","★★★★")))) -> ☆☆☆☆ | W15: =IF(正答数入力!CM3="","",正答数入力!CM3) | X15: 地層と岩石 | Y15: =正答数入力!CJ5 -> 4 | Z15: =IF($B$3="","",INDEX(正答数入力!$CJ$6:$CJ$341,MATCH(個票!$B$3,正答数入力!$DV$6:$DV$341,0))) | AA15: =IF(OR(Z15="",Z15=0),"☆☆☆☆",IF(Z15=1,"★☆☆☆",IF(Z15=2,"★★☆☆",IF(Z15=3,"★★★☆","★★★★")))) -> ☆☆☆☆ | AB15: =IF(正答数入力!DL3="","",正答数入力!DL3) | AC15: 前置詞 | AD15: =正答数入力!DI5 -> 4 | AE15: =IF($B$3="","",INDEX(正答数入力!$DI$6:$DI$341,MATCH(個票!$B$3,正答数入力!$DV$6:$DV$341,0))) | AF15: =IF(OR(AE15="",AE15=0),"☆☆☆☆",IF(AE15=1,"★☆☆☆",IF(AE15=2,"★★☆☆",IF(AE15=3,"★★★☆","★★★★")))) -> ☆☆☆☆
F16: 10 | I16: 人物の行動をとらえる | J16: =正答数入力!N5 -> 3 | K16: =IF($B$3="","",INDEX(正答数入力!$N$6:$N$341,MATCH(個票!$B$3,正答数入力!$DV$6:$DV$341,0))) | L16: =IF(OR(K16="",K16=0),"☆☆☆",IF(K16=1,"★☆☆",IF(K16=2,"★★☆","★★★"))) -> ☆☆☆ | N16: 九州地方，中国・四国地方 | O16: =正答数入力!AM5 -> 4 | P16: =IF($B$3="","",INDEX(正答数入力!$AM$6:$AM$341,MATCH(個票!$B$3,正答数入力!$DV$6:$DV$341,0))) | Q16: =IF(OR(P16="",P16=0),"☆☆☆☆",IF(P16=1,"★☆☆☆",IF(P16=2,"★★☆☆",IF(P16=3,"★★★☆","★★★★")))) -> ☆☆☆☆ | S16: データの活用 | T16: =正答数入力!BL5 -> 4 | U16: =IF($B$3="","",INDEX(正答数入力!$BL$6:$BL$341,MATCH(個票!$B$3,正答数入力!$DV$6:$DV$341,0))) | V16: =IF(OR(U16="",U16=0),"☆☆☆☆",IF(U16=1,"★☆☆☆",IF(U16=2,"★★☆☆",IF(U16=3,"★★★☆","★★★★")))) -> ☆☆☆☆ | X16: 化学変化と原子・分子 | Y16: =正答数入力!CK5 -> 4 | Z16: =IF($B$3="","",INDEX(正答数入力!$CK$6:$CK$341,MATCH(個票!$B$3,正答数入力!$DV$6:$DV$341,0))) | AA16: =IF(OR(Z16="",Z16=0),"☆☆☆☆",IF(Z16=1,"★☆☆☆",IF(Z16=2,"★★☆☆",IF(Z16=3,"★★★☆","★★★★")))) -> ☆☆☆☆ | AC16: 命令文 | AD16: =正答数入力!DJ5 -> 4 | AE16: =IF($B$3="","",INDEX(正答数入力!$DJ$6:$DJ$341,MATCH(個票!$B$3,正答数入力!$DV$6:$DV$341,0))) | AF16: =IF(OR(AE16="",AE16=0),"☆☆☆☆",IF(AE16=1,"★☆☆☆",IF(AE16=2,"★★☆☆",IF(AE16=3,"★★★☆","★★★★")))) -> ☆☆☆☆
F17: 11 | I17: 表現の特徴をとらえる | J17: =正答数入力!O5 -> 3 | K17: =IF($B$3="","",INDEX(正答数入力!$O$6:$O$341,MATCH(個票!$B$3,正答数入力!$DV$6:$DV$341,0))) | L17: =IF(OR(K17="",K17=0),"☆☆☆",IF(K17=1,"★☆☆",IF(K17=2,"★★☆","★★★"))) -> ☆☆☆ | N17: 近畿地方，中部地方 | O17: =正答数入力!AN5 -> 4 | P17: =IF($B$3="","",INDEX(正答数入力!$AN$6:$AN$341,MATCH(個票!$B$3,正答数入力!$DV$6:$DV$341,0))) | Q17: =IF(OR(P17="",P17=0),"☆☆☆☆",IF(P17=1,"★☆☆☆",IF(P17=2,"★★☆☆",IF(P17=3,"★★★☆","★★★★")))) -> ☆☆☆☆ | S17: 式の計算 | T17: =正答数入力!BM5 -> 4 | U17: =IF($B$3="","",INDEX(正答数入力!$BM$6:$BM$341,MATCH(個票!$B$3,正答数入力!$DV$6:$DV$341,0))) | V17: =IF(OR(U17="",U17=0),"☆☆☆☆",IF(U17=1,"★☆☆☆",IF(U17=2,"★★☆☆",IF(U17=3,"★★★☆","★★★★")))) -> ☆☆☆☆ | X17: 化学変化と物質の質量 | Y17: =正答数入力!CL5 -> 4 | Z17: =IF($B$3="","",INDEX(正答数入力!$CL$6:$CL$341,MATCH(個票!$B$3,正答数入力!$DV$6:$DV$341,0))) | AA17: =IF(OR(Z17="",Z17=0),"☆☆☆☆",IF(Z17=1,"★☆☆☆",IF(Z17=2,"★★☆☆",IF(Z17=3,"★★★☆","★★★★")))) -> ☆☆☆☆ | AC17: 疑問詞を用いた疑問文 | AD17: =正答数入力!DK5 -> 4 | AE17: =IF($B$3="","",INDEX(正答数入力!$DK$6:$DK$341,MATCH(個票!$B$3,正答数入力!$DV$6:$DV$341,0))) | AF17: =IF(OR(AE17="",AE17=0),"☆☆☆☆",IF(AE17=1,"★☆☆☆",IF(AE17=2,"★★☆☆",IF(AE17=3,"★★★☆","★★★★")))) -> ☆☆☆☆
F18: 12 | I18: 主題をとらえる | J18: =正答数入力!P5 -> 3 | K18: =IF($B$3="","",INDEX(正答数入力!$P$6:$P$341,MATCH(個票!$B$3,正答数入力!$DV$6:$DV$341,0))) | L18: =IF(OR(K18="",K18=0),"☆☆☆",IF(K18=1,"★☆☆",IF(K18=2,"★★☆","★★★"))) -> ☆☆☆ | N18: 関東地方，東北地方，北海道地方 | O18: =正答数入力!AO5 -> 4 | P18: =IF($B$3="","",INDEX(正答数入力!$AO$6:$AO$341,MATCH(個票!$B$3,正答数入力!$DV$6:$DV$341,0))) | Q18: =IF(OR(P18="",P18=0),"☆☆☆☆",IF(P18=1,"★☆☆☆",IF(P18=2,"★★☆☆",IF(P18=3,"★★★☆","★★★★")))) -> ☆☆☆☆ | S18: 連立方程式⑴ | T18: =正答数入力!BN5 -> 4 | U18: =IF($B$3="","",INDEX(正答数入力!$BN$6:$BN$341,MATCH(個票!$B$3,正答数入力!$DV$6:$DV$341,0))) | V18: =IF(OR(U18="",U18=0),"☆☆☆☆",IF(U18=1,"★☆☆☆",IF(U18=2,"★★☆☆",IF(U18=3,"★★★☆","★★★★")))) -> ☆☆☆☆ | X18: 生物と細胞，植物のつくり | Y18: =正答数入力!CM5 -> 4 | Z18: =IF($B$3="","",INDEX(正答数入力!$CM$6:$CM$341,MATCH(個票!$B$3,正答数入力!$DV$6:$DV$341,0))) | AA18: =IF(OR(Z18="",Z18=0),"☆☆☆☆",IF(Z18=1,"★☆☆☆",IF(Z18=2,"★★☆☆",IF(Z18=3,"★★★☆","★★★★")))) -> ☆☆☆☆ | AC18: いろいろな文の構造⑴ | AD18: =正答数入力!DL5 -> 4 | AE18: =IF($B$3="","",INDEX(正答数入力!$DL$6:$DL$341,MATCH(個票!$B$3,正答数入力!$DV$6:$DV$341,0))) | AF18: =IF(OR(AE18="",AE18=0),"☆☆☆☆",IF(AE18=1,"★☆☆☆",IF(AE18=2,"★★☆☆",IF(AE18=3,"★★★☆","★★★★")))) -> ☆☆☆☆
I19: 小計 | J19: =SUM(J15:J18) -> 12 | K19: =IF(COUNTBLANK(K15:K18)=4,"",SUM(K15:K18)) | N19: 小計 | O19: =SUM(O15:O18) -> 16 | P19: =IF(COUNTBLANK(P15:P18)=4,"",SUM(P15:P18)) | S19: 小計 | T19: =SUM(T15:T18) -> 16 | U19: =IF(COUNTBLANK(U15:U18)=4,"",SUM(U15:U18)) | X19: 小計 | Y19: =SUM(Y15:Y18) -> 16 | Z19: =IF(COUNTBLANK(Z15:Z18)=4,"",SUM(Z15:Z18)) | AC19: 小計 | AD19: =SUM(AD15:AD18) -> 16 | AE19: =IF(COUNTBLANK(AE15:AE18)=4,"",SUM(AE15:AE18))
F20: 13 | G20: ４回 | H20: =IF(正答数入力!T3="","",正答数入力!T3) | I20: 書く力をつける（説明的文章） | J20: =正答数入力!Q5 -> 3 | K20: =IF($B$3="","",INDEX(正答数入力!$Q$6:$Q$341,MATCH(個票!$B$3,正答数入力!$DV$6:$DV$341,0))) | L20: =IF(OR(K20="",K20=0),"☆☆☆",IF(K20=1,"★☆☆",IF(K20=2,"★★☆","★★★"))) -> ☆☆☆ | M20: =IF(正答数入力!AS3="","",正答数入力!AS3) | N20: 文明のおこりと日本の成り立ち | O20: =正答数入力!AP5 -> 4 | P20: =IF($B$3="","",INDEX(正答数入力!$AP$6:$AP$341,MATCH(個票!$B$3,正答数入力!$DV$6:$DV$341,0))) | Q20: =IF(OR(P20="",P20=0),"☆☆☆☆",IF(P20=1,"★☆☆☆",IF(P20=2,"★★☆☆",IF(P20=3,"★★★☆","★★★★")))) -> ☆☆☆☆ | R20: =IF(正答数入力!BR3="","",正答数入力!BR3) | S20: 連立方程式⑵ | T20: =正答数入力!BO5 -> 4 | U20: =IF($B$3="","",INDEX(正答数入力!$BO$6:$BO$341,MATCH(個票!$B$3,正答数入力!$DV$6:$DV$341,0))) | V20: =IF(OR(U20="",U20=0),"☆☆☆☆",IF(U20=1,"★☆☆☆",IF(U20=2,"★★☆☆",IF(U20=3,"★★★☆","★★★★")))) -> ☆☆☆☆ | W20: =IF(正答数入力!CQ3="","",正答数入力!CQ3) | X20: 植物のはたらき | Y20: =正答数入力!CN5 -> 4 | Z20: =IF($B$3="","",INDEX(正答数入力!$CN$6:$CN$341,MATCH(個票!$B$3,正答数入力!$DV$6:$DV$341,0))) | AA20: =IF(OR(Z20="",Z20=0),"☆☆☆☆",IF(Z20=1,"★☆☆☆",IF(Z20=2,"★★☆☆",IF(Z20=3,"★★★☆","★★★★")))) -> ☆☆☆☆ | AB20: =IF(正答数入力!DP3="","",正答数入力!DP3) | AC20: 未来の文 | AD20: =正答数入力!DM5 -> 4 | AE20: =IF($B$3="","",INDEX(正答数入力!$DM$6:$DM$341,MATCH(個票!$B$3,正答数入力!$DV$6:$DV$341,0))) | AF20: =IF(OR(AE20="",AE20=0),"☆☆☆☆",IF(AE20=1,"★☆☆☆",IF(AE20=2,"★★☆☆",IF(AE20=3,"★★★☆","★★★★")))) -> ☆☆☆☆
F21: 14 | I21: 書く力をつける（文学的文章） | J21: =正答数入力!R5 -> 3 | K21: =IF($B$3="","",INDEX(正答数入力!$R$6:$R$341,MATCH(個票!$B$3,正答数入力!$DV$6:$DV$341,0))) | L21: =IF(OR(K21="",K21=0),"☆☆☆",IF(K21=1,"★☆☆",IF(K21=2,"★★☆","★★★"))) -> ☆☆☆ | N21: 古代日本の歩みと東アジア | O21: =正答数入力!AQ5 -> 4 | P21: =IF($B$3="","",INDEX(正答数入力!$AQ$6:$AQ$341,MATCH(個票!$B$3,正答数入力!$DV$6:$DV$341,0))) | Q21: =IF(OR(P21="",P21=0),"☆☆☆☆",IF(P21=1,"★☆☆☆",IF(P21=2,"★★☆☆",IF(P21=3,"★★★☆","★★★★")))) -> ☆☆☆☆ | S21: １次関数⑴ | T21: =正答数入力!BP5 -> 4 | U21: =IF($B$3="","",INDEX(正答数入力!$BP$6:$BP$341,MATCH(個票!$B$3,正答数入力!$DV$6:$DV$341,0))) | V21: =IF(OR(U21="",U21=0),"☆☆☆☆",IF(U21=1,"★☆☆☆",IF(U21=2,"★★☆☆",IF(U21=3,"★★★☆","★★★★")))) -> ☆☆☆☆ | X21: 消化と吸収 | Y21: =正答数入力!CO5 -> 4 | Z21: =IF($B$3="","",INDEX(正答数入力!$CO$6:$CO$341,MATCH(個票!$B$3,正答数入力!$DV$6:$DV$341,0))) | AA21: =IF(OR(Z21="",Z21=0),"☆☆☆☆",IF(Z21=1,"★☆☆☆",IF(Z21=2,"★★☆☆",IF(Z21=3,"★★★☆","★★★★")))) -> ☆☆☆☆ | AC21: 助動詞 | AD21: =正答数入力!DN5 -> 4 | AE21: =IF($B$3="","",INDEX(正答数入力!$DN$6:$DN$341,MATCH(個票!$B$3,正答数入力!$DV$6:$DV$341,0))) | AF21: =IF(OR(AE21="",AE21=0),"☆☆☆☆",IF(AE21=1,"★☆☆☆",IF(AE21=2,"★★☆☆",IF(AE21=3,"★★★☆","★★★★")))) -> ☆☆☆☆
F22: 15 | I22: 推敲と表現をまなぶ | J22: =正答数入力!S5 -> 3 | K22: =IF($B$3="","",INDEX(正答数入力!$S$6:$S$341,MATCH(個票!$B$3,正答数入力!$DV$6:$DV$341,0))) | L22: =IF(OR(K22="",K22=0),"☆☆☆",IF(K22=1,"★☆☆",IF(K22=2,"★★☆","★★★"))) -> ☆☆☆ | N22: 中世の日本と東アジア | O22: =正答数入力!AR5 -> 4 | P22: =IF($B$3="","",INDEX(正答数入力!$AR$6:$AR$341,MATCH(個票!$B$3,正答数入力!$DV$6:$DV$341,0))) | Q22: =IF(OR(P22="",P22=0),"☆☆☆☆",IF(P22=1,"★☆☆☆",IF(P22=2,"★★☆☆",IF(P22=3,"★★★☆","★★★★")))) -> ☆☆☆☆ | S22: １次関数⑵ | T22: =正答数入力!BQ5 -> 4 | U22: =IF($B$3="","",INDEX(正答数入力!$BQ$6:$BQ$341,MATCH(個票!$B$3,正答数入力!$DV$6:$DV$341,0))) | V22: =IF(OR(U22="",U22=0),"☆☆☆☆",IF(U22=1,"★☆☆☆",IF(U22=2,"★★☆☆",IF(U22=3,"★★★☆","★★★★")))) -> ☆☆☆☆ | X22: 呼吸，血液の循環 | Y22: =正答数入力!CP5 -> 4 | Z22: =IF($B$3="","",INDEX(正答数入力!$CP$6:$CP$341,MATCH(個票!$B$3,正答数入力!$DV$6:$DV$341,0))) | AA22: =IF(OR(Z22="",Z22=0),"☆☆☆☆",IF(Z22=1,"★☆☆☆",IF(Z22=2,"★★☆☆",IF(Z22=3,"★★★☆","★★★★")))) -> ☆☆☆☆ | AC22: 不定詞⑴ | AD22: =正答数入力!DO5 -> 4 | AE22: =IF($B$3="","",INDEX(正答数入力!$DO$6:$DO$341,MATCH(個票!$B$3,正答数入力!$DV$6:$DV$341,0))) | AF22: =IF(OR(AE22="",AE22=0),"☆☆☆☆",IF(AE22=1,"★☆☆☆",IF(AE22=2,"★★☆☆",IF(AE22=3,"★★★☆","★★★★")))) -> ☆☆☆☆
F23: 16 | I23: 鑑賞文・感想文を書く | J23: =正答数入力!T5 -> 3 | K23: =IF($B$3="","",INDEX(正答数入力!$T$6:$T$341,MATCH(個票!$B$3,正答数入力!$DV$6:$DV$341,0))) | L23: =IF(OR(K23="",K23=0),"☆☆☆",IF(K23=1,"★☆☆",IF(K23=2,"★★☆","★★★"))) -> ☆☆☆ | N23: 世界の動きと天下統一 | O23: =正答数入力!AS5 -> 4 | P23: =IF($B$3="","",INDEX(正答数入力!$AS$6:$AS$341,MATCH(個票!$B$3,正答数入力!$DV$6:$DV$341,0))) | Q23: =IF(OR(P23="",P23=0),"☆☆☆☆",IF(P23=1,"★☆☆☆",IF(P23=2,"★★☆☆",IF(P23=3,"★★★☆","★★★★")))) -> ☆☆☆☆ | S23: 平行と合同 | T23: =正答数入力!BR5 -> 4 | U23: =IF($B$3="","",INDEX(正答数入力!$BR$6:$BR$341,MATCH(個票!$B$3,正答数入力!$DV$6:$DV$341,0))) | V23: =IF(OR(U23="",U23=0),"☆☆☆☆",IF(U23=1,"★☆☆☆",IF(U23=2,"★★☆☆",IF(U23=3,"★★★☆","★★★★")))) -> ☆☆☆☆ | X23: 排出，感覚器官，行動のしくみ | Y23: =正答数入力!CQ5 -> 4 | Z23: =IF($B$3="","",INDEX(正答数入力!$CQ$6:$CQ$341,MATCH(個票!$B$3,正答数入力!$DV$6:$DV$341,0))) | AA23: =IF(OR(Z23="",Z23=0),"☆☆☆☆",IF(Z23=1,"★☆☆☆",IF(Z23=2,"★★☆☆",IF(Z23=3,"★★★☆","★★★★")))) -> ☆☆☆☆ | AC23: 動名詞 | AD23: =正答数入力!DP5 -> 4 | AE23: =IF($B$3="","",INDEX(正答数入力!$DP$6:$DP$341,MATCH(個票!$B$3,正答数入力!$DV$6:$DV$341,0))) | AF23: =IF(OR(AE23="",AE23=0),"☆☆☆☆",IF(AE23=1,"★☆☆☆",IF(AE23=2,"★★☆☆",IF(AE23=3,"★★★☆","★★★★")))) -> ☆☆☆☆
I24: 小計 | J24: =SUM(J20:J23) -> 12 | K24: =IF(COUNTBLANK(K20:K23)=4,"",SUM(K20:K23)) | N24: 小計 | O24: =SUM(O20:O23) -> 16 | P24: =IF(COUNTBLANK(P20:P23)=4,"",SUM(P20:P23)) | S24: 小計 | T24: =SUM(T20:T23) -> 16 | U24: =IF(COUNTBLANK(U20:U23)=4,"",SUM(U20:U23)) | X24: 小計 | Y24: =SUM(Y20:Y23) -> 16 | Z24: =IF(COUNTBLANK(Z20:Z23)=4,"",SUM(Z20:Z23)) | AC24: 小計 | AD24: =SUM(AD20:AD23) -> 16 | AE24: =IF(COUNTBLANK(AE20:AE23)=4,"",SUM(AE20:AE23))
F25: 17 | G25: ５回 | H25: =IF(正答数入力!X3="","",正答数入力!X3) | I25: 古典の基礎をまなぶ | J25: =正答数入力!U5 -> 3 | K25: =IF($B$3="","",INDEX(正答数入力!$U$6:$U$341,MATCH(個票!$B$3,正答数入力!$DV$6:$DV$341,0))) | L25: =IF(OR(K25="",K25=0),"☆☆☆",IF(K25=1,"★☆☆",IF(K25=2,"★★☆","★★★"))) -> ☆☆☆ | M25: =IF(正答数入力!AW3="","",正答数入力!AW3) | N25: 近世日本の発展 | O25: =正答数入力!AT5 -> 4 | P25: =IF($B$3="","",INDEX(正答数入力!$AT$6:$AT$341,MATCH(個票!$B$3,正答数入力!$DV$6:$DV$341,0))) | Q25: =IF(OR(P25="",P25=0),"☆☆☆☆",IF(P25=1,"★☆☆☆",IF(P25=2,"★★☆☆",IF(P25=3,"★★★☆","★★★★")))) -> ☆☆☆☆ | R25: =IF(正答数入力!BV3="","",正答数入力!BV3) | S25: 三角形 | T25: =正答数入力!BS5 -> 4 | U25: =IF($B$3="","",INDEX(正答数入力!$BS$6:$BS$341,MATCH(個票!$B$3,正答数入力!$DV$6:$DV$341,0))) | V25: =IF(OR(U25="",U25=0),"☆☆☆☆",IF(U25=1,"★☆☆☆",IF(U25=2,"★★☆☆",IF(U25=3,"★★★☆","★★★★")))) -> ☆☆☆☆ | W25: =IF(正答数入力!CU3="","",正答数入力!CU3) | X25: 電流と電圧 | Y25: =正答数入力!CR5 -> 4 | Z25: =IF($B$3="","",INDEX(正答数入力!$CR$6:$CR$341,MATCH(個票!$B$3,正答数入力!$DV$6:$DV$341,0))) | AA25: =IF(OR(Z25="",Z25=0),"☆☆☆☆",IF(Z25=1,"★☆☆☆",IF(Z25=2,"★★☆☆",IF(Z25=3,"★★★☆","★★★★")))) -> ☆☆☆☆ | AB25: =IF(正答数入力!DT3="","",正答数入力!DT3) | AC25: 接続詞 | AD25: =正答数入力!DQ5 -> 4 | AE25: =IF($B$3="","",INDEX(正答数入力!$DQ$6:$DQ$341,MATCH(個票!$B$3,正答数入力!$DV$6:$DV$341,0))) | AF25: =IF(OR(AE25="",AE25=0),"☆☆☆☆",IF(AE25=1,"★☆☆☆",IF(AE25=2,"★★☆☆",IF(AE25=3,"★★★☆","★★★★")))) -> ☆☆☆☆
F26: 18 | I26: 古文を読む | J26: =正答数入力!V5 -> 3 | K26: =IF($B$3="","",INDEX(正答数入力!$V$6:$V$341,MATCH(個票!$B$3,正答数入力!$DV$6:$DV$341,0))) | L26: =IF(OR(K26="",K26=0),"☆☆☆",IF(K26=1,"★☆☆",IF(K26=2,"★★☆","★★★"))) -> ☆☆☆ | N26: 欧米の進出と日本の開国 | O26: =正答数入力!AU5 -> 4 | P26: =IF($B$3="","",INDEX(正答数入力!$AU$6:$AU$341,MATCH(個票!$B$3,正答数入力!$DV$6:$DV$341,0))) | Q26: =IF(OR(P26="",P26=0),"☆☆☆☆",IF(P26=1,"★☆☆☆",IF(P26=2,"★★☆☆",IF(P26=3,"★★★☆","★★★★")))) -> ☆☆☆☆ | S26: 平行四辺形 | T26: =正答数入力!BT5 -> 4 | U26: =IF($B$3="","",INDEX(正答数入力!$BT$6:$BT$341,MATCH(個票!$B$3,正答数入力!$DV$6:$DV$341,0))) | V26: =IF(OR(U26="",U26=0),"☆☆☆☆",IF(U26=1,"★☆☆☆",IF(U26=2,"★★☆☆",IF(U26=3,"★★★☆","★★★★")))) -> ☆☆☆☆ | X26: 電流のはたらき | Y26: =正答数入力!CS5 -> 4 | Z26: =IF($B$3="","",INDEX(正答数入力!$CS$6:$CS$341,MATCH(個票!$B$3,正答数入力!$DV$6:$DV$341,0))) | AA26: =IF(OR(Z26="",Z26=0),"☆☆☆☆",IF(Z26=1,"★☆☆☆",IF(Z26=2,"★★☆☆",IF(Z26=3,"★★★☆","★★★★")))) -> ☆☆☆☆ | AC26: 比較の文⑴ | AD26: =正答数入力!DR5 -> 4 | AE26: =IF($B$3="","",INDEX(正答数入力!$DR$6:$DR$341,MATCH(個票!$B$3,正答数入力!$DV$6:$DV$341,0))) | AF26: =IF(OR(AE26="",AE26=0),"☆☆☆☆",IF(AE26=1,"★☆☆☆",IF(AE26=2,"★★☆☆",IF(AE26=3,"★★★☆","★★★★")))) -> ☆☆☆☆
F27: 19 | I27: 漢詩・漢文を読む | J27: =正答数入力!W5 -> 3 | K27: =IF($B$3="","",INDEX(正答数入力!$W$6:$W$341,MATCH(個票!$B$3,正答数入力!$DV$6:$DV$341,0))) | L27: =IF(OR(K27="",K27=0),"☆☆☆",IF(K27=1,"★☆☆",IF(K27=2,"★★☆","★★★"))) -> ☆☆☆ | N27: 近代日本の歩み | O27: =正答数入力!AV5 -> 4 | P27: =IF($B$3="","",INDEX(正答数入力!$AV$6:$AV$341,MATCH(個票!$B$3,正答数入力!$DV$6:$DV$341,0))) | Q27: =IF(OR(P27="",P27=0),"☆☆☆☆",IF(P27=1,"★☆☆☆",IF(P27=2,"★★☆☆",IF(P27=3,"★★★☆","★★★★")))) -> ☆☆☆☆ | S27: 確率 | T27: =正答数入力!BU5 -> 4 | U27: =IF($B$3="","",INDEX(正答数入力!$BU$6:$BU$341,MATCH(個票!$B$3,正答数入力!$DV$6:$DV$341,0))) | V27: =IF(OR(U27="",U27=0),"☆☆☆☆",IF(U27=1,"★☆☆☆",IF(U27=2,"★★☆☆",IF(U27=3,"★★★☆","★★★★")))) -> ☆☆☆☆ | X27: 気象観測，大気中の水蒸気 | Y27: =正答数入力!CT5 -> 4 | Z27: =IF($B$3="","",INDEX(正答数入力!$CT$6:$CT$341,MATCH(個票!$B$3,正答数入力!$DV$6:$DV$341,0))) | AA27: =IF(OR(Z27="",Z27=0),"☆☆☆☆",IF(Z27=1,"★☆☆☆",IF(Z27=2,"★★☆☆",IF(Z27=3,"★★★☆","★★★★")))) -> ☆☆☆☆ | AC27: 比較の文⑵ | AD27: =正答数入力!DS5 -> 4 | AE27: =IF($B$3="","",INDEX(正答数入力!$DS$6:$DS$341,MATCH(個票!$B$3,正答数入力!$DV$6:$DV$341,0))) | AF27: =IF(OR(AE27="",AE27=0),"☆☆☆☆",IF(AE27=1,"★☆☆☆",IF(AE27=2,"★★☆☆",IF(AE27=3,"★★★☆","★★★★")))) -> ☆☆☆☆
F28: 20 | I28: 古典を含む文章を読む | J28: =正答数入力!X5 -> 3 | K28: =IF($B$3="","",INDEX(正答数入力!$X$6:$X$341,MATCH(個票!$B$3,正答数入力!$DV$6:$DV$341,0))) | L28: =IF(OR(K28="",K28=0),"☆☆☆",IF(K28=1,"★☆☆",IF(K28=2,"★★☆","★★★"))) -> ☆☆☆ | N28: 近代までの文化にみる歴史の流れ | O28: =正答数入力!AW5 -> 4 | P28: =IF($B$3="","",INDEX(正答数入力!$AW$6:$AW$341,MATCH(個票!$B$3,正答数入力!$DV$6:$DV$341,0))) | Q28: =IF(OR(P28="",P28=0),"☆☆☆☆",IF(P28=1,"★☆☆☆",IF(P28=2,"★★☆☆",IF(P28=3,"★★★☆","★★★★")))) -> ☆☆☆☆ | S28: 箱ひげ図とデータの活用 | T28: =正答数入力!BV5 -> 4 | U28: =IF($B$3="","",INDEX(正答数入力!$BV$6:$BV$341,MATCH(個票!$B$3,正答数入力!$DV$6:$DV$341,0))) | V28: =IF(OR(U28="",U28=0),"☆☆☆☆",IF(U28=1,"★☆☆☆",IF(U28=2,"★★☆☆",IF(U28=3,"★★★☆","★★★★")))) -> ☆☆☆☆ | X28: 大気と天気の変化 | Y28: =正答数入力!CU5 -> 4 | Z28: =IF($B$3="","",INDEX(正答数入力!$CU$6:$CU$341,MATCH(個票!$B$3,正答数入力!$DV$6:$DV$341,0))) | AA28: =IF(OR(Z28="",Z28=0),"☆☆☆☆",IF(Z28=1,"★☆☆☆",IF(Z28=2,"★★☆☆",IF(Z28=3,"★★★☆","★★★★")))) -> ☆☆☆☆ | AC28: 会話表現⑴ | AD28: =正答数入力!DT5 -> 4 | AE28: =IF($B$3="","",INDEX(正答数入力!$DT$6:$DT$341,MATCH(個票!$B$3,正答数入力!$DV$6:$DV$341,0))) | AF28: =IF(OR(AE28="",AE28=0),"☆☆☆☆",IF(AE28=1,"★☆☆☆",IF(AE28=2,"★★☆☆",IF(AE28=3,"★★★☆","★★★★")))) -> ☆☆☆☆
I29: 小計 | J29: =SUM(J25:J28) -> 12 | K29: =IF(COUNTBLANK(K25:K28)=4,"",SUM(K25:K28)) | N29: 小計 | O29: =SUM(O25:O28) -> 16 | P29: =IF(COUNTBLANK(P25:P28)=4,"",SUM(P25:P28)) | S29: 小計 | T29: =SUM(T25:T28) -> 16 | U29: =IF(COUNTBLANK(U25:U28)=4,"",SUM(U25:U28)) | X29: 小計 | Y29: =SUM(Y25:Y28) -> 16 | Z29: =IF(COUNTBLANK(Z25:Z28)=4,"",SUM(Z25:Z28)) | AC29: 小計 | AD29: =SUM(AD25:AD28) -> 16 | AE29: =IF(COUNTBLANK(AE25:AE28)=4,"",SUM(AE25:AE28))
I30: 合計 | J30: =SUM(J9,J14,J19,J24,J29) -> 60 | K30: =IF(SUM(K9,K14,K19,K24,K29)=0,"",SUM(K9,K14,K19,K24,K29)) | N30: 合計 | O30: =SUM(O9,O14,O19,O24,O29) -> 80 | P30: =IF(SUM(P9,P14,P19,P24,P29)=0,"",SUM(P9,P14,P19,P24,P29)) | S30: 合計 | T30: =SUM(T9,T14,T19,T24,T29) -> 80 | U30: =IF(SUM(U9,U14,U19,U24,U29)=0,"",SUM(U9,U14,U19,U24,U29)) | X30: 合計 | Y30: =SUM(Y9,Y14,Y19,Y24,Y29) -> 80 | Z30: =IF(SUM(Z9,Z14,Z19,Z24,Z29)=0,"",SUM(Z9,Z14,Z19,Z24,Z29)) | AC30: 合計 | AD30: =SUM(AD9,AD14,AD19,AD24,AD29) -> 80 | AE30: =IF(SUM(AE9,AE14,AE19,AE24,AE29)=0,"",SUM(AE9,AE14,AE19,AE24,AE29))
E31: ３年の学習内容 | F31: 21 | I31: 詩と鑑賞文を読む | N31: 二度の世界大戦と日本 | S31: 乗法公式・因数分解 | X31: 化学変化とイオン | AC31: 受け身の文
B32: =SUM(B33:B40) -> #N/A | F32: 22 | I32: 短歌と鑑賞文を読む | N32: 現代の日本と世界 | S32: 平方根 | X32: 酸・アルカリ，中和と塩 | AC32: 現在完了⑴
B33: =IF($B$5=C33,INDEX(初期設定!E8:E47,MATCH($B$7,生徒名①,0)),0) -> #N/A | C33: =IF(初期設定!E$5="","",初期設定!E$5) | F33: 23 | I33: 俳句と鑑賞文を読む | N33: わたしたちと現代社会 | S33: ２次方程式 | X33: 生物の成長とふえ方 | AC33: 現在完了⑵／現在完了進行形
B34: =IF($B$5=C34,INDEX(初期設定!H8:H47,MATCH($B$7,生徒名②,0)),0) -> #N/A | C34: =IF(初期設定!H$5="","",初期設定!H$5) | F34: 24 | I34: 文の組み立てをまなぶ | N34: 人間の尊重と日本国憲法 | S34: 関数y=ax2 | X34: 遺伝のきまり，進化 | AC34: 不定詞⑵
B35: =IF($B$5=C35,INDEX(初期設定!K8:K47,MATCH($B$7,生徒名③,0)),0) -> #N/A | C35: =IF(初期設定!K$5="","",初期設定!K$5) | F35: 25 | I35: 自立語をまなぶ | N35: 現代の民主政治，国会と内閣 | S35: 相似な図形⑴ | X35: 運動と力 | AC35: 不定詞⑶
B36: =IF($B$5=C36,INDEX(初期設定!N8:N47,MATCH($B$7,生徒名④,0)),0) -> #N/A | C36: =IF(初期設定!N$5="","",初期設定!N$5) | F36: 26 | I36: 付属語をまなぶ | N36: 裁判所，三権分立，地方の政治と自治 | S36: 相似な図形⑵ | X36: 仕事とエネルギー | AC36: 会話表現⑵
B37: =IF($B$5=C37,INDEX(初期設定!Q8:Q47,MATCH($B$7,生徒名⑤,0)),0) -> #N/A | C37: =IF(初期設定!Q$5="","",初期設定!Q$5) | F37: 27 | I37: コミュニケーションをまなぶ | N37: 消費生活，流通と生産，労働と生活 | S37: 円 | X37: 天体の動き | AC37: いろいろな文の構造⑵／特別な疑問文
B38: =IF($B$5=C38,INDEX(初期設定!T8:T47,MATCH($B$7,生徒名⑥,0)),0) -> #N/A | C38: =IF(初期設定!T$5="","",初期設定!T$5) | F38: 28 | I38: 敬語をまなぶ | N38: 市場経済と金融 | S38: 三平方の定理⑴ | X38: 惑星と太陽系 | AC38: 名詞を修飾する分詞
B39: =IF($B$5=C39,INDEX(初期設定!W8:W47,MATCH($B$7,生徒名⑦,0)),0) -> #N/A | C39: =IF(初期設定!W$5="","",初期設定!W$5) | F39: 29 | I39: 作文を書く（テーマ型） | N39: 財政と社会保障，環境保全と経済 | S39: 三平方の定理⑵ | X39: エネルギーの利用／科学技術と人間 | AC39: 関係代名詞⑴
B40: =IF($B$5=C40,INDEX(初期設定!Z8:Z47,MATCH($B$7,生徒名⑧,0)),0) -> #N/A | C40: =IF(初期設定!Z$5="","",初期設定!Z$5) | F40: 30 | I40: 作文を書く（資料型） | N40: 地球社会とわたしたち | S40: 標本調査 | X40: 自然と人間 | AC40: 関係代名詞⑵／仮定法
...
