Workbook
Name 生徒名①: 初期設定!$F$8:$F$47
Name 生徒名②: 初期設定!$I$8:$I$47
Name 生徒名③: 初期設定!$L$8:$L$47
Name 生徒名④: 初期設定!$O$8:$O$47
Name 生徒名⑤: 初期設定!$R$8:$R$47
Name 生徒名⑥: 初期設定!$U$8:$U$47
Name 生徒名⑦: 初期設定!$X$8:$X$47
Name 生徒名⑧: 初期設定!$AA$8:$AA$47

Sheet 使い方
A1: ナビ☆チェック 到達度・課題発見シート
A3: (1) 【初期設定】のシートで，必要事項を記入してください。
B4: ① 学年を入力してください。
B5: ② クラス名を入力してください。
C6: 例1） １組，２組，３組，…
C7: 例2） A組，B組，C組，…
B8: ③ 生徒氏名を入力してください。
A12: (2) 【正答数入力】シートで，点数を入力してください。
B13: ① 実施日を入力してください。
B14: ② 大問（項目）ごとの正答数を入力してください。
B15: ③ 国語以下，社会，数学，理科，英語についても
B16: 正答数入力をしてください。
A21: (3) 【個票】シートの組と生徒名を選択してください。
B22: ※プルダウンメニューから選択してください。
B23: ※未入力のままプリントすると，生徒が自分で
B24: 記入するシートとして使用することもできます。

Sheet 初期設定
A1: 初期設定
A2: ・学年とクラス名を入力してください。
A3: ・各クラスに在籍している生徒名を入力してください。（他のファイルからコピーする際は必ず値貼り付けをしてください）
A5: 学年 | C5: 年 | D5: クラス① | F5: 組 | G5: クラス② | I5: 組 | J5: クラス③ | L5: 組 | M5: クラス④ | O5: 組 | P5: クラス⑤ | R5: 組 | S5: クラス⑥ | U5: 組 | V5: クラス⑦ | X5: 組 | Y5: クラス⑧ | AA5: 組
E7: № | F7: 生徒氏名 | H7: № | I7: 生徒氏名 | K7: № | L7: 生徒氏名 | N7: № | O7: 生徒氏名 | Q7: № | R7: 生徒氏名 | T7: № | U7: 生徒氏名 | W7: № | X7: 生徒氏名 | Z7: № | AA7: 生徒氏名
E8: 1 | H8: 1 | K8: 1 | N8: 1 | Q8: 1 | T8: 1 | W8: 1 | Z8: 1
E9: 2 | H9: 2 | K9: 2 | N9: 2 | Q9: 2 | T9: 2 | W9: 2 | Z9: 2
E10: 3 | H10: 3 | K10: 3 | N10: 3 | Q10: 3 | T10: 3 | W10: 3 | Z10: 3
E11: 4 | H11: 4 | K11: 4 | N11: 4 | Q11: 4 | T11: 4 | W11: 4 | Z11: 4
E12: 5 | H12: 5 | K12: 5 | N12: 5 | Q12: 5 | T12: 5 | W12: 5 | Z12: 5
E13: 6 | H13: 6 | K13: 6 | N13: 6 | Q13: 6 | T13: 6 | W13: 6 | Z13: 6
E14: 7 | H14: 7 | K14: 7 | N14: 7 | Q14: 7 | T14: 7 | W14: 7 | Z14: 7
E15: 8 | H15: 8 | K15: 8 | N15: 8 | Q15: 8 | T15: 8 | W15: 8 | Z15: 8
E16: 9 | H16: 9 | K16: 9 | N16: 9 | Q16: 9 | T16: 9 | W16: 9 | Z16: 9
E17: 10 | H17: 10 | K17: 10 | N17: 10 | Q17: 10 | T17: 10 | W17: 10 | Z17: 10
E18: 11 | H18: 11 | K18: 11 | N18: 11 | Q18: 11 | T18: 11 | W18: 11 | Z18: 11
E19: 12 | H19: 12 | K19: 12 | N19: 12 | Q19: 12 | T19: 12 | W19: 12 | Z19: 12
... E47: 40 | H47: 40 | K47: 40 | N47: 40 | Q47: 40 | T47: 40 | W47: 40 | Z47: 40

Sheet 正答数入力
A1: 国語 | B1: ナビ☆チェック 項目別正答数入力一覧表 国語 | AA1: ナビ☆チェック 項目別正答数入力一覧表 社会 | AZ1: ナビ☆チェック 項目別正答数入力一覧表 数学 | BY1: ナビ☆チェック 項目別正答数入力一覧表 理科 | CX1: ナビ☆チェック 項目別正答数入力一覧表 英語
A2: 社会
A3: 数学 | B3: 国 語 | E3: １回 | G3: 実施日 | I3: ２回 | K3: 実施日 | M3: ３回 | O3: 実施日 | Q3: ４回 | S3: 実施日 | U3: ５回 | W3: 実施日 | Y3: 合計 | AA3: 社 会 | AD3: １回 | AF3: 実施日 | AH3: ２回 | AJ3: 実施日 | AL3: ３回 | AN3: 実施日 | AP3: ４回 | AR3: 実施日 | AT3: ５回 | AV3: 実施日 | AX3: 合計 | AZ3: 数 学 | BC3: １回 | BE3: 実施日 | BG3: ２回 | BI3: 実施日 | BK3: ３回 | BM3: 実施日 | BO3: ４回 | BQ3: 実施日 | BS3: ５回 | BU3: 実施日 | BW3: 合計 | BY3: 理 科 | CB3: １回 | CD3: 実施日 | CF3: ２回 | CH3: 実施日 | CJ3: ３回 | CL3: 実施日 | CN3: ４回 | CP3: 実施日 | CR3: ５回 | CT3: 実施日 | CV3: 合計 | CX3: 英 語 | DA3: １回 | DC3: 実施日 | DE3: ２回 | DG3: 実施日 | DI3: ３回 | DK3: 実施日 | DM3: ４回 | DO3: 実施日 | DQ3: ５回 | DS3: 実施日 | DU3: 合計
A4: 理科 | E4: 項目1 | F4: 項目2 | G4: 項目3 | H4: 項目4 | I4: 項目5 | J4: 項目6 | K4: 項目7 | L4: 項目8 | M4: 項目9 | N4: 項目10 | O4: 項目11 | P4: 項目12 | Q4: 項目13 | R4: 項目14 | S4: 項目15 | T4: 項目16 | U4: 項目17 | V4: 項目18 | W4: 項目19 | X4: 項目20 | AD4: 項目1 | AE4: 項目2 | AF4: 項目3 | AG4: 項目4 | AH4: 項目5 | AI4: 項目6 | AJ4: 項目7 | AK4: 項目8 | AL4: 項目9 | AM4: 項目10 | AN4: 項目11 | AO4: 項目12 | AP4: 項目13 | AQ4: 項目14 | AR4: 項目15 | AS4: 項目16 | AT4: 項目17 | AU4: 項目18 | AV4: 項目19 | AW4: 項目20 | BC4: 項目1 | BD4: 項目2 | BE4: 項目3 | BF4: 項目4 | BG4: 項目5 | BH4: 項目6 | BI4: 項目7 | BJ4: 項目8 | BK4: 項目9 | BL4: 項目10 | BM4: 項目11 | BN4: 項目12 | BO4: 項目13 | BP4: 項目14 | BQ4: 項目15 | BR4: 項目16 | BS4: 項目17 | BT4: 項目18 | BU4: 項目19 | BV4: 項目20 | CB4: 項目1 | CC4: 項目2 | CD4: 項目3 | CE4: 項目4 | CF4: 項目5 | CG4: 項目6 | CH4: 項目7 | CI4: 項目8 | CJ4: 項目9 | CK4: 項目10 | CL4: 項目11 | CM4: 項目12 | CN4: 項目13 | CO4: 項目14 | CP4: 項目15 | CQ4: 項目16 | CR4: 項目17 | CS4: 項目18 | CT4: 項目19 | CU4: 項目20 | DA4: 項目1 | DB4: 項目2 | DC4: 項目3 | DD4: 項目4 | DE4: 項目5 | DF4: 項目6 | DG4: 項目7 | DH4: 項目8 | DI4: 項目9 | DJ4: 項目10 | DK4: 項目11 | DL4: 項目12 | DM4: 項目13 | DN4: 項目14 | DO4: 項目15 | DP4: 項目16 | DQ4: 項目17 | DR4: 項目18 | DS4: 項目19 | DT4: 項目20
A5: 英語 | B5: クラス | C5: 番号 | D5: 名前 | E5: 3 | F5: 3 | G5: 3 | H5: 3 | I5: 3 | J5: 3 | K5: 3 | L5: 3 | M5: 3 | N5: 3 | O5: 3 | P5: 3 | Q5: 3 | R5: 3 | S5: 3 | T5: 3 | U5: 3 | V5: 3 | W5: 3 | X5: 3 | Y5: =SUM(E5:X5) -> 60 | AA5: クラス | AB5: 番号 | AC5: 名前 | AD5: 4 | AE5: 4 | AF5: 4 | AG5: 4 | AH5: 4 | AI5: 4 | AJ5: 4 | AK5: 4 | AL5: 4 | AM5: 4 | AN5: 4 | AO5: 4 | AP5: 4 | AQ5: 4 | AR5: 4 | AS5: 4 | AT5: 4 | AU5: 4 | AV5: 4 | AW5: 4 | AX5: =SUM(AD5:AW5) -> 80 | AZ5: クラス | BA5: 番号 | BB5: 名前 | BC5: 4 | BD5: 4 | BE5: 4 | BF5: 4 | BG5: 4 | BH5: 4 | BI5: 4 | BJ5: 4 | BK5: 4 | BL5: 4 | BM5: 4 | BN5: 4 | BO5: 4 | BP5: 4 | BQ5: 4 | BR5: 4 | BS5: 4 | BT5: 4 | BU5: 4 | BV5: 4 | BW5: =SUM(BC5:BV5) -> 80 | BY5: クラス | BZ5: 番号 | CA5: 名前 | CB5: 4 | CC5: 4 | CD5: 4 | CE5: 4 | CF5: 4 | CG5: 4 | CH5: 4 | CI5: 4 | CJ5: 4 | CK5: 4 | CL5: 4 | CM5: 4 | CN5: 4 | CO5: 4 | CP5: 4 | CQ5: 4 | CR5: 4 | CS5: 4 | CT5: 4 | CU5: 4 | CV5: =SUM(CB5:CU5) -> 80 | CX5: クラス | CY5: 番号 | CZ5: 名前 | DA5: 4 | DB5: 4 | DC5: 4 | DD5: 4 | DE5: 4 | DF5: 4 | DG5: 4 | DH5: 4 | DI5: 4 | DJ5: 4 | DK5: 4 | DL5: 4 | DM5: 4 | DN5: 4 | DO5: 4 | DP5: 4 | DQ5: 4 | DR5: 4 | DS5: 4 | DT5: 4 | DU5: =SUM(DA5:DT5) -> 80
B6: =IF(初期設定!E5="","",初期設定!E5&"組") | C6: =IF(D6="","",COUNTA(D6:D6)) | D6: =IF(初期設定!F8="","",初期設定!F8) | Y6: =IF(COUNT(E6:X6)=0,"",SUM(E6:X6)) | AA6: =$B$6 | AB6: =IF(AC6="","",COUNTA(AC6:AC6)) | AC6: =$D$6 | AX6: =IF(COUNT(AD6:AW6)=0,"",SUM(AD6:AW6)) | AZ6: =$B$6 | BA6: =IF(BB6="","",COUNTA(BB6:BB6)) | BB6: =$D$6 | BW6: =IF(COUNT(BC6:BV6)=0,"",SUM(BC6:BV6)) | BY6: =$B$6 | BZ6: =IF(CA6="","",COUNTA(CA6:CA6)) | CA6: =$D$6 | CV6: =IF(COUNT(CB6:CU6)=0,"",SUM(CB6:CU6)) | CX6: =$B$6 | CY6: =IF(CZ6="","",COUNTA(CZ6:CZ6)) | CZ6: =$D$6 | DU6: =IF(COUNT(DA6:DT6)=0,"",SUM(DA6:DT6)) | DV6: =IF(初期設定!F8="","",初期設定!$E$5&正答数入力!CY6&正答数入力!CZ6)
A7: =IF(B6="","",B6) | C7: =IF(D7="","",COUNTA(D6:D7)) | D7: =IF(初期設定!F9="","",初期設定!F9) | Y7: =IF(COUNT(E7:X7)=0,"",SUM(E7:X7)) | AB7: =IF(AC7="","",COUNTA(AC6:AC7)) | AC7: =$D$7 | AX7: =IF(COUNT(AD7:AW7)=0,"",SUM(AD7:AW7)) | BA7: =IF(BB7="","",COUNTA(BB6:BB7)) | BB7: =$D$7 | BW7: =IF(COUNT(BC7:BV7)=0,"",SUM(BC7:BV7)) | BZ7: =IF(CA7="","",COUNTA(CA6:CA7)) | CA7: =$D$7 | CV7: =IF(COUNT(CB7:CU7)=0,"",SUM(CB7:CU7)) | CY7: =IF(CZ7="","",COUNTA(CZ6:CZ7)) | CZ7: =$D$7 | DU7: =IF(COUNT(DA7:DT7)=0,"",SUM(DA7:DT7)) | DV7: =IF(初期設定!F9="","",初期設定!$E$5&正答数入力!CY7&正答数入力!CZ7)
C8: =IF(D8="","",COUNTA(D6:D8)) | D8: =IF(初期設定!F10="","",初期設定!F10) | Y8: =IF(COUNT(E8:X8)=0,"",SUM(E8:X8)) | AB8: =IF(AC8="","",COUNTA(AC6:AC8)) | AC8: =$D$8 | AX8: =IF(COUNT(AD8:AW8)=0,"",SUM(AD8:AW8)) | BA8: =IF(BB8="","",COUNTA(BB6:BB8)) | BB8: =$D$8 | BW8: =IF(COUNT(BC8:BV8)=0,"",SUM(BC8:BV8)) | BZ8: =IF(CA8="","",COUNTA(CA6:CA8)) | CA8: =$D$8 | CV8: =IF(COUNT(CB8:CU8)=0,"",SUM(CB8:CU8)) | CY8: =IF(CZ8="","",COUNTA(CZ6:CZ8)) | CZ8: =$D$8 | DU8: =IF(COUNT(DA8:DT8)=0,"",SUM(DA8:DT8)) | DV8: =IF(初期設定!F10="","",初期設定!$E$5&正答数入力!CY8&正答数入力!CZ8)
A9: =IF(B48="","",B48) | C9: =IF(D9="","",COUNTA(D6:D9)) | D9: =IF(初期設定!F11="","",初期設定!F11) | Y9: =IF(COUNT(E9:X9)=0,"",SUM(E9:X9)) | AB9: =IF(AC9="","",COUNTA(AC6:AC9)) | AC9: =$D$9 | AX9: =IF(COUNT(AD9:AW9)=0,"",SUM(AD9:AW9)) | BA9: =IF(BB9="","",COUNTA(BB6:BB9)) | BB9: =$D$9 | BW9: =IF(COUNT(BC9:BV9)=0,"",SUM(BC9:BV9)) | BZ9: =IF(CA9="","",COUNTA(CA6:CA9)) | CA9: =$D$9 | CV9: =IF(COUNT(CB9:CU9)=0,"",SUM(CB9:CU9)) | CY9: =IF(CZ9="","",COUNTA(CZ6:CZ9)) | CZ9: =$D$9 | DU9: =IF(COUNT(DA9:DT9)=0,"",SUM(DA9:DT9)) | DV9: =IF(初期設定!F11="","",初期設定!$E$5&正答数入力!CY9&正答数入力!CZ9)
C10: =IF(D10="","",COUNTA(D6:D10)) | D10: =IF(初期設定!F12="","",初期設定!F12) | Y10: =IF(COUNT(E10:X10)=0,"",SUM(E10:X10)) | AB10: =IF(AC10="","",COUNTA(AC6:AC10)) | AC10: =$D$10 | AX10: =IF(COUNT(AD10:AW10)=0,"",SUM(AD10:AW10)) | BA10: =IF(BB10="","",COUNTA(BB6:BB10)) | BB10: =$D$10 | BW10: =IF(COUNT(BC10:BV10)=0,"",SUM(BC10:BV10)) | BZ10: =IF(CA10="","",COUNTA(CA6:CA10)) | CA10: =$D$10 | CV10: =IF(COUNT(CB10:CU10)=0,"",SUM(CB10:CU10)) | CY10: =IF(CZ10="","",COUNTA(CZ6:CZ10)) | CZ10: =$D$10 | DU10: =IF(COUNT(DA10:DT10)=0,"",SUM(DA10:DT10)) | DV10: =IF(初期設定!F12="","",初期設定!$E$5&正答数入力!CY10&正答数入力!CZ10)
A11: =IF(B90="","",B90) | C11: =IF(D11="","",COUNTA(D6:D11)) | D11: =IF(初期設定!F13="","",初期設定!F13) | Y11: =IF(COUNT(E11:X11)=0,"",SUM(E11:X11)) | AB11: =IF(AC11="","",COUNTA(AC6:AC11)) | AC11: =$D$11 | AX11: =IF(COUNT(AD11:AW11)=0,"",SUM(AD11:AW11)) | BA11: =IF(BB11="","",COUNTA(BB6:BB11)) | BB11: =$D$11 | BW11: =IF(COUNT(BC11:BV11)=0,"",SUM(BC11:BV11)) | BZ11: =IF(CA11="","",COUNTA(CA6:CA11)) | CA11: =$D$11 | CV11: =IF(COUNT(CB11:CU11)=0,"",SUM(CB11:CU11)) | CY11: =IF(CZ11="","",COUNTA(CZ6:CZ11)) | CZ11: =$D$11 | DU11: =IF(COUNT(DA11:DT11)=0,"",SUM(DA11:DT11)) | DV11: =IF(初期設定!F13="","",初期設定!$E$5&正答数入力!CY11&正答数入力!CZ11)
C12: =IF(D12="","",COUNTA(D6:D12)) | D12: =IF(初期設定!F14="","",初期設定!F14) | Y12: =IF(COUNT(E12:X12)=0,"",SUM(E12:X12)) | AB12: =IF(AC12="","",COUNTA(AC6:AC12)) | AC12: =$D$12 | AX12: =IF(COUNT(AD12:AW12)=0,"",SUM(AD12:AW12)) | BA12: =IF(BB12="","",COUNTA(BB6:BB12)) | BB12: =$D$12 | BW12: =IF(COUNT(BC12:BV12)=0,"",SUM(BC12:BV12)) | BZ12: =IF(CA12="","",COUNTA(CA6:CA12)) | CA12: =$D$12 | CV12: =IF(COUNT(CB12:CU12)=0,"",SUM(CB12:CU12)) | CY12: =IF(CZ12="","",COUNTA(CZ6:CZ12)) | CZ12: =$D$12 | DU12: =IF(COUNT(DA12:DT12)=0,"",SUM(DA12:DT12)) | DV12: =IF(初期設定!F14="","",初期設定!$E$5&正答数入力!CY12&正答数入力!CZ12)
A13: =IF(B132="","",B132) | C13: =IF(D13="","",COUNTA(D6:D13)) | D13: =IF(初期設定!F15="","",初期設定!F15) | Y13: =IF(COUNT(E13:X13)=0,"",SUM(E13:X13)) | AB13: =IF(AC13="","",COUNTA(AC6:AC13)) | AC13: =$D$13 | AX13: =IF(COUNT(AD13:AW13)=0,"",SUM(AD13:AW13)) | BA13: =IF(BB13="","",COUNTA(BB6:BB13)) | BB13: =$D$13 | BW13: =IF(COUNT(BC13:BV13)=0,"",SUM(BC13:BV13)) | BZ13: =IF(CA13="","",COUNTA(CA6:CA13)) | CA13: =$D$13 | CV13: =IF(COUNT(CB13:CU13)=0,"",SUM(CB13:CU13)) | CY13: =IF(CZ13="","",COUNTA(CZ6:CZ13)) | CZ13: =$D$13 | DU13: =IF(COUNT(DA13:DT13)=0,"",SUM(DA13:DT13)) | DV13: =IF(初期設定!F15="","",初期設定!$E$5&正答数入力!CY13&正答数入力!CZ13)
C14: =IF(D14="","",COUNTA(D6:D14)) | D14: =IF(初期設定!F16="","",初期設定!F16) | Y14: =IF(COUNT(E14:X14)=0,"",SUM(E14:X14)) | AB14: =IF(AC14="","",COUNTA(AC6:AC14)) | AC14: =$D$14 | AX14: =IF(COUNT(AD14:AW14)=0,"",SUM(AD14:AW14)) | BA14: =IF(BB14="","",COUNTA(BB6:BB14)) | BB14: =$D$14 | BW14: =IF(COUNT(BC14:BV14)=0,"",SUM(BC14:BV14)) | BZ14: =IF(CA14="","",COUNTA(CA6:CA14)) | CA14: =$D$14 | CV14: =IF(COUNT(CB14:CU14)=0,"",SUM(CB14:CU14)) | CY14: =IF(CZ14="","",COUNTA(CZ6:CZ14)) | CZ14: =$D$14 | DU14: =IF(COUNT(DA14:DT14)=0,"",SUM(DA14:DT14)) | DV14: =IF(初期設定!F16="","",初期設定!$E$5&正答数入力!CY14&正答数入力!CZ14)
A15: =IF(B174="","",B174) | C15: =IF(D15="","",COUNTA(D6:D15)) | D15: =IF(初期設定!F17="","",初期設定!F17) | Y15: =IF(COUNT(E15:X15)=0,"",SUM(E15:X15)) | AB15: =IF(AC15="","",COUNTA(AC6:AC15)) | AC15: =$D$15 | AX15: =IF(COUNT(AD15:AW15)=0,"",SUM(AD15:AW15)) | BA15: =IF(BB15="","",COUNTA(BB6:BB15)) | BB15: =$D$15 | BW15: =IF(COUNT(BC15:BV15)=0,"",SUM(BC15:BV15)) | BZ15: =IF(CA15="","",COUNTA(CA6:CA15)) | CA15: =$D$15 | CV15: =IF(COUNT(CB15:CU15)=0,"",SUM(CB15:CU15)) | CY15: =IF(CZ15="","",COUNTA(CZ6:CZ15)) | CZ15: =$D$15 | DU15: =IF(COUNT(DA15:DT15)=0,"",SUM(DA15:DT15)) | DV15: =IF(初期設定!F17="","",初期設定!$E$5&正答数入力!CY15&正答数入力!CZ15)
C16: =IF(D16="","",COUNTA(D6:D16)) | D16: =IF(初期設定!F18="","",初期設定!F18) | Y16: =IF(COUNT(E16:X16)=0,"",SUM(E16:X16)) | AB16: =IF(AC16="","",COUNTA(AC6:AC16)) | AC16: =$D$16 | AX16: =IF(COUNT(AD16:AW16)=0,"",SUM(AD16:AW16)) | BA16: =IF(BB16="","",COUNTA(BB6:BB16)) | BB16: =$D$16 | BW16: =IF(COUNT(BC16:BV16)=0,"",SUM(BC16:BV16)) | BZ16: =IF(CA16="","",COUNTA(CA6:CA16)) | CA16: =$D$16 | CV16: =IF(COUNT(CB16:CU16)=0,"",SUM(CB16:CU16)) | CY16: =IF(CZ16="","",COUNTA(CZ6:CZ16)) | CZ16: =$D$16 | DU16: =IF(COUNT(DA16:DT16)=0,"",SUM(DA16:DT16)) | DV16: =IF(初期設定!F18="","",初期設定!$E$5&正答数入力!CY16&正答数入力!CZ16)
A17: =IF(B216="","",B216) | C17: =IF(D17="","",COUNTA(D6:D17)) | D17: =IF(初期設定!F19="","",初期設定!F19) | Y17: =IF(COUNT(E17:X17)=0,"",SUM(E17:X17)) | AB17: =IF(AC17="","",COUNTA(AC6:AC17)) | AC17: =$D$17 | AX17: =IF(COUNT(AD17:AW17)=0,"",SUM(AD17:AW17)) | BA17: =IF(BB17="","",COUNTA(BB6:BB17)) | BB17: =$D$17 | BW17: =IF(COUNT(BC17:BV17)=0,"",SUM(BC17:BV17)) | BZ17: =IF(CA17="","",COUNTA(CA6:CA17)) | CA17: =$D$17 | CV17: =IF(COUNT(CB17:CU17)=0,"",SUM(CB17:CU17)) | CY17: =IF(CZ17="","",COUNTA(CZ6:CZ17)) | CZ17: =$D$17 | DU17: =IF(COUNT(DA17:DT17)=0,"",SUM(DA17:DT17)) | DV17: =IF(初期設定!F19="","",初期設定!$E$5&正答数入力!CY17&正答数入力!CZ17)
C18: =IF(D18="","",COUNTA(D6:D18)) | D18: =IF(初期設定!F20="","",初期設定!F20) | Y18: =IF(COUNT(E18:X18)=0,"",SUM(E18:X18)) | AB18: =IF(AC18="","",COUNTA(AC6:AC18)) | AC18: =$D$18 | AX18: =IF(COUNT(AD18:AW18)=0,"",SUM(AD18:AW18)) | BA18: =IF(BB18="","",COUNTA(BB6:BB18)) | BB18: =$D$18 | BW18: =IF(COUNT(BC18:BV18)=0,"",SUM(BC18:BV18)) | BZ18: =IF(CA18="","",COUNTA(CA6:CA18)) | CA18: =$D$18 | CV18: =IF(COUNT(CB18:CU18)=0,"",SUM(CB18:CU18)) | CY18: =IF(CZ18="","",COUNTA(CZ6:CZ18)) | CZ18: =$D$18 | DU18: =IF(COUNT(DA18:DT18)=0,"",SUM(DA18:DT18)) | DV18: =IF(初期設定!F20="","",初期設定!$E$5&正答数入力!CY18&正答数入力!CZ18)
A19: =IF(B258="","",B258) | C19: =IF(D19="","",COUNTA(D6:D19)) | D19: =IF(初期設定!F21="","",初期設定!F21) | Y19: =IF(COUNT(E19:X19)=0,"",SUM(E19:X19)) | AB19: =IF(AC19="","",COUNTA(AC6:AC19)) | AC19: =$D$19 | AX19: =IF(COUNT(AD19:AW19)=0,"",SUM(AD19:AW19)) | BA19: =IF(BB19="","",COUNTA(BB6:BB19)) | BB19: =$D$19 | BW19: =IF(COUNT(BC19:BV19)=0,"",SUM(BC19:BV19)) | BZ19: =IF(CA19="","",COUNTA(CA6:CA19)) | CA19: =$D$19 | CV19: =IF(COUNT(CB19:CU19)=0,"",SUM(CB19:CU19)) | CY19: =IF(CZ19="","",COUNTA(CZ6:CZ19)) | CZ19: =$D$19 | DU19: =IF(COUNT(DA19:DT19)=0,"",SUM(DA19:DT19)) | DV19: =IF(初期設定!F21="","",初期設定!$E$5&正答数入力!CY19&正答数入力!CZ19)
C20: =IF(D20="","",COUNTA(D6:D20)) | D20: =IF(初期設定!F22="","",初期設定!F22) | Y20: =IF(COUNT(E20:X20)=0,"",SUM(E20:X20)) | AB20: =IF(AC20="","",COUNTA(AC6:AC20)) | AC20: =$D$20 | AX20: =IF(COUNT(AD20:AW20)=0,"",SUM(AD20:AW20)) | BA20: =IF(BB20="","",COUNTA(BB6:BB20)) | BB20: =$D$20 | BW20: =IF(COUNT(BC20:BV20)=0,"",SUM(BC20:BV20)) | BZ20: =IF(CA20="","",COUNTA(CA6:CA20)) | CA20: =$D$20 | CV20: =IF(COUNT(CB20:CU20)=0,"",SUM(CB20:CU20)) | CY20: =IF(CZ20="","",COUNTA(CZ6:CZ20)) | CZ20: =$D$20 | DU20: =IF(COUNT(DA20:DT20)=0,"",SUM(DA20:DT20)) | DV20: =IF(初期設定!F22="","",初期設定!$E$5&正答数入力!CY20&正答数入力!CZ20)
A21: =IF(B300="","",B300) | C21: =IF(D21="","",COUNTA(D6:D21)) | D21: =IF(初期設定!F23="","",初期設定!F23) | Y21: =IF(COUNT(E21:X21)=0,"",SUM(E21:X21)) | AB21: =IF(AC21="","",COUNTA(AC6:AC21)) | AC21: =$D$21 | AX21: =IF(COUNT(AD21:AW21)=0,"",SUM(AD21:AW21)) | BA21: =IF(BB21="","",COUNTA(BB6:BB21)) | BB21: =$D$21 | BW21: =IF(COUNT(BC21:BV21)=0,"",SUM(BC21:BV21)) | BZ21: =IF(CA21="","",COUNTA(CA6:CA21)) | CA21: =$D$21 | CV21: =IF(COUNT(CB21:CU21)=0,"",SUM(CB21:CU21)) | CY21: =IF(CZ21="","",COUNTA(CZ6:CZ21)) | CZ21: =$D$21 | DU21: =IF(COUNT(DA21:DT21)=0,"",SUM(DA21:DT21)) | DV21: =IF(初期設定!F23="","",初期設定!$E$5&正答数入力!CY21&正答数入力!CZ21)
C22: =IF(D22="","",COUNTA(D6:D22)) | D22: =IF(初期設定!F24="","",初期設定!F24) | Y22: =IF(COUNT(E22:X22)=0,"",SUM(E22:X22)) | AB22: =IF(AC22="","",COUNTA(AC6:AC22)) | AC22: =$D$22 | AX22: =IF(COUNT(AD22:AW22)=0,"",SUM(AD22:AW22)) | BA22: =IF(BB22="","",COUNTA(BB6:BB22)) | BB22: =$D$22 | BW22: =IF(COUNT(BC22:BV22)=0,"",SUM(BC22:BV22)) | BZ22: =IF(CA22="","",COUNTA(CA6:CA22)) | CA22: =$D$22 | CV22: =IF(COUNT(CB22:CU22)=0,"",SUM(CB22:CU22)) | CY22: =IF(CZ22="","",COUNTA(CZ6:CZ22)) | CZ22: =$D$22 | DU22: =IF(COUNT(DA22:DT22)=0,"",SUM(DA22:DT22)) | DV22: =IF(初期設定!F24="","",初期設定!$E$5&正答数入力!CY22&正答数入力!CZ22)
C23: =IF(D23="","",COUNTA(D6:D23)) | D23: =IF(初期設定!F25="","",初期設定!F25) | Y23: =IF(COUNT(E23:X23)=0,"",SUM(E23:X23)) | AB23: =IF(AC23="","",COUNTA(AC6:AC23)) | AC23: =$D$23 | AX23: =IF(COUNT(AD23:AW23)=0,"",SUM(AD23:AW23)) | BA23: =IF(BB23="","",COUNTA(BB6:BB23)) | BB23: =$D$23 | BW23: =IF(COUNT(BC23:BV23)=0,"",SUM(BC23:BV23)) | BZ23: =IF(CA23="","",COUNTA(CA6:CA23)) | CA23: =$D$23 | CV23: =IF(COUNT(CB23:CU23)=0,"",SUM(CB23:CU23)) | CY23: =IF(CZ23="","",COUNTA(CZ6:CZ23)) | CZ23: =$D$23 | DU23: =IF(COUNT(DA23:DT23)=0,"",SUM(DA23:DT23)) | DV23: =IF(初期設定!F25="","",初期設定!$E$5&正答数入力!CY23&正答数入力!CZ23)
C24: =IF(D24="","",COUNTA(D6:D24)) | D24: =IF(初期設定!F26="","",初期設定!F26) | Y24: =IF(COUNT(E24:X24)=0,"",SUM(E24:X24)) | AB24: =IF(AC24="","",COUNTA(AC6:AC24)) | AC24: =$D$24 | AX24: =IF(COUNT(AD24:AW24)=0,"",SUM(AD24:AW24)) | BA24: =IF(BB24="","",COUNTA(BB6:BB24)) | BB24: =$D$24 | BW24: =IF(COUNT(BC24:BV24)=0,"",SUM(BC24:BV24)) | BZ24: =IF(CA24="","",COUNTA(CA6:CA24)) | CA24: =$D$24 | CV24: =IF(COUNT(CB24:CU24)=0,"",SUM(CB24:CU24)) | CY24: =IF(CZ24="","",COUNTA(CZ6:CZ24)) | CZ24: =$D$24 | DU24: =IF(COUNT(DA24:DT24)=0,"",SUM(DA24:DT24)) | DV24: =IF(初期設定!F26="","",初期設定!$E$5&正答数入力!CY24&正答数入力!CZ24)
C25: =IF(D25="","",COUNTA(D6:D25)) | D25: =IF(初期設定!F27="","",初期設定!F27) | Y25: =IF(COUNT(E25:X25)=0,"",SUM(E25:X25)) | AB25: =IF(AC25="","",COUNTA(AC6:AC25)) | AC25: =$D$25 | AX25: =IF(COUNT(AD25:AW25)=0,"",SUM(AD25:AW25)) | BA25: =IF(BB25="","",COUNTA(BB6:BB25)) | BB25: =$D$25 | BW25: =IF(COUNT(BC25:BV25)=0,"",SUM(BC25:BV25)) | BZ25: =IF(CA25="","",COUNTA(CA6:CA25)) | CA25: =$D$25 | CV25: =IF(COUNT(CB25:CU25)=0,"",SUM(CB25:CU25)) | CY25: =IF(CZ25="","",COUNTA(CZ6:CZ25)) | CZ25: =$D$25 | DU25: =IF(COUNT(DA25:DT25)=0,"",SUM(DA25:DT25)) | DV25: =IF(初期設定!F27="","",初期設定!$E$5&正答数入力!CY25&正答数入力!CZ25)
C26: =IF(D26="","",COUNTA(D6:D26)) | D26: =IF(初期設定!F28="","",初期設定!F28) | Y26: =IF(COUNT(E26:X26)=0,"",SUM(E26:X26)) | AB26: =IF(AC26="","",COUNTA(AC6:AC26)) | AC26: =$D$26 | AX26: =IF(COUNT(AD26:AW26)=0,"",SUM(AD26:AW26)) | BA26: =IF(BB26="","",COUNTA(BB6:BB26)) | BB26: =$D$26 | BW26: =IF(COUNT(BC26:BV26)=0,"",SUM(BC26:BV26)) | BZ26: =IF(CA26="","",COUNTA(CA6:CA26)) | CA26: =$D$26 | CV26: =IF(COUNT(CB26:CU26)=0,"",SUM(CB26:CU26)) | CY26: =IF(CZ26="","",COUNTA(CZ6:CZ26)) | CZ26: =$D$26 | DU26: =IF(COUNT(DA26:DT26)=0,"",SUM(DA26:DT26)) | DV26: =IF(初期設定!F28="","",初期設定!$E$5&正答数入力!CY26&正答数入力!CZ26)
C27: =IF(D27="","",COUNTA(D6:D27)) | D27: =IF(初期設定!F29="","",初期設定!F29) | Y27: =IF(COUNT(E27:X27)=0,"",SUM(E27:X27)) | AB27: =IF(AC27="","",COUNTA(AC6:AC27)) | AC27: =$D$27 | AX27: =IF(COUNT(AD27:AW27)=0,"",SUM(AD27:AW27)) | BA27: =IF(BB27="","",COUNTA(BB6:BB27)) | BB27: =$D$27 | BW27: =IF(COUNT(BC27:BV27)=0,"",SUM(BC27:BV27)) | BZ27: =IF(CA27="","",COUNTA(CA6:CA27)) | CA27: =$D$27 | CV27: =IF(COUNT(CB27:CU27)=0,"",SUM(CB27:CU27)) | CY27: =IF(CZ27="","",COUNTA(CZ6:CZ27)) | CZ27: =$D$27 | DU27: =IF(COUNT(DA27:DT27)=0,"",SUM(DA27:DT27)) | DV27: =IF(初期設定!F29="","",初期設定!$E$5&正答数入力!CY27&正答数入力!CZ27)
C28: =IF(D28="","",COUNTA(D6:D28)) | D28: =IF(初期設定!F30="","",初期設定!F30) | Y28: =IF(COUNT(E28:X28)=0,"",SUM(E28:X28)) | AB28: =IF(AC28="","",COUNTA(AC6:AC28)) | AC28: =$D$28 | AX28: =IF(COUNT(AD28:AW28)=0,"",SUM(AD28:AW28)) | BA28: =IF(BB28="","",COUNTA(BB6:BB28)) | BB28: =$D$28 | BW28: =IF(COUNT(BC28:BV28)=0,"",SUM(BC28:BV28)) | BZ28: =IF(CA28="","",COUNTA(CA6:CA28)) | CA28: =$D$28 | CV28: =IF(COUNT(CB28:CU28)=0,"",SUM(CB28:CU28)) | CY28: =IF(CZ28="","",COUNTA(CZ6:CZ28)) | CZ28: =$D$28 | DU28: =IF(COUNT(DA28:DT28)=0,"",SUM(DA28:DT28)) | DV28: =IF(初期設定!F30="","",初期設定!$E$5&正答数入力!CY28&正答数入力!CZ28)
C29: =IF(D29="","",COUNTA(D6:D29)) | D29: =IF(初期設定!F31="","",初期設定!F31) | Y29: =IF(COUNT(E29:X29)=0,"",SUM(E29:X29)) | AB29: =IF(AC29="","",COUNTA(AC6:AC29)) | AC29: =$D$29 | AX29: =IF(COUNT(AD29:AW29)=0,"",SUM(AD29:AW29)) | BA29: =IF(BB29="","",COUNTA(BB6:BB29)) | BB29: =$D$29 | BW29: =IF(COUNT(BC29:BV29)=0,"",SUM(BC29:BV29)) | BZ29: =IF(CA29="","",COUNTA(CA6:CA29)) | CA29: =$D$29 | CV29: =IF(COUNT(CB29:CU29)=0,"",SUM(CB29:CU29)) | CY29: =IF(CZ29="","",COUNTA(CZ6:CZ29)) | CZ29: =$D$29 | DU29: =IF(COUNT(DA29:DT29)=0,"",SUM(DA29:DT29)) | DV29: =IF(初期設定!F31="","",初期設定!$E$5&正答数入力!CY29&正答数入力!CZ29)
C30: =IF(D30="","",COUNTA(D6:D30)) | D30: =IF(初期設定!F32="","",初期設定!F32) | Y30: =IF(COUNT(E30:X30)=0,"",SUM(E30:X30)) | AB30: =IF(AC30="","",COUNTA(AC6:AC30)) | AC30: =$D$30 | AX30: =IF(COUNT(AD30:AW30)=0,"",SUM(AD30:AW30)) | BA30: =IF(BB30="","",COUNTA(BB6:BB30)) | BB30: =$D$30 | BW30: =IF(COUNT(BC30:BV30)=0,"",SUM(BC30:BV30)) | BZ30: =IF(CA30="","",COUNTA(CA6:CA30)) | CA30: =$D$30 | CV30: =IF(COUNT(CB30:CU30)=0,"",SUM(CB30:CU30)) | CY30: =IF(CZ30="","",COUNTA(CZ6:CZ30)) | CZ30: =$D$30 | DU30: =IF(COUNT(DA30:DT30)=0,"",SUM(DA30:DT30)) | DV30: =IF(初期設定!F32="","",初期設定!$E$5&正答数入力!CY30&正答数入力!CZ30)
C31: =IF(D31="","",COUNTA(D6:D31)) | D31: =IF(初期設定!F33="","",初期設定!F33) | Y31: =IF(COUNT(E31:X31)=0,"",SUM(E31:X31)) | AB31: =IF(AC31="","",COUNTA(AC6:AC31)) | AC31: =$D$31 | AX31: =IF(COUNT(AD31:AW31)=0,"",SUM(AD31:AW31)) | BA31: =IF(BB31="","",COUNTA(BB6:BB31)) | BB31: =$D$31 | BW31: =IF(COUNT(BC31:BV31)=0,"",SUM(BC31:BV31)) | BZ31: =IF(CA31="","",COUNTA(CA6:CA31)) | CA31: =$D$31 | CV31: =IF(COUNT(CB31:CU31)=0,"",SUM(CB31:CU31)) | CY31: =IF(CZ31="","",COUNTA(CZ6:CZ31)) | CZ31: =$D$31 | DU31: =IF(COUNT(DA31:DT31)=0,"",SUM(DA31:DT31)) | DV31: =IF(初期設定!F33="","",初期設定!$E$5&正答数入力!CY31&正答数入力!CZ31)
C32: =IF(D32="","",COUNTA(D6:D32)) | D32: =IF(初期設定!F34="","",初期設定!F34) | Y32: =IF(COUNT(E32:X32)=0,"",SUM(E32:X32)) | AB32: =IF(AC32="","",COUNTA(AC6:AC32)) | AC32: =$D$32 | AX32: =IF(COUNT(AD32:AW32)=0,"",SUM(AD32:AW32)) | BA32: =IF(BB32="","",COUNTA(BB6:BB32)) | BB32: =$D$32 | BW32: =IF(COUNT(BC32:BV32)=0,"",SUM(BC32:BV32)) | BZ32: =IF(CA32="","",COUNTA(CA6:CA32)) | CA32: =$D$32 | CV32: =IF(COUNT(CB32:CU32)=0,"",SUM(CB32:CU32)) | CY32: =IF(CZ32="","",COUNTA(CZ6:CZ32)) | CZ32: =$D$32 | DU32: =IF(COUNT(DA32:DT32)=0,"",SUM(DA32:DT32)) | DV32: =IF(初期設定!F34="","",初期設定!$E$5&正答数入力!CY32&正答数入力!CZ32)
C33: =IF(D33="","",COUNTA(D6:D33)) | D33: =IF(初期設定!F35="","",初期設定!F35) | Y33: =IF(COUNT(E33:X33)=0,"",SUM(E33:X33)) | AB33: =IF(AC33="","",COUNTA(AC6:AC33)) | AC33: =$D$33 | AX33: =IF(COUNT(AD33:AW33)=0,"",SUM(AD33:AW33)) | BA33: =IF(BB33="","",COUNTA(BB6:BB33)) | BB33: =$D$33 | BW33: =IF(COUNT(BC33:BV33)=0,"",SUM(BC33:BV33)) | BZ33: =IF(CA33="","",COUNTA(CA6:CA33)) | CA33: =$D$33 | CV33: =IF(COUNT(CB33:CU33)=0,"",SUM(CB33:CU33)) | CY33: =IF(CZ33="","",COUNTA(CZ6:CZ33)) | CZ33: =$D$33 | DU33: =IF(COUNT(DA33:DT33)=0,"",SUM(DA33:DT33)) | DV33: =IF(初期設定!F35="","",初期設定!$E$5&正答数入力!CY33&正答数入力!CZ33)
C34: =IF(D34="","",COUNTA(D6:D34)) | D34: =IF(初期設定!F36="","",初期設定!F36) | Y34: =IF(COUNT(E34:X34)=0,"",SUM(E34:X34)) | AB34: =IF(AC34="","",COUNTA(AC6:AC34)) | AC34: =$D$34 | AX34: =IF(COUNT(AD34:AW34)=0,"",SUM(AD34:AW34)) | BA34: =IF(BB34="","",COUNTA(BB6:BB34)) | BB34: =$D$34 | BW34: =IF(COUNT(BC34:BV34)=0,"",SUM(BC34:BV34)) | BZ34: =IF(CA34="","",COUNTA(CA6:CA34)) | CA34: =$D$34 | CV34: =IF(COUNT(CB34:CU34)=0,"",SUM(CB34:CU34)) | CY34: =IF(CZ34="","",COUNTA(CZ6:CZ34)) | CZ34: =$D$34 | DU34: =IF(COUNT(DA34:DT34)=0,"",SUM(DA34:DT34)) | DV34: =IF(初期設定!F36="","",初期設定!$E$5&正答数入力!CY34&正答数入力!CZ34)
C35: =IF(D35="","",COUNTA(D6:D35)) | D35: =IF(初期設定!F37="","",初期設定!F37) | Y35: =IF(COUNT(E35:X35)=0,"",SUM(E35:X35)) | AB35: =IF(AC35="","",COUNTA(AC6:AC35)) | AC35: =$D$35 | AX35: =IF(COUNT(AD35:AW35)=0,"",SUM(AD35:AW35)) | BA35: =IF(BB35="","",COUNTA(BB6:BB35)) | BB35: =$D$35 | BW35: =IF(COUNT(BC35:BV35)=0,"",SUM(BC35:BV35)) | BZ35: =IF(CA35="","",COUNTA(CA6:CA35)) | CA35: =$D$35 | CV35: =IF(COUNT(CB35:CU35)=0,"",SUM(CB35:CU35)) | CY35: =IF(CZ35="","",COUNTA(CZ6:CZ35)) | CZ35: =$D$35 | DU35: =IF(COUNT(DA35:DT35)=0,"",SUM(DA35:DT35)) | DV35: =IF(初期設定!F37="","",初期設定!$E$5&正答数入力!CY35&正答数入力!CZ35)
C36: =IF(D36="","",COUNTA(D6:D36)) | D36: =IF(初期設定!F38="","",初期設定!F38) | Y36: =IF(COUNT(E36:X36)=0,"",SUM(E36:X36)) | AB36: =IF(AC36="","",COUNTA(AC6:AC36)) | AC36: =$D$36 | AX36: =IF(COUNT(AD36:AW36)=0,"",SUM(AD36:AW36)) | BA36: =IF(BB36="","",COUNTA(BB6:BB36)) | BB36: =$D$36 | BW36: =IF(COUNT(BC36:BV36)=0,"",SUM(BC36:BV36)) | BZ36: =IF(CA36="","",COUNTA(CA6:CA36)) | CA36: =$D$36 | CV36: =IF(COUNT(CB36:CU36)=0,"",SUM(CB36:CU36)) | CY36: =IF(CZ36="","",COUNTA(CZ6:CZ36)) | CZ36: =$D$36 | DU36: =IF(COUNT(DA36:DT36)=0,"",SUM(DA36:DT36)) | DV36: =IF(初期設定!F38="","",初期設定!$E$5&正答数入力!CY36&正答数入力!CZ36)
C37: =IF(D37="","",COUNTA(D6:D37)) | D37: =IF(初期設定!F39="","",初期設定!F39) | Y37: =IF(COUNT(E37:X37)=0,"",SUM(E37:X37)) | AB37: =IF(AC37="","",COUNTA(AC6:AC37)) | AC37: =$D$37 | AX37: =IF(COUNT(AD37:AW37)=0,"",SUM(AD37:AW37)) | BA37: =IF(BB37="","",COUNTA(BB6:BB37)) | BB37: =$D$37 | BW37: =IF(COUNT(BC37:BV37)=0,"",SUM(BC37:BV37)) | BZ37: =IF(CA37="","",COUNTA(CA6:CA37)) | CA37: =$D$37 | CV37: =IF(COUNT(CB37:CU37)=0,"",SUM(CB37:CU37)) | CY37: =IF(CZ37="","",COUNTA(CZ6:CZ37)) | CZ37: =$D$37 | DU37: =IF(COUNT(DA37:DT37)=0,"",SUM(DA37:DT37)) | DV37: =IF(初期設定!F39="","",初期設定!$E$5&正答数入力!CY37&正答数入力!CZ37)
C38: =IF(D38="","",COUNTA(D6:D38)) | D38: =IF(初期設定!F40="","",初期設定!F40) | Y38: =IF(COUNT(E38:X38)=0,"",SUM(E38:X38)) | AB38: =IF(AC38="","",COUNTA(AC6:AC38)) | AC38: =$D$38 | AX38: =IF(COUNT(AD38:AW38)=0,"",SUM(AD38:AW38)) | BA38: =IF(BB38="","",COUNTA(BB6:BB38)) | BB38: =$D$38 | BW38: =IF(COUNT(BC38:BV38)=0,"",SUM(BC38:BV38)) | BZ38: =IF(CA38="","",COUNTA(CA6:CA38)) | CA38: =$D$38 | CV38: =IF(COUNT(CB38:CU38)=0,"",SUM(CB38:CU38)) | CY38: =IF(CZ38="","",COUNTA(CZ6:CZ38)) | CZ38: =$D$38 | DU38: =IF(COUNT(DA38:DT38)=0,"",SUM(DA38:DT38)) | DV38: =IF(初期設定!F40="","",初期設定!$E$5&正答数入力!CY38&正答数入力!CZ38)
C39: =IF(D39="","",COUNTA(D6:D39)) | D39: =IF(初期設定!F41="","",初期設定!F41) | Y39: =IF(COUNT(E39:X39)=0,"",SUM(E39:X39)) | AB39: =IF(AC39="","",COUNTA(AC6:AC39)) | AC39: =$D$39 | AX39: =IF(COUNT(AD39:AW39)=0,"",SUM(AD39:AW39)) | BA39: =IF(BB39="","",COUNTA(BB6:BB39)) | BB39: =$D$39 | BW39: =IF(COUNT(BC39:BV39)=0,"",SUM(BC39:BV39)) | BZ39: =IF(CA39="","",COUNTA(CA6:CA39)) | CA39: =$D$39 | CV39: =IF(COUNT(CB39:CU39)=0,"",SUM(CB39:CU39)) | CY39: =IF(CZ39="","",COUNTA(CZ6:CZ39)) | CZ39: =$D$39 | DU39: =IF(COUNT(DA39:DT39)=0,"",SUM(DA39:DT39)) | DV39: =IF(初期設定!F41="","",初期設定!$E$5&正答数入力!CY39&正答数入力!CZ39)
C40: =IF(D40="","",COUNTA(D6:D40)) | D40: =IF(初期設定!F42="","",初期設定!F42) | Y40: =IF(COUNT(E40:X40)=0,"",SUM(E40:X40)) | AB40: =IF(AC40="","",COUNTA(AC6:AC40)) | AC40: =$D$40 | AX40: =IF(COUNT(AD40:AW40)=0,"",SUM(AD40:AW40)) | BA40: =IF(BB40="","",COUNTA(BB6:BB40)) | BB40: =$D$40 | BW40: =IF(COUNT(BC40:BV40)=0,"",SUM(BC40:BV40)) | BZ40: =IF(CA40="","",COUNTA(CA6:CA40)) | CA40: =$D$40 | CV40: =IF(COUNT(CB40:CU40)=0,"",SUM(CB40:CU40)) | CY40: =IF(CZ40="","",COUNTA(CZ6:CZ40)) | CZ40: =$D$40 | DU40: =IF(COUNT(DA40:DT40)=0,"",SUM(DA40:DT40)) | DV40: =IF(初期設定!F42="","",初期設定!$E$5&正答数入力!CY40&正答数入力!CZ40)
C41: =IF(D41="","",COUNTA(D6:D41)) | D41: =IF(初期設定!F43="","",初期設定!F43) | Y41: =IF(COUNT(E41:X41)=0,"",SUM(E41:X41)) | AB41: =IF(AC41="","",COUNTA(AC6:AC41)) | AC41: =$D$41 | AX41: =IF(COUNT(AD41:AW41)=0,"",SUM(AD41:AW41)) | BA41: =IF(BB41="","",COUNTA(BB6:BB41)) | BB41: =$D$41 | BW41: =IF(COUNT(BC41:BV41)=0,"",SUM(BC41:BV41)) | BZ41: =IF(CA41="","",COUNTA(CA6:CA41)) | CA41: =$D$41 | CV41: =IF(COUNT(CB41:CU41)=0,"",SUM(CB41:CU41)) | CY41: =IF(CZ41="","",COUNTA(CZ6:CZ41)) | CZ41: =$D$41 | DU41: =IF(COUNT(DA41:DT41)=0,"",SUM(DA41:DT41)) | DV41: =IF(初期設定!F43="","",初期設定!$E$5&正答数入力!CY41&正答数入力!CZ41)
C42: =IF(D42="","",COUNTA(D6:D42)) | D42: =IF(初期設定!F44="","",初期設定!F44) | Y42: =IF(COUNT(E42:X42)=0,"",SUM(E42:X42)) | AB42: =IF(AC42="","",COUNTA(AC6:AC42)) | AC42: =$D$42 | AX42: =IF(COUNT(AD42:AW42)=0,"",SUM(AD42:AW42)) | BA42: =IF(BB42="","",COUNTA(BB6:BB42)) | BB42: =$D$42 | BW42: =IF(COUNT(BC42:BV42)=0,"",SUM(BC42:BV42)) | BZ42: =IF(CA42="","",COUNTA(CA6:CA42)) | CA42: =$D$42 | CV42: =IF(COUNT(CB42:CU42)=0,"",SUM(CB42:CU42)) | CY42: =IF(CZ42="","",COUNTA(CZ6:CZ42)) | CZ42: =$D$42 | DU42: =IF(COUNT(DA42:DT42)=0,"",SUM(DA42:DT42)) | DV42: =IF(初期設定!F44="","",初期設定!$E$5&正答数入力!CY42&正答数入力!CZ42)
C43: =IF(D43="","",COUNTA(D6:D43)) | D43: =IF(初期設定!F45="","",初期設定!F45) | Y43: =IF(COUNT(E43:X43)=0,"",SUM(E43:X43)) | AB43: =IF(AC43="","",COUNTA(AC6:AC43)) | AC43: =$D$43 | AX43: =IF(COUNT(AD43:AW43)=0,"",SUM(AD43:AW43)) | BA43: =IF(BB43="","",COUNTA(BB6:BB43)) | BB43: =$D$43 | BW43: =IF(COUNT(BC43:BV43)=0,"",SUM(BC43:BV43)) | BZ43: =IF(CA43="","",COUNTA(CA6:CA43)) | CA43: =$D$43 | CV43: =IF(COUNT(CB43:CU43)=0,"",SUM(CB43:CU43)) | CY43: =IF(CZ43="","",COUNTA(CZ6:CZ43)) | CZ43: =$D$43 | DU43: =IF(COUNT(DA43:DT43)=0,"",SUM(DA43:DT43)) | DV43: =IF(初期設定!F45="","",初期設定!$E$5&正答数入力!CY43&正答数入力!CZ43)
C44: =IF(D44="","",COUNTA(D6:D44)) | D44: =IF(初期設定!F46="","",初期設定!F46) | Y44: =IF(COUNT(E44:X44)=0,"",SUM(E44:X44)) | AB44: =IF(AC44="","",COUNTA(AC6:AC44)) | AC44: =$D$44 | AX44: =IF(COUNT(AD44:AW44)=0,"",SUM(AD44:AW44)) | BA44: =IF(BB44="","",COUNTA(BB6:BB44)) | BB44: =$D$44 | BW44: =IF(COUNT(BC44:BV44)=0,"",SUM(BC44:BV44)) | BZ44: =IF(CA44="","",COUNTA(CA6:CA44)) | CA44: =$D$44 | CV44: =IF(COUNT(CB44:CU44)=0,"",SUM(CB44:CU44)) | CY44: =IF(CZ44="","",COUNTA(CZ6:CZ44)) | CZ44: =$D$44 | DU44: =IF(COUNT(DA44:DT44)=0,"",SUM(DA44:DT44)) | DV44: =IF(初期設定!F46="","",初期設定!$E$5&正答数入力!CY44&正答数入力!CZ44)
C45: =IF(D45="","",COUNTA(D6:D45)) | D45: =IF(初期設定!F47="","",初期設定!F47) | Y45: =IF(COUNT(E45:X45)=0,"",SUM(E45:X45)) | AB45: =IF(AC45="","",COUNTA(AC6:AC45)) | AC45: =$D$45 | AX45: =IF(COUNT(AD45:AW45)=0,"",SUM(AD45:AW45)) | BA45: =IF(BB45="","",COUNTA(BB6:BB45)) | BB45: =$D$45 | BW45: =IF(COUNT(BC45:BV45)=0,"",SUM(BC45:BV45)) | BZ45: =IF(CA45="","",COUNTA(CA6:CA45)) | CA45: =$D$45 | CV45: =IF(COUNT(CB45:CU45)=0,"",SUM(CB45:CU45)) | CY45: =IF(CZ45="","",COUNTA(CZ6:CZ45)) | CZ45: =$D$45 | DU45: =IF(COUNT(DA45:DT45)=0,"",SUM(DA45:DT45)) | DV45: =IF(初期設定!F47="","",初期設定!$E$5&正答数入力!CY45&正答数入力!CZ45)
D46: 合計 | E46: =IF(COUNT(E6:E45)=0,"",SUM(E6:E45)) | F46: =IF(COUNT(F6:F45)=0,"",SUM(F6:F45)) | G46: =IF(COUNT(G6:G45)=0,"",SUM(G6:G45)) | H46: =IF(COUNT(H6:H45)=0,"",SUM(H6:H45)) | I46: =IF(COUNT(I6:I45)=0,"",SUM(I6:I45)) | J46: =IF(COUNT(J6:J45)=0,"",SUM(J6:J45)) | K46: =IF(COUNT(K6:K45)=0,"",SUM(K6:K45)) | L46: =IF(COUNT(L6:L45)=0,"",SUM(L6:L45)) | ... Y46: =IF(COUNT(Y6:Y45)=0,"",SUM(Y6:Y45)) | AC46: 合計 | AD46: =IF(COUNT(AD6:AD45)=0,"",SUM(AD6:AD45)) | AE46: =IF(COUNT(AE6:AE45)=0,"",SUM(AE6:AE45)) | AF46: =IF(COUNT(AF6:AF45)=0,"",SUM(AF6:AF45)) | AG46: =IF(COUNT(AG6:AG45)=0,"",SUM(AG6:AG45)) | AH46: =IF(COUNT(AH6:AH45)=0,"",SUM(AH6:AH45)) | AI46: =IF(COUNT(AI6:AI45)=0,"",SUM(AI6:AI45)) | AJ46: =IF(COUNT(AJ6:AJ45)=0,"",SUM(AJ6:AJ45)) | AK46: =IF(COUNT(AK6:AK45)=0,"",SUM(AK6:AK45)) | ... AX46: =IF(COUNT(AX6:AX45)=0,"",SUM(AX6:AX45)) | BB46: 合計 | BC46: =IF(COUNT(BC6:BC45)=0,"",SUM(BC6:BC45)) | BD46: =IF(COUNT(BD6:BD45)=0,"",SUM(BD6:BD45)) | BE46: =IF(COUNT(BE6:BE45)=0,"",SUM(BE6:BE45)) | BF46: =IF(COUNT(BF6:BF45)=0,"",SUM(BF6:BF45)) | BG46: =IF(COUNT(BG6:BG45)=0,"",SUM(BG6:BG45)) | BH46: =IF(COUNT(BH6:BH45)=0,"",SUM(BH6:BH45)) | BI46: =IF(COUNT(BI6:BI45)=0,"",SUM(BI6:BI45)) | BJ46: =IF(COUNT(BJ6:BJ45)=0,"",SUM(BJ6:BJ45)) | ... BW46: =IF(COUNT(BW6:BW45)=0,"",SUM(BW6:BW45)) | CA46: 合計 | CB46: =IF(COUNT(CB6:CB45)=0,"",SUM(CB6:CB45)) | CC46: =IF(COUNT(CC6:CC45)=0,"",SUM(CC6:CC45)) | CD46: =IF(COUNT(CD6:CD45)=0,"",SUM(CD6:CD45)) | CE46: =IF(COUNT(CE6:CE45)=0,"",SUM(CE6:CE45)) | CF46: =IF(COUNT(CF6:CF45)=0,"",SUM(CF6:CF45)) | CG46: =IF(COUNT(CG6:CG45)=0,"",SUM(CG6:CG45)) | CH46: =IF(COUNT(CH6:CH45)=0,"",SUM(CH6:CH45)) | CI46: =IF(COUNT(CI6:CI45)=0,"",SUM(CI6:CI45)) | ... CV46: =IF(COUNT(CV6:CV45)=0,"",SUM(CV6:CV45)) | CZ46: 合計 | DA46: =IF(COUNT(DA6:DA45)=0,"",SUM(DA6:DA45)) | DB46: =IF(COUNT(DB6:DB45)=0,"",SUM(DB6:DB45)) | DC46: =IF(COUNT(DC6:DC45)=0,"",SUM(DC6:DC45)) | DD46: =IF(COUNT(DD6:DD45)=0,"",SUM(DD6:DD45)) | DE46: =IF(COUNT(DE6:DE45)=0,"",SUM(DE6:DE45)) | DF46: =IF(COUNT(DF6:DF45)=0,"",SUM(DF6:DF45)) | DG46: =IF(COUNT(DG6:DG45)=0,"",SUM(DG6:DG45)) | DH46: =IF(COUNT(DH6:DH45)=0,"",SUM(DH6:DH45)) | ... DU46: =IF(COUNT(DU6:DU45)=0,"",SUM(DU6:DU45))
D47: 平均正答数 | E47: =IF(ISERROR(AVERAGE(E6:E45)),"",TEXT(AVERAGE(E6:E45),"0.0")) | F47: =IF(ISERROR(AVERAGE(F6:F45)),"",TEXT(AVERAGE(F6:F45),"0.0")) | G47: =IF(ISERROR(AVERAGE(G6:G45)),"",TEXT(AVERAGE(G6:G45),"0.0")) | H47: =IF(ISERROR(AVERAGE(H6:H45)),"",TEXT(AVERAGE(H6:H45),"0.0")) | I47: =IF(ISERROR(AVERAGE(I6:I45)),"",TEXT(AVERAGE(I6:I45),"0.0")) | J47: =IF(ISERROR(AVERAGE(J6:J45)),"",TEXT(AVERAGE(J6:J45),"0.0")) | K47: =IF(ISERROR(AVERAGE(K6:K45)),"",TEXT(AVERAGE(K6:K45),"0.0")) | L47: =IF(ISERROR(AVERAGE(L6:L45)),"",TEXT(AVERAGE(L6:L45),"0.0")) | ... Y47: =IF(ISERROR(AVERAGE(Y6:Y45)),"",TEXT(AVERAGE(Y6:Y45),"0.0")) | AC47: 平均正答数 | AD47: =IF(ISERROR(AVERAGE(AD6:AD45)),"",TEXT(AVERAGE(AD6:AD45),"0.0")) | AE47: =IF(ISERROR(AVERAGE(AE6:AE45)),"",TEXT(AVERAGE(AE6:AE45),"0.0")) | AF47: =IF(ISERROR(AVERAGE(AF6:AF45)),"",TEXT(AVERAGE(AF6:AF45),"0.0")) | AG47: =IF(ISERROR(AVERAGE(AG6:AG45)),"",TEXT(AVERAGE(AG6:AG45),"0.0")) | AH47: =IF(ISERROR(AVERAGE(AH6:AH45)),"",TEXT(AVERAGE(AH6:AH45),"0.0")) | AI47: =IF(ISERROR(AVERAGE(AI6:AI45)),"",TEXT(AVERAGE(AI6:AI45),"0.0")) | AJ47: =IF(ISERROR(AVERAGE(AJ6:AJ45)),"",TEXT(AVERAGE(AJ6:AJ45),"0.0")) | AK47: =IF(ISERROR(AVERAGE(AK6:AK45)),"",TEXT(AVERAGE(AK6:AK45),"0.0")) | ... AX47: =IF(ISERROR(AVERAGE(AX6:AX45)),"",TEXT(AVERAGE(AX6:AX45),"0.0")) | BB47: 平均正答数 | BC47: =IF(ISERROR(AVERAGE(BC6:BC45)),"",TEXT(AVERAGE(BC6:BC45),"0.0")) | BD47: =IF(ISERROR(AVERAGE(BD6:BD45)),"",TEXT(AVERAGE(BD6:BD45),"0.0")) | BE47: =IF(ISERROR(AVERAGE(BE6:BE45)),"",TEXT(AVERAGE(BE6:BE45),"0.0")) | BF47: =IF(ISERROR(AVERAGE(BF6:BF45)),"",TEXT(AVERAGE(BF6:BF45),"0.0")) | BG47: =IF(ISERROR(AVERAGE(BG6:BG45)),"",TEXT(AVERAGE(BG6:BG45),"0.0")) | BH47: =IF(ISERROR(AVERAGE(BH6:BH45)),"",TEXT(AVERAGE(BH6:BH45),"0.0")) | BI47: =IF(ISERROR(AVERAGE(BI6:BI45)),"",TEXT(AVERAGE(BI6:BI45),"0.0")) | BJ47: =IF(ISERROR(AVERAGE(BJ6:BJ45)),"",TEXT(AVERAGE(BJ6:BJ45),"0.0")) | ... BW47: =IF(ISERROR(AVERAGE(BW6:BW45)),"",TEXT(AVERAGE(BW6:BW45),"0.0")) | CA47: 平均正答数 | CB47: =IF(ISERROR(AVERAGE(CB6:CB45)),"",TEXT(AVERAGE(CB6:CB45),"0.0")) | CC47: =IF(ISERROR(AVERAGE(CC6:CC45)),"",TEXT(AVERAGE(CC6:CC45),"0.0")) | CD47: =IF(ISERROR(AVERAGE(CD6:CD45)),"",TEXT(AVERAGE(CD6:CD45),"0.0")) | CE47: =IF(ISERROR(AVERAGE(CE6:CE45)),"",TEXT(AVERAGE(CE6:CE45),"0.0")) | CF47: =IF(ISERROR(AVERAGE(CF6:CF45)),"",TEXT(AVERAGE(CF6:CF45),"0.0")) | CG47: =IF(ISERROR(AVERAGE(CG6:CG45)),"",TEXT(AVERAGE(CG6:CG45),"0.0")) | CH47: =IF(ISERROR(AVERAGE(CH6:CH45)),"",TEXT(AVERAGE(CH6:CH45),"0.0")) | CI47: =IF(ISERROR(AVERAGE(CI6:CI45)),"",TEXT(AVERAGE(CI6:CI45),"0.0")) | ... CV47: =IF(ISERROR(AVERAGE(CV6:CV45)),"",TEXT(AVERAGE(CV6:CV45),"0.0")) | CZ47: 平均正答数 | DA47: =IF(ISERROR(AVERAGE(DA6:DA45)),"",TEXT(AVERAGE(DA6:DA45),"0.0")) | DB47: =IF(ISERROR(AVERAGE(DB6:DB45)),"",TEXT(AVERAGE(DB6:DB45),"0.0")) | DC47: =IF(ISERROR(AVERAGE(DC6:DC45)),"",TEXT(AVERAGE(DC6:DC45),"0.0")) | DD47: =IF(ISERROR(AVERAGE(DD6:DD45)),"",TEXT(AVERAGE(DD6:DD45),"0.0")) | DE47: =IF(ISERROR(AVERAGE(DE6:DE45)),"",TEXT(AVERAGE(DE6:DE45),"0.0")) | DF47: =IF(ISERROR(AVERAGE(DF6:DF45)),"",TEXT(AVERAGE(DF6:DF45),"0.0")) | DG47: =IF(ISERROR(AVERAGE(DG6:DG45)),"",TEXT(AVERAGE(DG6:DG45),"0.0")) | DH47: =IF(ISERROR(AVERAGE(DH6:DH45)),"",TEXT(AVERAGE(DH6:DH45),"0.0")) | ... DU47: =IF(ISERROR(AVERAGE(DU6:DU45)),"",TEXT(AVERAGE(DU6:DU45),"0.0"))
B48: =IF(初期設定!H5="","",初期設定!H5&"組") | C48: =IF(D48="","",COUNTA(D48:D48)) | D48: =IF(初期設定!I8="","",初期設定!I8) | Y48: =IF(COUNT(E48:X48)=0,"",SUM(E48:X48)) | AA48: =$B$48 | AB48: =IF(AC48="","",COUNTA(AC48:AC48)) | AC48: =$D$48 | AX48: =IF(COUNT(AD48:AW48)=0,"",SUM(AD48:AW48)) | AZ48: =$B$48 | BA48: =IF(BB48="","",COUNTA(BB48:BB48)) | BB48: =$D$48 | BW48: =IF(COUNT(BC48:BV48)=0,"",SUM(BC48:BV48)) | BY48: =$B$48 | BZ48: =IF(CA48="","",COUNTA(CA48:CA48)) | CA48: =$D$48 | CV48: =IF(COUNT(CB48:CU48)=0,"",SUM(CB48:CU48)) | CX48: =$B$48 | CY48: =IF(CZ48="","",COUNTA(CZ48:CZ48)) | CZ48: =$D$48 | DU48: =IF(COUNT(DA48:DT48)=0,"",SUM(DA48:DT48)) | DV48: =IF(初期設定!I8="","",初期設定!$H$5&正答数入力!CY48&正答数入力!CZ48)
C49: =IF(D49="","",COUNTA(D48:D49)) | D49: =IF(初期設定!I9="","",初期設定!I9) | Y49: =IF(COUNT(E49:X49)=0,"",SUM(E49:X49)) | AB49: =IF(AC49="","",COUNTA(AC48:AC49)) | AC49: =$D$49 | AX49: =IF(COUNT(AD49:AW49)=0,"",SUM(AD49:AW49)) | BA49: =IF(BB49="","",COUNTA(BB48:BB49)) | BB49: =$D$49 | BW49: =IF(COUNT(BC49:BV49)=0,"",SUM(BC49:BV49)) | BZ49: =IF(CA49="","",COUNTA(CA48:CA49)) | CA49: =$D$49 | CV49: =IF(COUNT(CB49:CU49)=0,"",SUM(CB49:CU49)) | CY49: =IF(CZ49="","",COUNTA(CZ48:CZ49)) | CZ49: =$D$49 | DU49: =IF(COUNT(DA49:DT49)=0,"",SUM(DA49:DT49)) | DV49: =IF(初期設定!I9="","",初期設定!$H$5&正答数入力!CY49&正答数入力!CZ49)
C50: =IF(D50="","",COUNTA(D48:D50)) | D50: =IF(初期設定!I10="","",初期設定!I10) | Y50: =IF(COUNT(E50:X50)=0,"",SUM(E50:X50)) | AB50: =IF(AC50="","",COUNTA(AC48:AC50)) | AC50: =$D$50 | AX50: =IF(COUNT(AD50:AW50)=0,"",SUM(AD50:AW50)) | BA50: =IF(BB50="","",COUNTA(BB48:BB50)) | BB50: =$D$50 | BW50: =IF(COUNT(BC50:BV50)=0,"",SUM(BC50:BV50)) | BZ50: =IF(CA50="","",COUNTA(CA48:CA50)) | CA50: =$D$50 | CV50: =IF(COUNT(CB50:CU50)=0,"",SUM(CB50:CU50)) | CY50: =IF(CZ50="","",COUNTA(CZ48:CZ50)) | CZ50: =$D$50 | DU50: =IF(COUNT(DA50:DT50)=0,"",SUM(DA50:DT50)) | DV50: =IF(初期設定!I10="","",初期設定!$H$5&正答数入力!CY50&正答数入力!CZ50)
C51: =IF(D51="","",COUNTA(D48:D51)) | D51: =IF(初期設定!I11="","",初期設定!I11) | Y51: =IF(COUNT(E51:X51)=0,"",SUM(E51:X51)) | AB51: =IF(AC51="","",COUNTA(AC48:AC51)) | AC51: =$D$51 | AX51: =IF(COUNT(AD51:AW51)=0,"",SUM(AD51:AW51)) | BA51: =IF(BB51="","",COUNTA(BB48:BB51)) | BB51: =$D$51 | BW51: =IF(COUNT(BC51:BV51)=0,"",SUM(BC51:BV51)) | BZ51: =IF(CA51="","",COUNTA(CA48:CA51)) | CA51: =$D$51 | CV51: =IF(COUNT(CB51:CU51)=0,"",SUM(CB51:CU51)) | CY51: =IF(CZ51="","",COUNTA(CZ48:CZ51)) | CZ51: =$D$51 | DU51: =IF(COUNT(DA51:DT51)=0,"",SUM(DA51:DT51)) | DV51: =IF(初期設定!I11="","",初期設定!$H$5&正答数入力!CY51&正答数入力!CZ51)
C52: =IF(D52="","",COUNTA(D48:D52)) | D52: =IF(初期設定!I12="","",初期設定!I12) | Y52: =IF(COUNT(E52:X52)=0,"",SUM(E52:X52)) | AB52: =IF(AC52="","",COUNTA(AC48:AC52)) | AC52: =$D$52 | AX52: =IF(COUNT(AD52:AW52)=0,"",SUM(AD52:AW52)) | BA52: =IF(BB52="","",COUNTA(BB48:BB52)) | BB52: =$D$52 | BW52: =IF(COUNT(BC52:BV52)=0,"",SUM(BC52:BV52)) | BZ52: =IF(CA52="","",COUNTA(CA48:CA52)) | CA52: =$D$52 | CV52: =IF(COUNT(CB52:CU52)=0,"",SUM(CB52:CU52)) | CY52: =IF(CZ52="","",COUNTA(CZ48:CZ52)) | CZ52: =$D$52 | DU52: =IF(COUNT(DA52:DT52)=0,"",SUM(DA52:DT52)) | DV52: =IF(初期設定!I12="","",初期設定!$H$5&正答数入力!CY52&正答数入力!CZ52)
C53: =IF(D53="","",COUNTA(D48:D53)) | D53: =IF(初期設定!I13="","",初期設定!I13) | Y53: =IF(COUNT(E53:X53)=0,"",SUM(E53:X53)) | AB53: =IF(AC53="","",COUNTA(AC48:AC53)) | AC53: =$D$53 | AX53: =IF(COUNT(AD53:AW53)=0,"",SUM(AD53:AW53)) | BA53: =IF(BB53="","",COUNTA(BB48:BB53)) | BB53: =$D$53 | BW53: =IF(COUNT(BC53:BV53)=0,"",SUM(BC53:BV53)) | BZ53: =IF(CA53="","",COUNTA(CA48:CA53)) | CA53: =$D$53 | CV53: =IF(COUNT(CB53:CU53)=0,"",SUM(CB53:CU53)) | CY53: =IF(CZ53="","",COUNTA(CZ48:CZ53)) | CZ53: =$D$53 | DU53: =IF(COUNT(DA53:DT53)=0,"",SUM(DA53:DT53)) | DV53: =IF(初期設定!I13="","",初期設定!$H$5&正答数入力!CY53&正答数入力!CZ53)
C54: =IF(D54="","",COUNTA(D48:D54)) | D54: =IF(初期設定!I14="","",初期設定!I14) | Y54: =IF(COUNT(E54:X54)=0,"",SUM(E54:X54)) | AB54: =IF(AC54="","",COUNTA(AC48:AC54)) | AC54: =$D$54 | AX54: =IF(COUNT(AD54:AW54)=0,"",SUM(AD54:AW54)) | BA54: =IF(BB54="","",COUNTA(BB48:BB54)) | BB54: =$D$54 | BW54: =IF(COUNT(BC54:BV54)=0,"",SUM(BC54:BV54)) | BZ54: =IF(CA54="","",COUNTA(CA48:CA54)) | CA54: =$D$54 | CV54: =IF(COUNT(CB54:CU54)=0,"",SUM(CB54:CU54)) | CY54: =IF(CZ54="","",COUNTA(CZ48:CZ54)) | CZ54: =$D$54 | DU54: =IF(COUNT(DA54:DT54)=0,"",SUM(DA54:DT54)) | DV54: =IF(初期設定!I14="","",初期設定!$H$5&正答数入力!CY54&正答数入力!CZ54)
C55: =IF(D55="","",COUNTA(D48:D55)) | D55: =IF(初期設定!I15="","",初期設定!I15) | Y55: =IF(COUNT(E55:X55)=0,"",SUM(E55:X55)) | AB55: =IF(AC55="","",COUNTA(AC48:AC55)) | AC55: =$D$55 | AX55: =IF(COUNT(AD55:AW55)=0,"",SUM(AD55:AW55)) | BA55: =IF(BB55="","",COUNTA(BB48:BB55)) | BB55: =$D$55 | BW55: =IF(COUNT(BC55:BV55)=0,"",SUM(BC55:BV55)) | BZ55: =IF(CA55="","",COUNTA(CA48:CA55)) | CA55: =$D$55 | CV55: =IF(COUNT(CB55:CU55)=0,"",SUM(CB55:CU55)) | CY55: =IF(CZ55="","",COUNTA(CZ48:CZ55)) | CZ55: =$D$55 | DU55: =IF(COUNT(DA55:DT55)=0,"",SUM(DA55:DT55)) | DV55: =IF(初期設定!I15="","",初期設定!$H$5&正答数入力!CY55&正答数入力!CZ55)
C56: =IF(D56="","",COUNTA(D48:D56)) | D56: =IF(初期設定!I16="","",初期設定!I16) | Y56: =IF(COUNT(E56:X56)=0,"",SUM(E56:X56)) | AB56: =IF(AC56="","",COUNTA(AC48:AC56)) | AC56: =$D$56 | AX56: =IF(COUNT(AD56:AW56)=0,"",SUM(AD56:AW56)) | BA56: =IF(BB56="","",COUNTA(BB48:BB56)) | BB56: =$D$56 | BW56: =IF(COUNT(BC56:BV56)=0,"",SUM(BC56:BV56)) | BZ56: =IF(CA56="","",COUNTA(CA48:CA56)) | CA56: =$D$56 | CV56: =IF(COUNT(CB56:CU56)=0,"",SUM(CB56:CU56)) | CY56: =IF(CZ56="","",COUNTA(CZ48:CZ56)) | CZ56: =$D$56 | DU56: =IF(COUNT(DA56:DT56)=0,"",SUM(DA56:DT56)) | DV56: =IF(初期設定!I16="","",初期設定!$H$5&正答数入力!CY56&正答数入力!CZ56)
C57: =IF(D57="","",COUNTA(D48:D57)) | D57: =IF(初期設定!I17="","",初期設定!I17) | Y57: =IF(COUNT(E57:X57)=0,"",SUM(E57:X57)) | AB57: =IF(AC57="","",COUNTA(AC48:AC57)) | AC57: =$D$57 | AX57: =IF(COUNT(AD57:AW57)=0,"",SUM(AD57:AW57)) | BA57: =IF(BB57="","",COUNTA(BB48:BB57)) | BB57: =$D$57 | BW57: =IF(COUNT(BC57:BV57)=0,"",SUM(BC57:BV57)) | BZ57: =IF(CA57="","",COUNTA(CA48:CA57)) | CA57: =$D$57 | CV57: =IF(COUNT(CB57:CU57)=0,"",SUM(CB57:CU57)) | CY57: =IF(CZ57="","",COUNTA(CZ48:CZ57)) | CZ57: =$D$57 | DU57: =IF(COUNT(DA57:DT57)=0,"",SUM(DA57:DT57)) | DV57: =IF(初期設定!I17="","",初期設定!$H$5&正答数入力!CY57&正答数入力!CZ57)
C58: =IF(D58="","",COUNTA(D48:D58)) | D58: =IF(初期設定!I18="","",初期設定!I18) | Y58: =IF(COUNT(E58:X58)=0,"",SUM(E58:X58)) | AB58: =IF(AC58="","",COUNTA(AC48:AC58)) | AC58: =$D$58 | AX58: =IF(COUNT(AD58:AW58)=0,"",SUM(AD58:AW58)) | BA58: =IF(BB58="","",COUNTA(BB48:BB58)) | BB58: =$D$58 | BW58: =IF(COUNT(BC58:BV58)=0,"",SUM(BC58:BV58)) | BZ58: =IF(CA58="","",COUNTA(CA48:CA58)) | CA58: =$D$58 | CV58: =IF(COUNT(CB58:CU58)=0,"",SUM(CB58:CU58)) | CY58: =IF(CZ58="","",COUNTA(CZ48:CZ58)) | CZ58: =$D$58 | DU58: =IF(COUNT(DA58:DT58)=0,"",SUM(DA58:DT58)) | DV58: =IF(初期設定!I18="","",初期設定!$H$5&正答数入力!CY58&正答数入力!CZ58)
C59: =IF(D59="","",COUNTA(D48:D59)) | D59: =IF(初期設定!I19="","",初期設定!I19) | Y59: =IF(COUNT(E59:X59)=0,"",SUM(E59:X59)) | AB59: =IF(AC59="","",COUNTA(AC48:AC59)) | AC59: =$D$59 | AX59: =IF(COUNT(AD59:AW59)=0,"",SUM(AD59:AW59)) | BA59: =IF(BB59="","",COUNTA(BB48:BB59)) | BB59: =$D$59 | BW59: =IF(COUNT(BC59:BV59)=0,"",SUM(BC59:BV59)) | BZ59: =IF(CA59="","",COUNTA(CA48:CA59)) | CA59: =$D$59 | CV59: =IF(COUNT(CB59:CU59)=0,"",SUM(CB59:CU59)) | CY59: =IF(CZ59="","",COUNTA(CZ48:CZ59)) | CZ59: =$D$59 | DU59: =IF(COUNT(DA59:DT59)=0,"",SUM(DA59:DT59)) | DV59: =IF(初期設定!I19="","",初期設定!$H$5&正答数入力!CY59&正答数入力!CZ59)
C60: =IF(D60="","",COUNTA(D48:D60)) | D60: =IF(初期設定!I20="","",初期設定!I20) | Y60: =IF(COUNT(E60:X60)=0,"",SUM(E60:X60)) | AB60: =IF(AC60="","",COUNTA(AC48:AC60)) | AC60: =$D$60 | AX60: =IF(COUNT(AD60:AW60)=0,"",SUM(AD60:AW60)) | BA60: =IF(BB60="","",COUNTA(BB48:BB60)) | BB60: =$D$60 | BW60: =IF(COUNT(BC60:BV60)=0,"",SUM(BC60:BV60)) | BZ60: =IF(CA60="","",COUNTA(CA48:CA60)) | CA60: =$D$60 | CV60: =IF(COUNT(CB60:CU60)=0,"",SUM(CB60:CU60)) | CY60: =IF(CZ60="","",COUNTA(CZ48:CZ60)) | CZ60: =$D$60 | DU60: =IF(COUNT(DA60:DT60)=0,"",SUM(DA60:DT60)) | DV60: =IF(初期設定!I20="","",初期設定!$H$5&正答数入力!CY60&正答数入力!CZ60)
C61: =IF(D61="","",COUNTA(D48:D61)) | D61: =IF(初期設定!I21="","",初期設定!I21) | Y61: =IF(COUNT(E61:X61)=0,"",SUM(E61:X61)) | AB61: =IF(AC61="","",COUNTA(AC48:AC61)) | AC61: =$D$61 | AX61: =IF(COUNT(AD61:AW61)=0,"",SUM(AD61:AW61)) | BA61: =IF(BB61="","",COUNTA(BB48:BB61)) | BB61: =$D$61 | BW61: =IF(COUNT(BC61:BV61)=0,"",SUM(BC61:BV61)) | BZ61: =IF(CA61="","",COUNTA(CA48:CA61)) | CA61: =$D$61 | CV61: =IF(COUNT(CB61:CU61)=0,"",SUM(CB61:CU61)) | CY61: =IF(CZ61="","",COUNTA(CZ48:CZ61)) | CZ61: =$D$61 | DU61: =IF(COUNT(DA61:DT61)=0,"",SUM(DA61:DT61)) | DV61: =IF(初期設定!I21="","",初期設定!$H$5&正答数入力!CY61&正答数入力!CZ61)
C62: =IF(D62="","",COUNTA(D48:D62)) | D62: =IF(初期設定!I22="","",初期設定!I22) | Y62: =IF(COUNT(E62:X62)=0,"",SUM(E62:X62)) | AB62: =IF(AC62="","",COUNTA(AC48:AC62)) | AC62: =$D$62 | AX62: =IF(COUNT(AD62:AW62)=0,"",SUM(AD62:AW62)) | BA62: =IF(BB62="","",COUNTA(BB48:BB62)) | BB62: =$D$62 | BW62: =IF(COUNT(BC62:BV62)=0,"",SUM(BC62:BV62)) | BZ62: =IF(CA62="","",COUNTA(CA48:CA62)) | CA62: =$D$62 | CV62: =IF(COUNT(CB62:CU62)=0,"",SUM(CB62:CU62)) | CY62: =IF(CZ62="","",COUNTA(CZ48:CZ62)) | CZ62: =$D$62 | DU62: =IF(COUNT(DA62:DT62)=0,"",SUM(DA62:DT62)) | DV62: =IF(初期設定!I22="","",初期設定!$H$5&正答数入力!CY62&正答数入力!CZ62)
C63: =IF(D63="","",COUNTA(D48:D63)) | D63: =IF(初期設定!I23="","",初期設定!I23) | Y63: =IF(COUNT(E63:X63)=0,"",SUM(E63:X63)) | AB63: =IF(AC63="","",COUNTA(AC48:AC63)) | AC63: =$D$63 | AX63: =IF(COUNT(AD63:AW63)=0,"",SUM(AD63:AW63)) | BA63: =IF(BB63="","",COUNTA(BB48:BB63)) | BB63: =$D$63 | BW63: =IF(COUNT(BC63:BV63)=0,"",SUM(BC63:BV63)) | BZ63: =IF(CA63="","",COUNTA(CA48:CA63)) | CA63: =$D$63 | CV63: =IF(COUNT(CB63:CU63)=0,"",SUM(CB63:CU63)) | CY63: =IF(CZ63="","",COUNTA(CZ48:CZ63)) | CZ63: =$D$63 | DU63: =IF(COUNT(DA63:DT63)=0,"",SUM(DA63:DT63)) | DV63: =IF(初期設定!I23="","",初期設定!$H$5&正答数入力!CY63&正答数入力!CZ63)
C64: =IF(D64="","",COUNTA(D48:D64)) | D64: =IF(初期設定!I24="","",初期設定!I24) | Y64: =IF(COUNT(E64:X64)=0,"",SUM(E64:X64)) | AB64: =IF(AC64="","",COUNTA(AC48:AC64)) | AC64: =$D$64 | AX64: =IF(COUNT(AD64:AW64)=0,"",SUM(AD64:AW64)) | BA64: =IF(BB64="","",COUNTA(BB48:BB64)) | BB64: =$D$64 | BW64: =IF(COUNT(BC64:BV64)=0,"",SUM(BC64:BV64)) | BZ64: =IF(CA64="","",COUNTA(CA48:CA64)) | CA64: =$D$64 | CV64: =IF(COUNT(CB64:CU64)=0,"",SUM(CB64:CU64)) | CY64: =IF(CZ64="","",COUNTA(CZ48:CZ64)) | CZ64: =$D$64 | DU64: =IF(COUNT(DA64:DT64)=0,"",SUM(DA64:DT64)) | DV64: =IF(初期設定!I24="","",初期設定!$H$5&正答数入力!CY64&正答数入力!CZ64)
C65: =IF(D65="","",COUNTA(D48:D65)) | D65: =IF(初期設定!I25="","",初期設定!I25) | Y65: =IF(COUNT(E65:X65)=0,"",SUM(E65:X65)) | AB65: =IF(AC65="","",COUNTA(AC48:AC65)) | AC65: =$D$65 | AX65: =IF(COUNT(AD65:AW65)=0,"",SUM(AD65:AW65)) | BA65: =IF(BB65="","",COUNTA(BB48:BB65)) | BB65: =$D$65 | BW65: =IF(COUNT(BC65:BV65)=0,"",SUM(BC65:BV65)) | BZ65: =IF(CA65="","",COUNTA(CA48:CA65)) | CA65: =$D$65 | CV65: =IF(COUNT(CB65:CU65)=0,"",SUM(CB65:CU65)) | CY65: =IF(CZ65="","",COUNTA(CZ48:CZ65)) | CZ65: =$D$65 | DU65: =IF(COUNT(DA65:DT65)=0,"",SUM(DA65:DT65)) | DV65: =IF(初期設定!I25="","",初期設定!$H$5&正答数入力!CY65&正答数入力!CZ65)
C66: =IF(D66="","",COUNTA(D48:D66)) | D66: =IF(初期設定!I26="","",初期設定!I26) | Y66: =IF(COUNT(E66:X66)=0,"",SUM(E66:X66)) | AB66: =IF(AC66="","",COUNTA(AC48:AC66)) | AC66: =$D$66 | AX66: =IF(COUNT(AD66:AW66)=0,"",SUM(AD66:AW66)) | BA66: =IF(BB66="","",COUNTA(BB48:BB66)) | BB66: =$D$66 | BW66: =IF(COUNT(BC66:BV66)=0,"",SUM(BC66:BV66)) | BZ66: =IF(CA66="","",COUNTA(CA48:CA66)) | CA66: =$D$66 | CV66: =IF(COUNT(CB66:CU66)=0,"",SUM(CB66:CU66)) | CY66: =IF(CZ66="","",COUNTA(CZ48:CZ66)) | CZ66: =$D$66 | DU66: =IF(COUNT(DA66:DT66)=0,"",SUM(DA66:DT66)) | DV66: =IF(初期設定!I26="","",初期設定!$H$5&正答数入力!CY66&正答数入力!CZ66)
C67: =IF(D67="","",COUNTA(D48:D67)) | D67: =IF(初期設定!I27="","",初期設定!I27) | Y67: =IF(COUNT(E67:X67)=0,"",SUM(E67:X67)) | AB67: =IF(AC67="","",COUNTA(AC48:AC67)) | AC67: =$D$67 | AX67: =IF(COUNT(AD67:AW67)=0,"",SUM(AD67:AW67)) | BA67: =IF(BB67="","",COUNTA(BB48:BB67)) | BB67: =$D$67 | BW67: =IF(COUNT(BC67:BV67)=0,"",SUM(BC67:BV67)) | BZ67: =IF(CA67="","",COUNTA(CA48:CA67)) | CA67: =$D$67 | CV67: =IF(COUNT(CB67:CU67)=0,"",SUM(CB67:CU67)) | CY67: =IF(CZ67="","",COUNTA(CZ48:CZ67)) | CZ67: =$D$67 | DU67: =IF(COUNT(DA67:DT67)=0,"",SUM(DA67:DT67)) | DV67: =IF(初期設定!I27="","",初期設定!$H$5&正答数入力!CY67&正答数入力!CZ67)
C68: =IF(D68="","",COUNTA(D48:D68)) | D68: =IF(初期設定!I28="","",初期設定!I28) | Y68: =IF(COUNT(E68:X68)=0,"",SUM(E68:X68)) | AB68: =IF(AC68="","",COUNTA(AC48:AC68)) | AC68: =$D$68 | AX68: =IF(COUNT(AD68:AW68)=0,"",SUM(AD68:AW68)) | BA68: =IF(BB68="","",COUNTA(BB48:BB68)) | BB68: =$D$68 | BW68: =IF(COUNT(BC68:BV68)=0,"",SUM(BC68:BV68)) | BZ68: =IF(CA68="","",COUNTA(CA48:CA68)) | CA68: =$D$68 | CV68: =IF(COUNT(CB68:CU68)=0,"",SUM(CB68:CU68)) | CY68: =IF(CZ68="","",COUNTA(CZ48:CZ68)) | CZ68: =$D$68 | DU68: =IF(COUNT(DA68:DT68)=0,"",SUM(DA68:DT68)) | DV68: =IF(初期設定!I28="","",初期設定!$H$5&正答数入力!CY68&正答数入力!CZ68)
C69: =IF(D69="","",COUNTA(D48:D69)) | D69: =IF(初期設定!I29="","",初期設定!I29) | Y69: =IF(COUNT(E69:X69)=0,"",SUM(E69:X69)) | AB69: =IF(AC69="","",COUNTA(AC48:AC69)) | AC69: =$D$69 | AX69: =IF(COUNT(AD69:AW69)=0,"",SUM(AD69:AW69)) | BA69: =IF(BB69="","",COUNTA(BB48:BB69)) | BB69: =$D$69 | BW69: =IF(COUNT(BC69:BV69)=0,"",SUM(BC69:BV69)) | BZ69: =IF(CA69="","",COUNTA(CA48:CA69)) | CA69: =$D$69 | CV69: =IF(COUNT(CB69:CU69)=0,"",SUM(CB69:CU69)) | CY69: =IF(CZ69="","",COUNTA(CZ48:CZ69)) | CZ69: =$D$69 | DU69: =IF(COUNT(DA69:DT69)=0,"",SUM(DA69:DT69)) | DV69: =IF(初期設定!I29="","",初期設定!$H$5&正答数入力!CY69&正答数入力!CZ69)
C70: =IF(D70="","",COUNTA(D48:D70)) | D70: =IF(初期設定!I30="","",初期設定!I30) | Y70: =IF(COUNT(E70:X70)=0,"",SUM(E70:X70)) | AB70: =IF(AC70="","",COUNTA(AC48:AC70)) | AC70: =$D$70 | AX70: =IF(COUNT(AD70:AW70)=0,"",SUM(AD70:AW70)) | BA70: =IF(BB70="","",COUNTA(BB48:BB70)) | BB70: =$D$70 | BW70: =IF(COUNT(BC70:BV70)=0,"",SUM(BC70:BV70)) | BZ70: =IF(CA70="","",COUNTA(CA48:CA70)) | CA70: =$D$70 | CV70: =IF(COUNT(CB70:CU70)=0,"",SUM(CB70:CU70)) | CY70: =IF(CZ70="","",COUNTA(CZ48:CZ70)) | CZ70: =$D$70 | DU70: =IF(COUNT(DA70:DT70)=0,"",SUM(DA70:DT70)) | DV70: =IF(初期設定!I30="","",初期設定!$H$5&正答数入力!CY70&正答数入力!CZ70)
C71: =IF(D71="","",COUNTA(D48:D71)) | D71: =IF(初期設定!I31="","",初期設定!I31) | Y71: =IF(COUNT(E71:X71)=0,"",SUM(E71:X71)) | AB71: =IF(AC71="","",COUNTA(AC48:AC71)) | AC71: =$D$71 | AX71: =IF(COUNT(AD71:AW71)=0,"",SUM(AD71:AW71)) | BA71: =IF(BB71="","",COUNTA(BB48:BB71)) | BB71: =$D$71 | BW71: =IF(COUNT(BC71:BV71)=0,"",SUM(BC71:BV71)) | BZ71: =IF(CA71="","",COUNTA(CA48:CA71)) | CA71: =$D$71 | CV71: =IF(COUNT(CB71:CU71)=0,"",SUM(CB71:CU71)) | CY71: =IF(CZ71="","",COUNTA(CZ48:CZ71)) | CZ71: =$D$71 | DU71: =IF(COUNT(DA71:DT71)=0,"",SUM(DA71:DT71)) | DV71: =IF(初期設定!I31="","",初期設定!$H$5&正答数入力!CY71&正答数入力!CZ71)
C72: =IF(D72="","",COUNTA(D48:D72)) | D72: =IF(初期設定!I32="","",初期設定!I32) | Y72: =IF(COUNT(E72:X72)=0,"",SUM(E72:X72)) | AB72: =IF(AC72="","",COUNTA(AC48:AC72)) | AC72: =$D$72 | AX72: =IF(COUNT(AD72:AW72)=0,"",SUM(AD72:AW72)) | BA72: =IF(BB72="","",COUNTA(BB48:BB72)) | BB72: =$D$72 | BW72: =IF(COUNT(BC72:BV72)=0,"",SUM(BC72:BV72)) | BZ72: =IF(CA72="","",COUNTA(CA48:CA72)) | CA72: =$D$72 | CV72: =IF(COUNT(CB72:CU72)=0,"",SUM(CB72:CU72)) | CY72: =IF(CZ72="","",COUNTA(CZ48:CZ72)) | CZ72: =$D$72 | DU72: =IF(COUNT(DA72:DT72)=0,"",SUM(DA72:DT72)) | DV72: =IF(初期設定!I32="","",初期設定!$H$5&正答数入力!CY72&正答数入力!CZ72)
C73: =IF(D73="","",COUNTA(D48:D73)) | D73: =IF(初期設定!I33="","",初期設定!I33) | Y73: =IF(COUNT(E73:X73)=0,"",SUM(E73:X73)) | AB73: =IF(AC73="","",COUNTA(AC48:AC73)) | AC73: =$D$73 | AX73: =IF(COUNT(AD73:AW73)=0,"",SUM(AD73:AW73)) | BA73: =IF(BB73="","",COUNTA(BB48:BB73)) | BB73: =$D$73 | BW73: =IF(COUNT(BC73:BV73)=0,"",SUM(BC73:BV73)) | BZ73: =IF(CA73="","",COUNTA(CA48:CA73)) | CA73: =$D$73 | CV73: =IF(COUNT(CB73:CU73)=0,"",SUM(CB73:CU73)) | CY73: =IF(CZ73="","",COUNTA(CZ48:CZ73)) | CZ73: =$D$73 | DU73: =IF(COUNT(DA73:DT73)=0,"",SUM(DA73:DT73)) | DV73: =IF(初期設定!I33="","",初期設定!$H$5&正答数入力!CY73&正答数入力!CZ73)
C74: =IF(D74="","",COUNTA(D48:D74)) | D74: =IF(初期設定!I34="","",初期設定!I34) | Y74: =IF(COUNT(E74:X74)=0,"",SUM(E74:X74)) | AB74: =IF(AC74="","",COUNTA(AC48:AC74)) | AC74: =$D$74 | AX74: =IF(COUNT(AD74:AW74)=0,"",SUM(AD74:AW74)) | BA74: =IF(BB74="","",COUNTA(BB48:BB74)) | BB74: =$D$74 | BW74: =IF(COUNT(BC74:BV74)=0,"",SUM(BC74:BV74)) | BZ74: =IF(CA74="","",COUNTA(CA48:CA74)) | CA74: =$D$74 | CV74: =IF(COUNT(CB74:CU74)=0,"",SUM(CB74:CU74)) | CY74: =IF(CZ74="","",COUNTA(CZ48:CZ74)) | CZ74: =$D$74 | DU74: =IF(COUNT(DA74:DT74)=0,"",SUM(DA74:DT74)) | DV74: =IF(初期設定!I34="","",初期設定!$H$5&正答数入力!CY74&正答数入力!CZ74)
C75: =IF(D75="","",COUNTA(D48:D75)) | D75: =IF(初期設定!I35="","",初期設定!I35) | Y75: =IF(COUNT(E75:X75)=0,"",SUM(E75:X75)) | AB75: =IF(AC75="","",COUNTA(AC48:AC75)) | AC75: =$D$75 | AX75: =IF(COUNT(AD75:AW75)=0,"",SUM(AD75:AW75)) | BA75: =IF(BB75="","",COUNTA(BB48:BB75)) | BB75: =$D$75 | BW75: =IF(COUNT(BC75:BV75)=0,"",SUM(BC75:BV75)) | BZ75: =IF(CA75="","",COUNTA(CA48:CA75)) | CA75: =$D$75 | CV75: =IF(COUNT(CB75:CU75)=0,"",SUM(CB75:CU75)) | CY75: =IF(CZ75="","",COUNTA(CZ48:CZ75)) | CZ75: =$D$75 | DU75: =IF(COUNT(DA75:DT75)=0,"",SUM(DA75:DT75)) | DV75: =IF(初期設定!I35="","",初期設定!$H$5&正答数入力!CY75&正答数入力!CZ75)
C76: =IF(D76="","",COUNTA(D48:D76)) | D76: =IF(初期設定!I36="","",初期設定!I36) | Y76: =IF(COUNT(E76:X76)=0,"",SUM(E76:X76)) | AB76: =IF(AC76="","",COUNTA(AC48:AC76)) | AC76: =$D$76 | AX76: =IF(COUNT(AD76:AW76)=0,"",SUM(AD76:AW76)) | BA76: =IF(BB76="","",COUNTA(BB48:BB76)) | BB76: =$D$76 | BW76: =IF(COUNT(BC76:BV76)=0,"",SUM(BC76:BV76)) | BZ76: =IF(CA76="","",COUNTA(CA48:CA76)) | CA76: =$D$76 | CV76: =IF(COUNT(CB76:CU76)=0,"",SUM(CB76:CU76)) | CY76: =IF(CZ76="","",COUNTA(CZ48:CZ76)) | CZ76: =$D$76 | DU76: =IF(COUNT(DA76:DT76)=0,"",SUM(DA76:DT76)) | DV76: =IF(初期設定!I36="","",初期設定!$H$5&正答数入力!CY76&正答数入力!CZ76)
C77: =IF(D77="","",COUNTA(D48:D77)) | D77: =IF(初期設定!I37="","",初期設定!I37) | Y77: =IF(COUNT(E77:X77)=0,"",SUM(E77:X77)) | AB77: =IF(AC77="","",COUNTA(AC48:AC77)) | AC77: =$D$77 | AX77: =IF(COUNT(AD77:AW77)=0,"",SUM(AD77:AW77)) | BA77: =IF(BB77="","",COUNTA(BB48:BB77)) | BB77: =$D$77 | BW77: =IF(COUNT(BC77:BV77)=0,"",SUM(BC77:BV77)) | BZ77: =IF(CA77="","",COUNTA(CA48:CA77)) | CA77: =$D$77 | CV77: =IF(COUNT(CB77:CU77)=0,"",SUM(CB77:CU77)) | CY77: =IF(CZ77="","",COUNTA(CZ48:CZ77)) | CZ77: =$D$77 | DU77: =IF(COUNT(DA77:DT77)=0,"",SUM(DA77:DT77)) | DV77: =IF(初期設定!I37="","",初期設定!$H$5&正答数入力!CY77&正答数入力!CZ77)
C78: =IF(D78="","",COUNTA(D48:D78)) | D78: =IF(初期設定!I38="","",初期設定!I38) | Y78: =IF(COUNT(E78:X78)=0,"",SUM(E78:X78)) | AB78: =IF(AC78="","",COUNTA(AC48:AC78)) | AC78: =$D$78 | AX78: =IF(COUNT(AD78:AW78)=0,"",SUM(AD78:AW78)) | BA78: =IF(BB78="","",COUNTA(BB48:BB78)) | BB78: =$D$78 | BW78: =IF(COUNT(BC78:BV78)=0,"",SUM(BC78:BV78)) | BZ78: =IF(CA78="","",COUNTA(CA48:CA78)) | CA78: =$D$78 | CV78: =IF(COUNT(CB78:CU78)=0,"",SUM(CB78:CU78)) | CY78: =IF(CZ78="","",COUNTA(CZ48:CZ78)) | CZ78: =$D$78 | DU78: =IF(COUNT(DA78:DT78)=0,"",SUM(DA78:DT78)) | DV78: =IF(初期設定!I38="","",初期設定!$H$5&正答数入力!CY78&正答数入力!CZ78)
C79: =IF(D79="","",COUNTA(D48:D79)) | D79: =IF(初期設定!I39="","",初期設定!I39) | Y79: =IF(COUNT(E79:X79)=0,"",SUM(E79:X79)) | AB79: =IF(AC79="","",COUNTA(AC48:AC79)) | AC79: =$D$79 | AX79: =IF(COUNT(AD79:AW79)=0,"",SUM(AD79:AW79)) | BA79: =IF(BB79="","",COUNTA(BB48:BB79)) | BB79: =$D$79 | BW79: =IF(COUNT(BC79:BV79)=0,"",SUM(BC79:BV79)) | BZ79: =IF(CA79="","",COUNTA(CA48:CA79)) | CA79: =$D$79 | CV79: =IF(COUNT(CB79:CU79)=0,"",SUM(CB79:CU79)) | CY79: =IF(CZ79="","",COUNTA(CZ48:CZ79)) | CZ79: =$D$79 | DU79: =IF(COUNT(DA79:DT79)=0,"",SUM(DA79:DT79)) | DV79: =IF(初期設定!I39="","",初期設定!$H$5&正答数入力!CY79&正答数入力!CZ79)
C80: =IF(D80="","",COUNTA(D48:D80)) | D80: =IF(初期設定!I40="","",初期設定!I40) | Y80: =IF(COUNT(E80:X80)=0,"",SUM(E80:X80)) | AB80: =IF(AC80="","",COUNTA(AC48:AC80)) | AC80: =$D$80 | AX80: =IF(COUNT(AD80:AW80)=0,"",SUM(AD80:AW80)) | BA80: =IF(BB80="","",COUNTA(BB48:BB80)) | BB80: =$D$80 | BW80: =IF(COUNT(BC80:BV80)=0,"",SUM(BC80:BV80)) | BZ80: =IF(CA80="","",COUNTA(CA48:CA80)) | CA80: =$D$80 | CV80: =IF(COUNT(CB80:CU80)=0,"",SUM(CB80:CU80)) | CY80: =IF(CZ80="","",COUNTA(CZ48:CZ80)) | CZ80: =$D$80 | DU80: =IF(COUNT(DA80:DT80)=0,"",SUM(DA80:DT80)) | DV80: =IF(初期設定!I40="","",初期設定!$H$5&正答数入力!CY80&正答数入力!CZ80)
C81: =IF(D81="","",COUNTA(D48:D81)) | D81: =IF(初期設定!I41="","",初期設定!I41) | Y81: =IF(COUNT(E81:X81)=0,"",SUM(E81:X81)) | AB81: =IF(AC81="","",COUNTA(AC48:AC81)) | AC81: =$D$81 | AX81: =IF(COUNT(AD81:AW81)=0,"",SUM(AD81:AW81)) | BA81: =IF(BB81="","",COUNTA(BB48:BB81)) | BB81: =$D$81 | BW81: =IF(COUNT(BC81:BV81)=0,"",SUM(BC81:BV81)) | BZ81: =IF(CA81="","",COUNTA(CA48:CA81)) | CA81: =$D$81 | CV81: =IF(COUNT(CB81:CU81)=0,"",SUM(CB81:CU81)) | CY81: =IF(CZ81="","",COUNTA(CZ48:CZ81)) | CZ81: =$D$81 | DU81: =IF(COUNT(DA81:DT81)=0,"",SUM(DA81:DT81)) | DV81: =IF(初期設定!I41="","",初期設定!$H$5&正答数入力!CY81&正答数入力!CZ81)
C82: =IF(D82="","",COUNTA(D48:D82)) | D82: =IF(初期設定!I42="","",初期設定!I42) | Y82: =IF(COUNT(E82:X82)=0,"",SUM(E82:X82)) | AB82: =IF(AC82="","",COUNTA(AC48:AC82)) | AC82: =$D$82 | AX82: =IF(COUNT(AD82:AW82)=0,"",SUM(AD82:AW82)) | BA82: =IF(BB82="","",COUNTA(BB48:BB82)) | BB82: =$D$82 | BW82: =IF(COUNT(BC82:BV82)=0,"",SUM(BC82:BV82)) | BZ82: =IF(CA82="","",COUNTA(CA48:CA82)) | CA82: =$D$82 | CV82: =IF(COUNT(CB82:CU82)=0,"",SUM(CB82:CU82)) | CY82: =IF(CZ82="","",COUNTA(CZ48:CZ82)) | CZ82: =$D$82 | DU82: =IF(COUNT(DA82:DT82)=0,"",SUM(DA82:DT82)) | DV82: =IF(初期設定!I42="","",初期設定!$H$5&正答数入力!CY82&正答数入力!CZ82)
C83: =IF(D83="","",COUNTA(D48:D83)) | D83: =IF(初期設定!I43="","",初期設定!I43) | Y83: =IF(COUNT(E83:X83)=0,"",SUM(E83:X83)) | AB83: =IF(AC83="","",COUNTA(AC48:AC83)) | AC83: =$D$83 | AX83: =IF(COUNT(AD83:AW83)=0,"",SUM(AD83:AW83)) | BA83: =IF(BB83="","",COUNTA(BB48:BB83)) | BB83: =$D$83 | BW83: =IF(COUNT(BC83:BV83)=0,"",SUM(BC83:BV83)) | BZ83: =IF(CA83="","",COUNTA(CA48:CA83)) | CA83: =$D$83 | CV83: =IF(COUNT(CB83:CU83)=0,"",SUM(CB83:CU83)) | CY83: =IF(CZ83="","",COUNTA(CZ48:CZ83)) | CZ83: =$D$83 | DU83: =IF(COUNT(DA83:DT83)=0,"",SUM(DA83:DT83)) | DV83: =IF(初期設定!I43="","",初期設定!$H$5&正答数入力!CY83&正答数入力!CZ83)
C84: =IF(D84="","",COUNTA(D48:D84)) | D84: =IF(初期設定!I44="","",初期設定!I44) | Y84: =IF(COUNT(E84:X84)=0,"",SUM(E84:X84)) | AB84: =IF(AC84="","",COUNTA(AC48:AC84)) | AC84: =$D$84 | AX84: =IF(COUNT(AD84:AW84)=0,"",SUM(AD84:AW84)) | BA84: =IF(BB84="","",COUNTA(BB48:BB84)) | BB84: =$D$84 | BW84: =IF(COUNT(BC84:BV84)=0,"",SUM(BC84:BV84)) | BZ84: =IF(CA84="","",COUNTA(CA48:CA84)) | CA84: =$D$84 | CV84: =IF(COUNT(CB84:CU84)=0,"",SUM(CB84:CU84)) | CY84: =IF(CZ84="","",COUNTA(CZ48:CZ84)) | CZ84: =$D$84 | DU84: =IF(COUNT(DA84:DT84)=0,"",SUM(DA84:DT84)) | DV84: =IF(初期設定!I44="","",初期設定!$H$5&正答数入力!CY84&正答数入力!CZ84)
C85: =IF(D85="","",COUNTA(D48:D85)) | D85: =IF(初期設定!I45="","",初期設定!I45) | Y85: =IF(COUNT(E85:X85)=0,"",SUM(E85:X85)) | AB85: =IF(AC85="","",COUNTA(AC48:AC85)) | AC85: =$D$85 | AX85: =IF(COUNT(AD85:AW85)=0,"",SUM(AD85:AW85)) | BA85: =IF(BB85="","",COUNTA(BB48:BB85)) | BB85: =$D$85 | BW85: =IF(COUNT(BC85:BV85)=0,"",SUM(BC85:BV85)) | BZ85: =IF(CA85="","",COUNTA(CA48:CA85)) | CA85: =$D$85 | CV85: =IF(COUNT(CB85:CU85)=0,"",SUM(CB85:CU85)) | CY85: =IF(CZ85="","",COUNTA(CZ48:CZ85)) | CZ85: =$D$85 | DU85: =IF(COUNT(DA85:DT85)=0,"",SUM(DA85:DT85)) | DV85: =IF(初期設定!I45="","",初期設定!$H$5&正答数入力!CY85&正答数入力!CZ85)
C86: =IF(D86="","",COUNTA(D48:D86)) | D86: =IF(初期設定!I46="","",初期設定!I46) | Y86: =IF(COUNT(E86:X86)=0,"",SUM(E86:X86)) | AB86: =IF(AC86="","",COUNTA(AC48:AC86)) | AC86: =$D$86 | AX86: =IF(COUNT(AD86:AW86)=0,"",SUM(AD86:AW86)) | BA86: =IF(BB86="","",COUNTA(BB48:BB86)) | BB86: =$D$86 | BW86: =IF(COUNT(BC86:BV86)=0,"",SUM(BC86:BV86)) | BZ86: =IF(CA86="","",COUNTA(CA48:CA86)) | CA86: =$D$86 | CV86: =IF(COUNT(CB86:CU86)=0,"",SUM(CB86:CU86)) | CY86: =IF(CZ86="","",COUNTA(CZ48:CZ86)) | CZ86: =$D$86 | DU86: =IF(COUNT(DA86:DT86)=0,"",SUM(DA86:DT86)) | DV86: =IF(初期設定!I46="","",初期設定!$H$5&正答数入力!CY86&正答数入力!CZ86)
C87: =IF(D87="","",COUNTA(D48:D87)) | D87: =IF(初期設定!I47="","",初期設定!I47) | Y87: =IF(COUNT(E87:X87)=0,"",SUM(E87:X87)) | AB87: =IF(AC87="","",COUNTA(AC48:AC87)) | AC87: =$D$87 | AX87: =IF(COUNT(AD87:AW87)=0,"",SUM(AD87:AW87)) | BA87: =IF(BB87="","",COUNTA(BB48:BB87)) | BB87: =$D$87 | BW87: =IF(COUNT(BC87:BV87)=0,"",SUM(BC87:BV87)) | BZ87: =IF(CA87="","",COUNTA(CA48:CA87)) | CA87: =$D$87 | CV87: =IF(COUNT(CB87:CU87)=0,"",SUM(CB87:CU87)) | CY87: =IF(CZ87="","",COUNTA(CZ48:CZ87)) | CZ87: =$D$87 | DU87: =IF(COUNT(DA87:DT87)=0,"",SUM(DA87:DT87)) | DV87: =IF(初期設定!I47="","",初期設定!$H$5&正答数入力!CY87&正答数入力!CZ87)
D88: 合計 | E88: =IF(COUNT(E48:E87)=0,"",SUM(E48:E87)) | F88: =IF(COUNT(F48:F87)=0,"",SUM(F48:F87)) | G88: =IF(COUNT(G48:G87)=0,"",SUM(G48:G87)) | H88: =IF(COUNT(H48:H87)=0,"",SUM(H48:H87)) | I88: =IF(COUNT(I48:I87)=0,"",SUM(I48:I87)) | J88: =IF(COUNT(J48:J87)=0,"",SUM(J48:J87)) | K88: =IF(COUNT(K48:K87)=0,"",SUM(K48:K87)) | L88: =IF(COUNT(L48:L87)=0,"",SUM(L48:L87)) | ... Y88: =IF(COUNT(Y48:Y87)=0,"",SUM(Y48:Y87)) | AC88: 合計 | AD88: =IF(COUNT(AD48:AD87)=0,"",SUM(AD48:AD87)) | AE88: =IF(COUNT(AE48:AE87)=0,"",SUM(AE48:AE87)) | AF88: =IF(COUNT(AF48:AF87)=0,"",SUM(AF48:AF87)) | AG88: =IF(COUNT(AG48:AG87)=0,"",SUM(AG48:AG87)) | AH88: =IF(COUNT(AH48:AH87)=0,"",SUM(AH48:AH87)) | AI88: =IF(COUNT(AI48:AI87)=0,"",SUM(AI48:AI87)) | AJ88: =IF(COUNT(AJ48:AJ87)=0,"",SUM(AJ48:AJ87)) | AK88: =IF(COUNT(AK48:AK87)=0,"",SUM(AK48:AK87)) | ... AX88: =IF(COUNT(AX48:AX87)=0,"",SUM(AX48:AX87)) | BB88: 合計 | BC88: =IF(COUNT(BC48:BC87)=0,"",SUM(BC48:BC87)) | BD88: =IF(COUNT(BD48:BD87)=0,"",SUM(BD48:BD87)) | BE88: =IF(COUNT(BE48:BE87)=0,"",SUM(BE48:BE87)) | BF88: =IF(COUNT(BF48:BF87)=0,"",SUM(BF48:BF87)) | BG88: =IF(COUNT(BG48:BG87)=0,"",SUM(BG48:BG87)) | BH88: =IF(COUNT(BH48:BH87)=0,"",SUM(BH48:BH87)) | BI88: =IF(COUNT(BI48:BI87)=0,"",SUM(BI48:BI87)) | BJ88: =IF(COUNT(BJ48:BJ87)=0,"",SUM(BJ48:BJ87)) | ... BW88: =IF(COUNT(BW48:BW87)=0,"",SUM(BW48:BW87)) | CA88: 合計 | CB88: =IF(COUNT(CB48:CB87)=0,"",SUM(CB48:CB87)) | CC88: =IF(COUNT(CC48:CC87)=0,"",SUM(CC48:CC87)) | CD88: =IF(COUNT(CD48:CD87)=0,"",SUM(CD48:CD87)) | CE88: =IF(COUNT(CE48:CE87)=0,"",SUM(CE48:CE87)) | CF88: =IF(COUNT(CF48:CF87)=0,"",SUM(CF48:CF87)) | CG88: =IF(COUNT(CG48:CG87)=0,"",SUM(CG48:CG87)) | CH88: =IF(COUNT(CH48:CH87)=0,"",SUM(CH48:CH87)) | CI88: =IF(COUNT(CI48:CI87)=0,"",SUM(CI48:CI87)) | ... CV88: =IF(COUNT(CV48:CV87)=0,"",SUM(CV48:CV87)) | CZ88: 合計 | DA88: =IF(COUNT(DA48:DA87)=0,"",SUM(DA48:DA87)) | DB88: =IF(COUNT(DB48:DB87)=0,"",SUM(DB48:DB87)) | DC88: =IF(COUNT(DC48:DC87)=0,"",SUM(DC48:DC87)) | DD88: =IF(COUNT(DD48:DD87)=0,"",SUM(DD48:DD87)) | DE88: =IF(COUNT(DE48:DE87)=0,"",SUM(DE48:DE87)) | DF88: =IF(COUNT(DF48:DF87)=0,"",SUM(DF48:DF87)) | DG88: =IF(COUNT(DG48:DG87)=0,"",SUM(DG48:DG87)) | DH88: =IF(COUNT(DH48:DH87)=0,"",SUM(DH48:DH87)) | ... DU88: =IF(COUNT(DU48:DU87)=0,"",SUM(DU48:DU87))
D89: 平均正答数 | E89: =IF(ISERROR(AVERAGE(E48:E87)),"",TEXT(AVERAGE(E48:E87),"0.0")) | F89: =IF(ISERROR(AVERAGE(F48:F87)),"",TEXT(AVERAGE(F48:F87),"0.0")) | G89: =IF(ISERROR(AVERAGE(G48:G87)),"",TEXT(AVERAGE(G48:G87),"0.0")) | H89: =IF(ISERROR(AVERAGE(H48:H87)),"",TEXT(AVERAGE(H48:H87),"0.0")) | I89: =IF(ISERROR(AVERAGE(I48:I87)),"",TEXT(AVERAGE(I48:I87),"0.0")) | J89: =IF(ISERROR(AVERAGE(J48:J87)),"",TEXT(AVERAGE(J48:J87),"0.0")) | K89: =IF(ISERROR(AVERAGE(K48:K87)),"",TEXT(AVERAGE(K48:K87),"0.0")) | L89: =IF(ISERROR(AVERAGE(L48:L87)),"",TEXT(AVERAGE(L48:L87),"0.0")) | ... Y89: =IF(ISERROR(AVERAGE(Y48:Y87)),"",TEXT(AVERAGE(Y48:Y87),"0.0")) | AC89: 平均正答数 | AD89: =IF(ISERROR(AVERAGE(AD48:AD87)),"",TEXT(AVERAGE(AD48:AD87),"0.0")) | AE89: =IF(ISERROR(AVERAGE(AE48:AE87)),"",TEXT(AVERAGE(AE48:AE87),"0.0")) | AF89: =IF(ISERROR(AVERAGE(AF48:AF87)),"",TEXT(AVERAGE(AF48:AF87),"0.0")) | AG89: =IF(ISERROR(AVERAGE(AG48:AG87)),"",TEXT(AVERAGE(AG48:AG87),"0.0")) | AH89: =IF(ISERROR(AVERAGE(AH48:AH87)),"",TEXT(AVERAGE(AH48:AH87),"0.0")) | AI89: =IF(ISERROR(AVERAGE(AI48:AI87)),"",TEXT(AVERAGE(AI48:AI87),"0.0")) | AJ89: =IF(ISERROR(AVERAGE(AJ48:AJ87)),"",TEXT(AVERAGE(AJ48:AJ87),"0.0")) | AK89: =IF(ISERROR(AVERAGE(AK48:AK87)),"",TEXT(AVERAGE(AK48:AK87),"0.0")) | ... AX89: =IF(ISERROR(AVERAGE(AX48:AX87)),"",TEXT(AVERAGE(AX48:AX87),"0.0")) | BB89: 平均正答数 | BC89: =IF(ISERROR(AVERAGE(BC48:BC87)),"",TEXT(AVERAGE(BC48:BC87),"0.0")) | BD89: =IF(ISERROR(AVERAGE(BD48:BD87)),"",TEXT(AVERAGE(BD48:BD87),"0.0")) | BE89: =IF(ISERROR(AVERAGE(BE48:BE87)),"",TEXT(AVERAGE(BE48:BE87),"0.0")) | BF89: =IF(ISERROR(AVERAGE(BF48:BF87)),"",TEXT(AVERAGE(BF48:BF87),"0.0")) | BG89: =IF(ISERROR(AVERAGE(BG48:BG87)),"",TEXT(AVERAGE(BG48:BG87),"0.0")) | BH89: =IF(ISERROR(AVERAGE(BH48:BH87)),"",TEXT(AVERAGE(BH48:BH87),"0.0")) | BI89: =IF(ISERROR(AVERAGE(BI48:BI87)),"",TEXT(AVERAGE(BI48:BI87),"0.0")) | BJ89: =IF(ISERROR(AVERAGE(BJ48:BJ87)),"",TEXT(AVERAGE(BJ48:BJ87),"0.0")) | ... BW89: =IF(ISERROR(AVERAGE(BW48:BW87)),"",TEXT(AVERAGE(BW48:BW87),"0.0")) | CA89: 平均正答数 | CB89: =IF(ISERROR(AVERAGE(CB48:CB87)),"",TEXT(AVERAGE(CB48:CB87),"0.0")) | CC89: =IF(ISERROR(AVERAGE(CC48:CC87)),"",TEXT(AVERAGE(CC48:CC87),"0.0")) | CD89: =IF(ISERROR(AVERAGE(CD48:CD87)),"",TEXT(AVERAGE(CD48:CD87),"0.0")) | CE89: =IF(ISERROR(AVERAGE(CE48:CE87)),"",TEXT(AVERAGE(CE48:CE87),"0.0")) | CF89: =IF(ISERROR(AVERAGE(CF48:CF87)),"",TEXT(AVERAGE(CF48:CF87),"0.0")) | CG89: =IF(ISERROR(AVERAGE(CG48:CG87)),"",TEXT(AVERAGE(CG48:CG87),"0.0")) | CH89: =IF(ISERROR(AVERAGE(CH48:CH87)),"",TEXT(AVERAGE(CH48:CH87),"0.0")) | CI89: =IF(ISERROR(AVERAGE(CI48:CI87)),"",TEXT(AVERAGE(CI48:CI87),"0.0")) | ... CV89: =IF(ISERROR(AVERAGE(CV48:CV87)),"",TEXT(AVERAGE(CV48:CV87),"0.0")) | CZ89: 平均正答数 | DA89: =IF(ISERROR(AVERAGE(DA48:DA87)),"",TEXT(AVERAGE(DA48:DA87),"0.0")) | DB89: =IF(ISERROR(AVERAGE(DB48:DB87)),"",TEXT(AVERAGE(DB48:DB87),"0.0")) | DC89: =IF(ISERROR(AVERAGE(DC48:DC87)),"",TEXT(AVERAGE(DC48:DC87),"0.0")) | DD89: =IF(ISERROR(AVERAGE(DD48:DD87)),"",TEXT(AVERAGE(DD48:DD87),"0.0")) | DE89: =IF(ISERROR(AVERAGE(DE48:DE87)),"",TEXT(AVERAGE(DE48:DE87),"0.0")) | DF89: =IF(ISERROR(AVERAGE(DF48:DF87)),"",TEXT(AVERAGE(DF48:DF87),"0.0")) | DG89: =IF(ISERROR(AVERAGE(DG48:DG87)),"",TEXT(AVERAGE(DG48:DG87),"0.0")) | DH89: =IF(ISERROR(AVERAGE(DH48:DH87)),"",TEXT(AVERAGE(DH48:DH87),"0.0")) | ... DU89: =IF(ISERROR(AVERAGE(DU48:DU87)),"",TEXT(AVERAGE(DU48:DU87),"0.0"))
B90: =IF(初期設定!K5="","",初期設定!K5&"組") | C90: =IF(D90="","",COUNTA(D90:D90)) | D90: =IF(初期設定!L8="","",初期設定!L8) | Y90: =IF(COUNT(E90:X90)=0,"",SUM(E90:X90)) | AA90: =$B$90 | AB90: =IF(AC90="","",COUNTA(AC90:AC90)) | AC90: =$D$90 | AX90: =IF(COUNT(AD90:AW90)=0,"",SUM(AD90:AW90)) | AZ90: =$B$90 | BA90: =IF(BB90="","",COUNTA(BB90:BB90)) | BB90: =$D$90 | BW90: =IF(COUNT(BC90:BV90)=0,"",SUM(BC90:BV90)) | BY90: =$B$90 | BZ90: =IF(CA90="","",COUNTA(CA90:CA90)) | CA90: =$D$90 | CV90: =IF(COUNT(CB90:CU90)=0,"",SUM(CB90:CU90)) | CX90: =$B$90 | CY90: =IF(CZ90="","",COUNTA(CZ90:CZ90)) | CZ90: =$D$90 | DU90: =IF(COUNT(DA90:DT90)=0,"",SUM(DA90:DT90)) | DV90: =IF(初期設定!L8="","",初期設定!$K$5&正答数入力!CY90&正答数入力!CZ90)
C91: =IF(D91="","",COUNTA(D90:D91)) | D91: =IF(初期設定!L9="","",初期設定!L9) | Y91: =IF(COUNT(E91:X91)=0,"",SUM(E91:X91)) | AB91: =IF(AC91="","",COUNTA(AC90:AC91)) | AC91: =$D$91 | AX91: =IF(COUNT(AD91:AW91)=0,"",SUM(AD91:AW91)) | BA91: =IF(BB91="","",COUNTA(BB90:BB91)) | BB91: =$D$91 | BW91: =IF(COUNT(BC91:BV91)=0,"",SUM(BC91:BV91)) | BZ91: =IF(CA91="","",COUNTA(CA90:CA91)) | CA91: =$D$91 | CV91: =IF(COUNT(CB91:CU91)=0,"",SUM(CB91:CU91)) | CY91: =IF(CZ91="","",COUNTA(CZ90:CZ91)) | CZ91: =$D$91 | DU91: =IF(COUNT(DA91:DT91)=0,"",SUM(DA91:DT91)) | DV91: =IF(初期設定!L9="","",初期設定!$K$5&正答数入力!CY91&正答数入力!CZ91)
C92: =IF(D92="","",COUNTA(D90:D92)) | D92: =IF(初期設定!L10="","",初期設定!L10) | Y92: =IF(COUNT(E92:X92)=0,"",SUM(E92:X92)) | AB92: =IF(AC92="","",COUNTA(AC90:AC92)) | AC92: =$D$92 | AX92: =IF(COUNT(AD92:AW92)=0,"",SUM(AD92:AW92)) | BA92: =IF(BB92="","",COUNTA(BB90:BB92)) | BB92: =$D$92 | BW92: =IF(COUNT(BC92:BV92)=0,"",SUM(BC92:BV92)) | BZ92: =IF(CA92="","",COUNTA(CA90:CA92)) | CA92: =$D$92 | CV92: =IF(COUNT(CB92:CU92)=0,"",SUM(CB92:CU92)) | CY92: =IF(CZ92="","",COUNTA(CZ90:CZ92)) | CZ92: =$D$92 | DU92: =IF(COUNT(DA92:DT92)=0,"",SUM(DA92:DT92)) | DV92: =IF(初期設定!L10="","",初期設定!$K$5&正答数入力!CY92&正答数入力!CZ92)
C93: =IF(D93="","",COUNTA(D90:D93)) | D93: =IF(初期設定!L11="","",初期設定!L11) | Y93: =IF(COUNT(E93:X93)=0,"",SUM(E93:X93)) | AB93: =IF(AC93="","",COUNTA(AC90:AC93)) | AC93: =$D$93 | AX93: =IF(COUNT(AD93:AW93)=0,"",SUM(AD93:AW93)) | BA93: =IF(BB93="","",COUNTA(BB90:BB93)) | BB93: =$D$93 | BW93: =IF(COUNT(BC93:BV93)=0,"",SUM(BC93:BV93)) | BZ93: =IF(CA93="","",COUNTA(CA90:CA93)) | CA93: =$D$93 | CV93: =IF(COUNT(CB93:CU93)=0,"",SUM(CB93:CU93)) | CY93: =IF(CZ93="","",COUNTA(CZ90:CZ93)) | CZ93: =$D$93 | DU93: =IF(COUNT(DA93:DT93)=0,"",SUM(DA93:DT93)) | DV93: =IF(初期設定!L11="","",初期設定!$K$5&正答数入力!CY93&正答数入力!CZ93)
C94: =IF(D94="","",COUNTA(D90:D94)) | D94: =IF(初期設定!L12="","",初期設定!L12) | Y94: =IF(COUNT(E94:X94)=0,"",SUM(E94:X94)) | AB94: =IF(AC94="","",COUNTA(AC90:AC94)) | AC94: =$D$94 | AX94: =IF(COUNT(AD94:AW94)=0,"",SUM(AD94:AW94)) | BA94: =IF(BB94="","",COUNTA(BB90:BB94)) | BB94: =$D$94 | BW94: =IF(COUNT(BC94:BV94)=0,"",SUM(BC94:BV94)) | BZ94: =IF(CA94="","",COUNTA(CA90:CA94)) | CA94: =$D$94 | CV94: =IF(COUNT(CB94:CU94)=0,"",SUM(CB94:CU94)) | CY94: =IF(CZ94="","",COUNTA(CZ90:CZ94)) | CZ94: =$D$94 | DU94: =IF(COUNT(DA94:DT94)=0,"",SUM(DA94:DT94)) | DV94: =IF(初期設定!L12="","",初期設定!$K$5&正答数入力!CY94&正答数入力!CZ94)
C95: =IF(D95="","",COUNTA(D90:D95)) | D95: =IF(初期設定!L13="","",初期設定!L13) | Y95: =IF(COUNT(E95:X95)=0,"",SUM(E95:X95)) | AB95: =IF(AC95="","",COUNTA(AC90:AC95)) | AC95: =$D$95 | AX95: =IF(COUNT(AD95:AW95)=0,"",SUM(AD95:AW95)) | BA95: =IF(BB95="","",COUNTA(BB90:BB95)) | BB95: =$D$95 | BW95: =IF(COUNT(BC95:BV95)=0,"",SUM(BC95:BV95)) | BZ95: =IF(CA95="","",COUNTA(CA90:CA95)) | CA95: =$D$95 | CV95: =IF(COUNT(CB95:CU95)=0,"",SUM(CB95:CU95)) | CY95: =IF(CZ95="","",COUNTA(CZ90:CZ95)) | CZ95: =$D$95 | DU95: =IF(COUNT(DA95:DT95)=0,"",SUM(DA95:DT95)) | DV95: =IF(初期設定!L13="","",初期設定!$K$5&正答数入力!CY95&正答数入力!CZ95)
C96: =IF(D96="","",COUNTA(D90:D96)) | D96: =IF(初期設定!L14="","",初期設定!L14) | Y96: =IF(COUNT(E96:X96)=0,"",SUM(E96:X96)) | AB96: =IF(AC96="","",COUNTA(AC90:AC96)) | AC96: =$D$96 | AX96: =IF(COUNT(AD96:AW96)=0,"",SUM(AD96:AW96)) | BA96: =IF(BB96="","",COUNTA(BB90:BB96)) | BB96: =$D$96 | BW96: =IF(COUNT(BC96:BV96)=0,"",SUM(BC96:BV96)) | BZ96: =IF(CA96="","",COUNTA(CA90:CA96)) | CA96: =$D$96 | CV96: =IF(COUNT(CB96:CU96)=0,"",SUM(CB96:CU96)) | CY96: =IF(CZ96="","",COUNTA(CZ90:CZ96)) | CZ96: =$D$96 | DU96: =IF(COUNT(DA96:DT96)=0,"",SUM(DA96:DT96)) | DV96: =IF(初期設定!L14="","",初期設定!$K$5&正答数入力!CY96&正答数入力!CZ96)
C97: =IF(D97="","",COUNTA(D90:D97)) | D97: =IF(初期設定!L15="","",初期設定!L15) | Y97: =IF(COUNT(E97:X97)=0,"",SUM(E97:X97)) | AB97: =IF(AC97="","",COUNTA(AC90:AC97)) | AC97: =$D$97 | AX97: =IF(COUNT(AD97:AW97)=0,"",SUM(AD97:AW97)) | BA97: =IF(BB97="","",COUNTA(BB90:BB97)) | BB97: =$D$97 | BW97: =IF(COUNT(BC97:BV97)=0,"",SUM(BC97:BV97)) | BZ97: =IF(CA97="","",COUNTA(CA90:CA97)) | CA97: =$D$97 | CV97: =IF(COUNT(CB97:CU97)=0,"",SUM(CB97:CU97)) | CY97: =IF(CZ97="","",COUNTA(CZ90:CZ97)) | CZ97: =$D$97 | DU97: =IF(COUNT(DA97:DT97)=0,"",SUM(DA97:DT97)) | DV97: =IF(初期設定!L15="","",初期設定!$K$5&正答数入力!CY97&正答数入力!CZ97)
C98: =IF(D98="","",COUNTA(D90:D98)) | D98: =IF(初期設定!L16="","",初期設定!L16) | Y98: =IF(COUNT(E98:X98)=0,"",SUM(E98:X98)) | AB98: =IF(AC98="","",COUNTA(AC90:AC98)) | AC98: =$D$98 | AX98: =IF(COUNT(AD98:AW98)=0,"",SUM(AD98:AW98)) | BA98: =IF(BB98="","",COUNTA(BB90:BB98)) | BB98: =$D$98 | BW98: =IF(COUNT(BC98:BV98)=0,"",SUM(BC98:BV98)) | BZ98: =IF(CA98="","",COUNTA(CA90:CA98)) | CA98: =$D$98 | CV98: =IF(COUNT(CB98:CU98)=0,"",SUM(CB98:CU98)) | CY98: =IF(CZ98="","",COUNTA(CZ90:CZ98)) | CZ98: =$D$98 | DU98: =IF(COUNT(DA98:DT98)=0,"",SUM(DA98:DT98)) | DV98: =IF(初期設定!L16="","",初期設定!$K$5&正答数入力!CY98&正答数入力!CZ98)
C99: =IF(D99="","",COUNTA(D90:D99)) | D99: =IF(初期設定!L17="","",初期設定!L17) | Y99: =IF(COUNT(E99:X99)=0,"",SUM(E99:X99)) | AB99: =IF(AC99="","",COUNTA(AC90:AC99)) | AC99: =$D$99 | AX99: =IF(COUNT(AD99:AW99)=0,"",SUM(AD99:AW99)) | BA99: =IF(BB99="","",COUNTA(BB90:BB99)) | BB99: =$D$99 | BW99: =IF(COUNT(BC99:BV99)=0,"",SUM(BC99:BV99)) | BZ99: =IF(CA99="","",COUNTA(CA90:CA99)) | CA99: =$D$99 | CV99: =IF(COUNT(CB99:CU99)=0,"",SUM(CB99:CU99)) | CY99: =IF(CZ99="","",COUNTA(CZ90:CZ99)) | CZ99: =$D$99 | DU99: =IF(COUNT(DA99:DT99)=0,"",SUM(DA99:DT99)) | DV99: =IF(初期設定!L17="","",初期設定!$K$5&正答数入力!CY99&正答数入力!CZ99)
C100: =IF(D100="","",COUNTA(D90:D100)) | D100: =IF(初期設定!L18="","",初期設定!L18) | Y100: =IF(COUNT(E100:X100)=0,"",SUM(E100:X100)) | AB100: =IF(AC100="","",COUNTA(AC90:AC100)) | AC100: =$D$100 | AX100: =IF(COUNT(AD100:AW100)=0,"",SUM(AD100:AW100)) | BA100: =IF(BB100="","",COUNTA(BB90:BB100)) | BB100: =$D$100 | BW100: =IF(COUNT(BC100:BV100)=0,"",SUM(BC100:BV100)) | BZ100: =IF(CA100="","",COUNTA(CA90:CA100)) | CA100: =$D$100 | CV100: =IF(COUNT(CB100:CU100)=0,"",SUM(CB100:CU100)) | CY100: =IF(CZ100="","",COUNTA(CZ90:CZ100)) | CZ100: =$D$100 | DU100: =IF(COUNT(DA100:DT100)=0,"",SUM(DA100:DT100)) | DV100: =IF(初期設定!L18="","",初期設定!$K$5&正答数入力!CY100&正答数入力!CZ100)
...

Sheet 個票
N1: ナビ☆チェック 到達度・課題発見シート
Y2: =IF(初期設定!B5=""," ",初期設定!B5)&IF(初期設定!B5=""," "," 年 ")&IF(B5=""," ",B5)&" 組" -> 組 | AB2: 名前 | AC2: =IF(B7="","",B7)
B3: =IF(OR(B5="",B7="",ISERROR(B5&B32&B7)),"",B5&B32&B7) | E3: 内容 | F3: No. | G3: 回 | H3: 実施日 | I3: 国 語 | J3: ナビ☆チェック | M3: 実施日 | N3: 社 会 | O3: ナビ☆チェック | R3: 実施日 | S3: 数 学 | T3: ナビ☆チェック | W3: 実施日 | X3: 理 科 | Y3: ナビ☆チェック | AB3: 実施日 | AC3: 英 語 | AD3: ナビ☆チェック
A4: 組・生徒名を 選択してください。 | J4: 小問数 | K4: 正答数 | L4: 到達度 | O4: 小問数 | P4: 正答数 | Q4: 到達度 | T4: 小問数 | U4: 正答数 | V4: 到達度 | Y4: 小問数 | Z4: 正答数 | AA4: 到達度 | AD4: 小問数 | AE4: 正答数 | AF4: 到達度
C5: 組 | E5: １・２年の学習内容 | F5: 1 | G5: １回 | H5: =IF(正答数入力!H3="","",正答数入力!H3) | I5: 漢字の基礎をまなぶ | J5: =正答数入力!E5 -> 3 | K5: =IF($B$3="","",INDEX(正答数入力!$E$6:$E$341,MATCH(個票!$B$3,正答数入力!$DV$6:$DV$341,0))) | L5: =IF(OR(K5="",K5=0),"☆☆☆",IF(K5=1,"★☆☆",IF(K5=2,"★★☆","★★★"))) -> ☆☆☆ | M5: =IF(正答数入力!AG3="","",正答数入力!AG3) | N5: 世界のすがた | O5: =正答数入力!AD5 -> 4 | P5: =IF($B$3="","",INDEX(正答数入力!$AD$6:$AD$341,MATCH(個票!$B$3,正答数入力!$DV$6:$DV$341,0))) | Q5: =IF(OR(P5="",P5=0),"☆☆☆☆",IF(P5=1,"★☆☆☆",IF(P5=2,"★★☆☆",IF(P5=3,"★★★☆","★★★★")))) -> ☆☆☆☆ | R5: =IF(正答数入力!BF3="","",正答数入力!BF3) | S5: 正の数・負の数⑴ | T5: =正答数入力!BC5 -> 4 | U5: =IF($B$3="","",INDEX(正答数入力!$BC$6:$BC$341,MATCH(個票!$B$3,正答数入力!$DV$6:$DV$341,0))) | V5: =IF(OR(U5="",U5=0),"☆☆☆☆",IF(U5=1,"★☆☆☆",IF(U5=2,"★★☆☆",IF(U5=3,"★★★☆","★★★★")))) -> ☆☆☆☆ | W5: =IF(正答数入力!CE3="","",正答数入力!CE3) | X5: 植物の特徴となかま | Y5: =正答数入力!CB5 -> 4 | Z5: =IF($B$3="","",INDEX(正答数入力!$CB$6:$CB$341,MATCH(個票!$B$3,正答数入力!$DV$6:$DV$341,0))) | AA5: =IF(OR(Z5="",Z5=0),"☆☆☆☆",IF(Z5=1,"★☆☆☆",IF(Z5=2,"★★☆☆",IF(Z5=3,"★★★☆","★★★★")))) -> ☆☆☆☆ | AB5: =IF(正答数入力!DD3="","",正答数入力!DD3) | AC5: be動詞（現在・過去） | AD5: =正答数入力!DA5 -> 4 | AE5: =IF($B$3="","",INDEX(正答数入力!$DA$6:$DA$341,MATCH(個票!$B$3,正答数入力!$DV$6:$DV$341,0))) | AF5: =IF(OR(AE5="",AE5=0),"☆☆☆☆",IF(AE5=1,"★☆☆☆",IF(AE5=2,"★★☆☆",IF(AE5=3,"★★★☆","★★★★")))) -> ☆☆☆☆
F6: 2 | I6: 熟語をまなぶ | J6: =正答数入力!F5 -> 3 | K6: =IF($B$3="","",INDEX(正答数入力!$F$6:$F$341,MATCH(個票!$B$3,正答数入力!$DV$6:$DV$341,0))) | L6: =IF(OR(K6="",K6=0),"☆☆☆",IF(K6=1,"★☆☆",IF(K6=2,"★★☆","★★★"))) -> ☆☆☆ | N6: 日本のすがた | O6: =正答数入力!AE5 -> 4 | P6: =IF($B$3="","",INDEX(正答数入力!$AE$6:$AE$341,MATCH(個票!$B$3,正答数入力!$DV$6:$DV$341,0))) | Q6: =IF(OR(P6="",P6=0),"☆☆☆☆",IF(P6=1,"★☆☆☆",IF(P6=2,"★★☆☆",IF(P6=3,"★★★☆","★★★★")))) -> ☆☆☆☆ | S6: 正の数・負の数⑵ | T6: =正答数入力!BD5 -> 4 | U6: =IF($B$3="","",INDEX(正答数入力!$BD$6:$BD$341,MATCH(個票!$B$3,正答数入力!$DV$6:$DV$341,0))) | V6: =IF(OR(U6="",U6=0),"☆☆☆☆",IF(U6=1,"★☆☆☆",IF(U6=2,"★★☆☆",IF(U6=3,"★★★☆","★★★★")))) -> ☆☆☆☆ | X6: 動物のなかま | Y6: =正答数入力!CC5 -> 4 | Z6: =IF($B$3="","",INDEX(正答数入力!$CC$6:$CC$341,MATCH(個票!$B$3,正答数入力!$DV$6:$DV$341,0))) | AA6: =IF(OR(Z6="",Z6=0),"☆☆☆☆",IF(Z6=1,"★☆☆☆",IF(Z6=2,"★★☆☆",IF(Z6=3,"★★★☆","★★★★")))) -> ☆☆☆☆ | AC6: 一般動詞⑴（現在） | AD6: =正答数入力!DB5 -> 4 | AE6: =IF($B$3="","",INDEX(正答数入力!$DB$6:$DB$341,MATCH(個票!$B$3,正答数入力!$DV$6:$DV$341,0))) | AF6: =IF(OR(AE6="",AE6=0),"☆☆☆☆",IF(AE6=1,"★☆☆☆",IF(AE6=2,"★★☆☆",IF(AE6=3,"★★★☆","★★★★")))) -> ☆☆☆☆
A7: 生徒名 | F7: 3 | I7: 語句をまなぶ | J7: =正答数入力!G5 -> 3 | K7: =IF($B$3="","",INDEX(正答数入力!$G$6:$G$341,MATCH(個票!$B$3,正答数入力!$DV$6:$DV$341,0))) | L7: =IF(OR(K7="",K7=0),"☆☆☆",IF(K7=1,"★☆☆",IF(K7=2,"★★☆","★★★"))) -> ☆☆☆ | N7: 世界各地の人々の生活と環境 | O7: =正答数入力!AF5 -> 4 | P7: =IF($B$3="","",INDEX(正答数入力!$AF$6:$AF$341,MATCH(個票!$B$3,正答数入力!$DV$6:$DV$341,0))) | Q7: =IF(OR(P7="",P7=0),"☆☆☆☆",IF(P7=1,"★☆☆☆",IF(P7=2,"★★☆☆",IF(P7=3,"★★★☆","★★★★")))) -> ☆☆☆☆ | S7: 文字と式 | T7: =正答数入力!BE5 -> 4 | U7: =IF($B$3="","",INDEX(正答数入力!$BE$6:$BE$341,MATCH(個票!$B$3,正答数入力!$DV$6:$DV$341,0))) | V7: =IF(OR(U7="",U7=0),"☆☆☆☆",IF(U7=1,"★☆☆☆",IF(U7=2,"★★☆☆",IF(U7=3,"★★★☆","★★★★")))) -> ☆☆☆☆ | X7: 観察・実験の基礎操作 | Y7: =正答数入力!CD5 -> 4 | Z7: =IF($B$3="","",INDEX(正答数入力!$CD$6:$CD$341,MATCH(個票!$B$3,正答数入力!$DV$6:$DV$341,0))) | AA7: =IF(OR(Z7="",Z7=0),"☆☆☆☆",IF(Z7=1,"★☆☆☆",IF(Z7=2,"★★☆☆",IF(Z7=3,"★★★☆","★★★★")))) -> ☆☆☆☆ | AC7: 一般動詞⑵（過去） | AD7: =正答数入力!DC5 -> 4 | AE7: =IF($B$3="","",INDEX(正答数入力!$DC$6:$DC$341,MATCH(個票!$B$3,正答数入力!$DV$6:$DV$341,0))) | AF7: =IF(OR(AE7="",AE7=0),"☆☆☆☆",IF(AE7=1,"★☆☆☆",IF(AE7=2,"★★☆☆",IF(AE7=3,"★★★☆","★★★★")))) -> ☆☆☆☆
F8: 4 | I8: 文章中の語句の意味をとらえる | J8: =正答数入力!H5 -> 3 | K8: =IF($B$3="","",INDEX(正答数入力!$H$6:$H$341,MATCH(個票!$B$3,正答数入力!$DV$6:$DV$341,0))) | L8: =IF(OR(K8="",K8=0),"☆☆☆",IF(K8=1,"★☆☆",IF(K8=2,"★★☆","★★★"))) -> ☆☆☆ | N8: アジア州，ヨーロッパ州 | O8: =正答数入力!AG5 -> 4 | P8: =IF($B$3="","",INDEX(正答数入力!$AG$6:$AG$341,MATCH(個票!$B$3,正答数入力!$DV$6:$DV$341,0))) | Q8: =IF(OR(P8="",P8=0),"☆☆☆☆",IF(P8=1,"★☆☆☆",IF(P8=2,"★★☆☆",IF(P8=3,"★★★☆","★★★★")))) -> ☆☆☆☆ | S8: １次方程式⑴ | T8: =正答数入力!BF5 -> 4 | U8: =IF($B$3="","",INDEX(正答数入力!$BF$6:$BF$341,MATCH(個票!$B$3,正答数入力!$DV$6:$DV$341,0))) | V8: =IF(OR(U8="",U8=0),"☆☆☆☆",IF(U8=1,"★☆☆☆",IF(U8=2,"★★☆☆",IF(U8=3,"★★★☆","★★★★")))) -> ☆☆☆☆ | X8: 物質のすがた | Y8: =正答数入力!CE5 -> 4 | Z8: =IF($B$3="","",INDEX(正答数入力!$CE$6:$CE$341,MATCH(個票!$B$3,正答数入力!$DV$6:$DV$341,0))) | AA8: =IF(OR(Z8="",Z8=0),"☆☆☆☆",IF(Z8=1,"★☆☆☆",IF(Z8=2,"★★☆☆",IF(Z8=3,"★★★☆","★★★★")))) -> ☆☆☆☆ | AC8: 進行形 | AD8: =正答数入力!DD5 -> 4 | AE8: =IF($B$3="","",INDEX(正答数入力!$DD$6:$DD$341,MATCH(個票!$B$3,正答数入力!$DV$6:$DV$341,0))) | AF8: =IF(OR(AE8="",AE8=0),"☆☆☆☆",IF(AE8=1,"★☆☆☆",IF(AE8=2,"★★☆☆",IF(AE8=3,"★★★☆","★★★★")))) -> ☆☆☆☆
I9: 小計 | J9: =SUM(J5:J8) -> 12 | K9: =IF(COUNTBLANK(K5:K8)=4,"",SUM(K5:K8)) | N9: 小計 | O9: =SUM(O5:O8) -> 16 | P9: =IF(COUNTBLANK(P5:P8)=4,"",SUM(P5:P8)) | S9: 小計 | T9: =SUM(T5:T8) -> 16 | U9: =IF(COUNTBLANK(U5:U8)=4,"",SUM(U5:U8)) | X9: 小計 | Y9: =SUM(Y5:Y8) -> 16 | Z9: =IF(COUNTBLANK(Z5:Z8)=4,"",SUM(Z5:Z8)) | AC9: 小計 | AD9: =SUM(AD5:AD8) -> 16 | AE9: =IF(COUNTBLANK(AE5:AE8)=4,"",SUM(AE5:AE8))
F10: 5 | G10: ２回 | H10: =IF(正答数入力!L3="","",正答数入力!L3) | I10: 指示語・接続語をとらえる | J10: =正答数入力!I5 -> 3 | K10: =IF($B$3="","",INDEX(正答数入力!$I$6:$I$341,MATCH(個票!$B$3,正答数入力!$DV$6:$DV$341,0))) | L10: =IF(OR(K10="",K10=0),"☆☆☆",IF(K10=1,"★☆☆",IF(K10=2,"★★☆","★★★"))) -> ☆☆☆ | M10: =IF(正答数入力!AK3="","",正答数入力!AK3) | N10: アフリカ州，北アメリカ州 | O10: =正答数入力!AH5 -> 4 | P10: =IF($B$3="","",INDEX(正答数入力!$AH$6:$AH$341,MATCH(個票!$B$3,正答数入力!$DV$6:$DV$341,0))) | Q10: =IF(OR(P10="",P10=0),"☆☆☆☆",IF(P10=1,"★☆☆☆",IF(P10=2,"★★☆☆",IF(P10=3,"★★★☆","★★★★")))) -> ☆☆☆☆ | R10: =IF(正答数入力!BJ3="","",正答数入力!BJ3) | S10: １次方程式⑵ | T10: =正答数入力!BG5 -> 4 | U10: =IF($B$3="","",INDEX(正答数入力!$BG$6:$BG$341,MATCH(個票!$B$3,正答数入力!$DV$6:$DV$341,0))) | V10: =IF(OR(U10="",U10=0),"☆☆☆☆",IF(U10=1,"★☆☆☆",IF(U10=2,"★★☆☆",IF(U10=3,"★★★☆","★★★★")))) -> ☆☆☆☆ | W10: =IF(正答数入力!CI3="","",正答数入力!CI3) | X10: 気体と水溶液 | Y10: =正答数入力!CF5 -> 4 | Z10: =IF($B$3="","",INDEX(正答数入力!$CF$6:$CF$341,MATCH(個票!$B$3,正答数入力!$DV$6:$DV$341,0))) | AA10: =IF(OR(Z10="",Z10=0),"☆☆☆☆",IF(Z10=1,"★☆☆☆",IF(Z10=2,"★★☆☆",IF(Z10=3,"★★★☆","★★★★")))) -> ☆☆☆☆ | AB10: =IF(正答数入力!DH3="","",正答数入力!DH3) | AC10: 名詞／a，an，the | AD10: =正答数入力!DE5 -> 4 | AE10: =IF($B$3="","",INDEX(正答数入力!$DE$6:$DE$341,MATCH(個票!$B$3,正答数入力!$DV$6:$DV$341,0))) | AF10: =IF(OR(AE10="",AE10=0),"☆☆☆☆",IF(AE10=1,"★☆☆☆",IF(AE10=2,"★★☆☆",IF(AE10=3,"★★★☆","★★★★")))) -> ☆☆☆☆
F11: 6 | I11: 理由をとらえる | J11: =正答数入力!J5 -> 3 | K11: =IF($B$3="","",INDEX(正答数入力!$J$6:$J$341,MATCH(個票!$B$3,正答数入力!$DV$6:$DV$341,0))) | L11: =IF(OR(K11="",K11=0),"☆☆☆",IF(K11=1,"★☆☆",IF(K11=2,"★★☆","★★★"))) -> ☆☆☆ | N11: 南アメリカ州，オセアニア州 | O11: =正答数入力!AI5 -> 4 | P11: =IF($B$3="","",INDEX(正答数入力!$AI$6:$AI$341,MATCH(個票!$B$3,正答数入力!$DV$6:$DV$341,0))) | Q11: =IF(OR(P11="",P11=0),"☆☆☆☆",IF(P11=1,"★☆☆☆",IF(P11=2,"★★☆☆",IF(P11=3,"★★★☆","★★★★")))) -> ☆☆☆☆ | S11: 比例と反比例 | T11: =正答数入力!BH5 -> 4 | U11: =IF($B$3="","",INDEX(正答数入力!$BH$6:$BH$341,MATCH(個票!$B$3,正答数入力!$DV$6:$DV$341,0))) | V11: =IF(OR(U11="",U11=0),"☆☆☆☆",IF(U11=1,"★☆☆☆",IF(U11=2,"★★☆☆",IF(U11=3,"★★★☆","★★★★")))) -> ☆☆☆☆ | X11: 光の性質 | Y11: =正答数入力!CG5 -> 4 | Z11: =IF($B$3="","",INDEX(正答数入力!$CG$6:$CG$341,MATCH(個票!$B$3,正答数入力!$DV$6:$DV$341,0))) | AA11: =IF(OR(Z11="",Z11=0),"☆☆☆☆",IF(Z11=1,"★☆☆☆",IF(Z11=2,"★★☆☆",IF(Z11=3,"★★★☆","★★★★")))) -> ☆☆☆☆ | AC11: 代名詞 | AD11: =正答数入力!DF5 -> 4 | AE11: =IF($B$3="","",INDEX(正答数入力!$DF$6:$DF$341,MATCH(個票!$B$3,正答数入力!$DV$6:$DV$341,0))) | AF11: =IF(OR(AE11="",AE11=0),"☆☆☆☆",IF(AE11=1,"★☆☆☆",IF(AE11=2,"★★☆☆",IF(AE11=3,"★★★☆","★★★★")))) -> ☆☆☆☆
F12: 7 | I12: 段落の構成をとらえる | J12: =正答数入力!K5 -> 3 | K12: =IF($B$3="","",INDEX(正答数入力!$K$6:$K$341,MATCH(個票!$B$3,正答数入力!$DV$6:$DV$341,0))) | L12: =IF(OR(K12="",K12=0),"☆☆☆",IF(K12=1,"★☆☆",IF(K12=2,"★★☆","★★★"))) -> ☆☆☆ | N12: 地域調査の手法 | O12: =正答数入力!AJ5 -> 4 | P12: =IF($B$3="","",INDEX(正答数入力!$AJ$6:$AJ$341,MATCH(個票!$B$3,正答数入力!$DV$6:$DV$341,0))) | Q12: =IF(OR(P12="",P12=0),"☆☆☆☆",IF(P12=1,"★☆☆☆",IF(P12=2,"★★☆☆",IF(P12=3,"★★★☆","★★★★")))) -> ☆☆☆☆ | S12: 平面図形 | T12: =正答数入力!BI5 -> 4 | U12: =IF($B$3="","",INDEX(正答数入力!$BI$6:$BI$341,MATCH(個票!$B$3,正答数入力!$DV$6:$DV$341,0))) | V12: =IF(OR(U12="",U12=0),"☆☆☆☆",IF(U12=1,"★☆☆☆",IF(U12=2,"★★☆☆",IF(U12=3,"★★★☆","★★★★")))) -> ☆☆☆☆ | X12: 音と力 | Y12: =正答数入力!CH5 -> 4 | Z12: =IF($B$3="","",INDEX(正答数入力!$CH$6:$CH$341,MATCH(個票!$B$3,正答数入力!$DV$6:$DV$341,0))) | AA12: =IF(OR(Z12="",Z12=0),"☆☆☆☆",IF(Z12=1,"★☆☆☆",IF(Z12=2,"★★☆☆",IF(Z12=3,"★★★☆","★★★★")))) -> ☆☆☆☆ | AC12: 形容詞 | AD12: =正答数入力!DG5 -> 4 | AE12: =IF($B$3="","",INDEX(正答数入力!$DG$6:$DG$341,MATCH(個票!$B$3,正答数入力!$DV$6:$DV$341,0))) | AF12: =IF(OR(AE12="",AE12=0),"☆☆☆☆",IF(AE12=1,"★☆☆☆",IF(AE12=2,"★★☆☆",IF(AE12=3,"★★★☆","★★★★")))) -> ☆☆☆☆
F13: 8 | I13: 要旨をとらえる | J13: =正答数入力!L5 -> 3 | K13: =IF($B$3="","",INDEX(正答数入力!$L$6:$L$341,MATCH(個票!$B$3,正答数入力!$DV$6:$DV$341,0))) | L13: =IF(OR(K13="",K13=0),"☆☆☆",IF(K13=1,"★☆☆",IF(K13=2,"★★☆","★★★"))) -> ☆☆☆ | N13: 自然環境，人口 | O13: =正答数入力!AK5 -> 4 | P13: =IF($B$3="","",INDEX(正答数入力!$AK$6:$AK$341,MATCH(個票!$B$3,正答数入力!$DV$6:$DV$341,0))) | Q13: =IF(OR(P13="",P13=0),"☆☆☆☆",IF(P13=1,"★☆☆☆",IF(P13=2,"★★☆☆",IF(P13=3,"★★★☆","★★★★")))) -> ☆☆☆☆ | S13: 空間図形⑴ | T13: =正答数入力!BJ5 -> 4 | U13: =IF($B$3="","",INDEX(正答数入力!$BJ$6:$BJ$341,MATCH(個票!$B$3,正答数入力!$DV$6:$DV$341,0))) | V13: =IF(OR(U13="",U13=0),"☆☆☆☆",IF(U13=1,"★☆☆☆",IF(U13=2,"★★☆☆",IF(U13=3,"★★★☆","★★★★")))) -> ☆☆☆☆ | X13: 火山と地震 | Y13: =正答数入力!CI5 -> 4 | Z13: =IF($B$3="","",INDEX(正答数入力!$CI$6:$CI$341,MATCH(個票!$B$3,正答数入力!$DV$6:$DV$341,0))) | AA13: =IF(OR(Z13="",Z13=0),"☆☆☆☆",IF(Z13=1,"★☆☆☆",IF(Z13=2,"★★☆☆",IF(Z13=3,"★★★☆","★★★★")))) -> ☆☆☆☆ | AC13: 副詞 | AD13: =正答数入力!DH5 -> 4 | AE13: =IF($B$3="","",INDEX(正答数入力!$DH$6:$DH$341,MATCH(個票!$B$3,正答数入力!$DV$6:$DV$341,0))) | AF13: =IF(OR(AE13="",AE13=0),"☆☆☆☆",IF(AE13=1,"★☆☆☆",IF(AE13=2,"★★☆☆",IF(AE13=3,"★★★☆","★★★★")))) -> ☆☆☆☆
I14: 小計 | J14: =SUM(J10:J13) -> 12 | K14: =IF(COUNTBLANK(K10:K13)=4,"",SUM(K10:K13)) | N14: 小計 | O14: =SUM(O10:O13) -> 16 | P14: =IF(COUNTBLANK(P10:P13)=4,"",SUM(P10:P13)) | S14: 小計 | T14: =SUM(T10:T13) -> 16 | U14: =IF(COUNTBLANK(U10:U13)=4,"",SUM(U10:U13)) | X14: 小計 | Y14: =SUM(Y10:Y13) -> 16 | Z14: =IF(COUNTBLANK(Z10:Z13)=4,"",SUM(Z10:Z13)) | AC14: 小計 | AD14: =SUM(AD10:AD13) -> 16 | AE14: =IF(COUNTBLANK(AE10:AE13)=4,"",SUM(AE10:AE13))
F15: 9 | G15: ３回 | H15: =IF(正答数入力!P3="","",正答数入力!P3) | I15: 情景・心情をとらえる | J15: =正答数入力!M5 -> 3 | K15: =IF($B$3="","",INDEX(正答数入力!$M$6:$M$341,MATCH(個票!$B$3,正答数入力!$DV$6:$DV$341,0))) | L15: =IF(OR(K15="",K15=0),"☆☆☆",IF(K15=1,"★☆☆",IF(K15=2,"★★☆","★★★"))) -> ☆☆☆ | M15: =IF(正答数入力!AO3="","",正答数入力!AO3) | N15: 資源・産業，交通・通信 | O15: =正答数入力!AL5 -> 4 | P15: =IF($B$3="","",INDEX(正答数入力!$AL$6:$AL$341,MATCH(個票!$B$3,正答数入力!$DV$6:$DV$341,0))) | Q15: =IF(OR(P15="",P15=0),"☆☆☆☆",IF(P15=1,"★☆☆☆",IF(P15=2,"★★☆☆",IF(P15=3,"★★★☆","★★★★")))) -> ☆☆☆☆ | R15: =IF(正答数入力!BN3="","",正答数入力!BN3) | S15: 空間図形⑵ | T15: =正答数入力!BK5 -> 4 | U15: =IF($B$3="","",INDEX(正答数入力!$BK$6:$BK$341,MATCH(個票!$B$3,正答数入力!$DV$6:$DV$341,0))) | V15: =IF(OR(U15="",U15=0),"☆☆☆☆",IF(U15=1,"★☆☆☆",IF(U15=2,"★★☆☆",IF(U15=3,"★★★☆","★★★★")))) -> ☆☆☆☆ | W15: =IF(正答数入力!CM3="","",正答数入力!CM3) | X15: 地層と岩石 | Y15: =正答数入力!CJ5 -> 4 | Z15: =IF($B$3="","",INDEX(正答数入力!$CJ$6:$CJ$341,MATCH(個票!$B$3,正答数入力!$DV$6:$DV$341,0))) | AA15: =IF(OR(Z15="",Z15=0),"☆☆☆☆",IF(Z15=1,"★☆☆☆",IF(Z15=2,"★★☆☆",IF(Z15=3,"★★★☆","★★★★")))) -> ☆☆☆☆ | AB15: =IF(正答数入力!DL3="","",正答数入力!DL3) | AC15: 前置詞 | AD15: =正答数入力!DI5 -> 4 | AE15: =IF($B$3="","",INDEX(正答数入力!$DI$6:$DI$341,MATCH(個票!$B$3,正答数入力!$DV$6:$DV$341,0))) | AF15: =IF(OR(AE15="",AE15=0),"☆☆☆☆",IF(AE15=1,"★☆☆☆",IF(AE15=2,"★★☆☆",IF(AE15=3,"★★★☆","★★★★")))) -> ☆☆☆☆
F16: 10 | I16: 人物の行動をとらえる | J16: =正答数入力!N5 -> 3 | K16: =IF($B$3="","",INDEX(正答数入力!$N$6:$N$341,MATCH(個票!$B$3,正答数入力!$DV$6:$DV$341,0))) | L16: =IF(OR(K16="",K16=0),"☆☆☆",IF(K16=1,"★☆☆",IF(K16=2,"★★☆","★★★"))) -> ☆☆☆ | N16: 九州地方，中国・四国地方 | O16: =正答数入力!AM5 -> 4 | P16: =IF($B$3="","",INDEX(正答数入力!$AM$6:$AM$341,MATCH(個票!$B$3,正答数入力!$DV$6:$DV$341,0))) | Q16: =IF(OR(P16="",P16=0),"☆☆☆☆",IF(P16=1,"★☆☆☆",IF(P16=2,"★★☆☆",IF(P16=3,"★★★☆","★★★★")))) -> ☆☆☆☆ | S16: データの活用 | T16: =正答数入力!BL5 -> 4 | U16: =IF($B$3="","",INDEX(正答数入力!$BL$6:$BL$341,MATCH(個票!$B$3,正答数入力!$DV$6:$DV$341,0))) | V16: =IF(OR(U16="",U16=0),"☆☆☆☆",IF(U16=1,"★☆☆☆",IF(U16=2,"★★☆☆",IF(U16=3,"★★★☆","★★★★")))) -> ☆☆☆☆ | X16: 化学変化と原子・分子 | Y16: =正答数入力!CK5 -> 4 | Z16: =IF($B$3="","",INDEX(正答数入力!$CK$6:$CK$341,MATCH(個票!$B$3,正答数入力!$DV$6:$DV$341,0))) | AA16: =IF(OR(Z16="",Z16=0),"☆☆☆☆",IF(Z16=1,"★☆☆☆",IF(Z16=2,"★★☆☆",IF(Z16=3,"★★★☆","★★★★")))) -> ☆☆☆☆ | AC16: 命令文 | AD16: =正答数入力!DJ5 -> 4 | AE16: =IF($B$3="","",INDEX(正答数入力!$DJ$6:$DJ$341,MATCH(個票!$B$3,正答数入力!$DV$6:$DV$341,0))) | AF16: =IF(OR(AE16="",AE16=0),"☆☆☆☆",IF(AE16=1,"★☆☆☆",IF(AE16=2,"★★☆☆",IF(AE16=3,"★★★☆","★★★★")))) -> ☆☆☆☆
F17: 11 | I17: 表現の特徴をとらえる | J17: =正答数入力!O5 -> 3 | K17: =IF($B$3="","",INDEX(正答数入力!$O$6:$O$341,MATCH(個票!$B$3,正答数入力!$DV$6:$DV$341,0))) | L17: =IF(OR(K17="",K17=0),"☆☆☆",IF(K17=1,"★☆☆",IF(K17=2,"★★☆","★★★"))) -> ☆☆☆ | N17: 近畿地方，中部地方 | O17: =正答数入力!AN5 -> 4 | P17: =IF($B$3="","",INDEX(正答数入力!$AN$6:$AN$341,MATCH(個票!$B$3,正答数入力!$DV$6:$DV$341,0))) | Q17: =IF(OR(P17="",P17=0),"☆☆☆☆",IF(P17=1,"★☆☆☆",IF(P17=2,"★★☆☆",IF(P17=3,"★★★☆","★★★★")))) -> ☆☆☆☆ | S17: 式の計算 | T17: =正答数入力!BM5 -> 4 | U17: =IF($B$3="","",INDEX(正答数入力!$BM$6:$BM$341,MATCH(個票!$B$3,正答数入力!$DV$6:$DV$341,0))) | V17: =IF(OR(U17="",U17=0),"☆☆☆☆",IF(U17=1,"★☆☆☆",IF(U17=2,"★★☆☆",IF(U17=3,"★★★☆","★★★★")))) -> ☆☆☆☆ | X17: 化学変化と物質の質量 | Y17: =正答数入力!CL5 -> 4 | Z17: =IF($B$3="","",INDEX(正答数入力!$CL$6:$CL$341,MATCH(個票!$B$3,正答数入力!$DV$6:$DV$341,0))) | AA17: =IF(OR(Z17="",Z17=0),"☆☆☆☆",IF(Z17=1,"★☆☆☆",IF(Z17=2,"★★☆☆",IF(Z17=3,"★★★☆","★★★★")))) -> ☆☆☆☆ | AC17: 疑問詞を用いた疑問文 | AD17: =正答数入力!DK5 -> 4 | AE17: =IF($B$3="","",INDEX(正答数入力!$DK$6:$DK$341,MATCH(個票!$B$3,正答数入力!$DV$6:$DV$341,0))) | AF17: =IF(OR(AE17="",AE17=0),"☆☆☆☆",IF(AE17=1,"★☆☆☆",IF(AE17=2,"★★☆☆",IF(AE17=3,"★★★☆","★★★★")))) -> ☆☆☆☆
F18: 12 | I18: 主題をとらえる | J18: =正答数入力!P5 -> 3 | K18: =IF($B$3="","",INDEX(正答数入力!$P$6:$P$341,MATCH(個票!$B$3,正答数入力!$DV$6:$DV$341,0))) | L18: =IF(OR(K18="",K18=0),"☆☆☆",IF(K18=1,"★☆☆",IF(K18=2,"★★☆","★★★"))) -> ☆☆☆ | N18: 関東地方，東北地方，北海道地方 | O18: =正答数入力!AO5 -> 4 | P18: =IF($B$3="","",INDEX(正答数入力!$AO$6:$AO$341,MATCH(個票!$B$3,正答数入力!$DV$6:$DV$341,0))) | Q18: =IF(OR(P18="",P18=0),"☆☆☆☆",IF(P18=1,"★☆☆☆",IF(P18=2,"★★☆☆",IF(P18=3,"★★★☆","★★★★")))) -> ☆☆☆☆ | S18: 連立方程式⑴ | T18: =正答数入力!BN5 -> 4 | U18: =IF($B$3="","",INDEX(正答数入力!$BN$6:$BN$341,MATCH(個票!$B$3,正答数入力!$DV$6:$DV$341,0))) | V18: =IF(OR(U18="",U18=0),"☆☆☆☆",IF(U18=1,"★☆☆☆",IF(U18=2,"★★☆☆",IF(U18=3,"★★★☆","★★★★")))) -> ☆☆☆☆ | X18: 生物と細胞，植物のつくり | Y18: =正答数入力!CM5 -> 4 | Z18: =IF($B$3="","",INDEX(正答数入力!$CM$6:$CM$341,MATCH(個票!$B$3,正答数入力!$DV$6:$DV$341,0))) | AA18: =IF(OR(Z18="",Z18=0),"☆☆☆☆",IF(Z18=1,"★☆☆☆",IF(Z18=2,"★★☆☆",IF(Z18=3,"★★★☆","★★★★")))) -> ☆☆☆☆ | AC18: いろいろな文の構造⑴ | AD18: =正答数入力!DL5 -> 4 | AE18: =IF($B$3="","",INDEX(正答数入力!$DL$6:$DL$341,MATCH(個票!$B$3,正答数入力!$DV$6:$DV$341,0))) | AF18: =IF(OR(AE18="",AE18=0),"☆☆☆☆",IF(AE18=1,"★☆☆☆",IF(AE18=2,"★★☆☆",IF(AE18=3,"★★★☆","★★★★")))) -> ☆☆☆☆
I19: 小計 | J19: =SUM(J15:J18) -> 12 | K19: =IF(COUNTBLANK(K15:K18)=4,"",SUM(K15:K18)) | N19: 小計 | O19: =SUM(O15:O18) -> 16 | P19: =IF(COUNTBLANK(P15:P18)=4,"",SUM(P15:P18)) | S19: 小計 | T19: =SUM(T15:T18) -> 16 | U19: =IF(COUNTBLANK(U15:U18)=4,"",SUM(U15:U18)) | X19: 小計 | Y19: =SUM(Y15:Y18) -> 16 | Z19: =IF(COUNTBLANK(Z15:Z18)=4,"",SUM(Z15:Z18)) | AC19: 小計 | AD19: =SUM(AD15:AD18) -> 16 | AE19: =IF(COUNTBLANK(AE15:AE18)=4,"",SUM(AE15:AE18))
F20: 13 | G20: ４回 | H20: =IF(正答数入力!T3="","",正答数入力!T3) | I20: 書く力をつける（説明的文章） | J20: =正答数入力!Q5 -> 3 | K20: =IF($B$3="","",INDEX(正答数入力!$Q$6:$Q$341,MATCH(個票!$B$3,正答数入力!$DV$6:$DV$341,0))) | L20: =IF(OR(K20="",K20=0),"☆☆☆",IF(K20=1,"★☆☆",IF(K20=2,"★★☆","★★★"))) -> ☆☆☆ | M20: =IF(正答数入力!AS3="","",正答数入力!AS3) | N20: 文明のおこりと日本の成り立ち | O20: =正答数入力!AP5 -> 4 | P20: =IF($B$3="","",INDEX(正答数入力!$AP$6:$AP$341,MATCH(個票!$B$3,正答数入力!$DV$6:$DV$341,0))) | Q20: =IF(OR(P20="",P20=0),"☆☆☆☆",IF(P20=1,"★☆☆☆",IF(P20=2,"★★☆☆",IF(P20=3,"★★★☆","★★★★")))) -> ☆☆☆☆ | R20: =IF(正答数入力!BR3="","",正答数入力!BR3) | S20: 連立方程式⑵ | T20: =正答数入力!BO5 -> 4 | U20: =IF($B$3="","",INDEX(正答数入力!$BO$6:$BO$341,MATCH(個票!$B$3,正答数入力!$DV$6:$DV$341,0))) | V20: =IF(OR(U20="",U20=0),"☆☆☆☆",IF(U20=1,"★☆☆☆",IF(U20=2,"★★☆☆",IF(U20=3,"★★★☆","★★★★")))) -> ☆☆☆☆ | W20: =IF(正答数入力!CQ3="","",正答数入力!CQ3) | X20: 植物のはたらき | Y20: =正答数入力!CN5 -> 4 | Z20: =IF($B$3="","",INDEX(正答数入力!$CN$6:$CN$341,MATCH(個票!$B$3,正答数入力!$DV$6:$DV$341,0))) | AA20: =IF(OR(Z20="",Z20=0),"☆☆☆☆",IF(Z20=1,"★☆☆☆",IF(Z20=2,"★★☆☆",IF(Z20=3,"★★★☆","★★★★")))) -> ☆☆☆☆ | AB20: =IF(正答数入力!DP3="","",正答数入力!DP3) | AC20: 未来の文 | AD20: =正答数入力!DM5 -> 4 | AE20: =IF($B$3="","",INDEX(正答数入力!$DM$6:$DM$341,MATCH(個票!$B$3,正答数入力!$DV$6:$DV$341,0))) | AF20: =IF(OR(AE20="",AE20=0),"☆☆☆☆",IF(AE20=1,"★☆☆☆",IF(AE20=2,"★★☆☆",IF(AE20=3,"★★★☆","★★★★")))) -> ☆☆☆☆
F21: 14 | I21: 書く力をつける（文学的文章） | J21: =正答数入力!R5 -> 3 | K21: =IF($B$3="","",INDEX(正答数入力!$R$6:$R$341,MATCH(個票!$B$3,正答数入力!$DV$6:$DV$341,0))) | L21: =IF(OR(K21="",K21=0),"☆☆☆",IF(K21=1,"★☆☆",IF(K21=2,"★★☆","★★★"))) -> ☆☆☆ | N21: 古代日本の歩みと東アジア | O21: =正答数入力!AQ5 -> 4 | P21: =IF($B$3="","",INDEX(正答数入力!$AQ$6:$AQ$341,MATCH(個票!$B$3,正答数入力!$DV$6:$DV$341,0))) | Q21: =IF(OR(P21="",P21=0),"☆☆☆☆",IF(P21=1,"★☆☆☆",IF(P21=2,"★★☆☆",IF(P21=3,"★★★☆","★★★★")))) -> ☆☆☆☆ | S21: １次関数⑴ | T21: =正答数入力!BP5 -> 4 | U21: =IF($B$3="","",INDEX(正答数入力!$BP$6:$BP$341,MATCH(個票!$B$3,正答数入力!$DV$6:$DV$341,0))) | V21: =IF(OR(U21="",U21=0),"☆☆☆☆",IF(U21=1,"★☆☆☆",IF(U21=2,"★★☆☆",IF(U21=3,"★★★☆","★★★★")))) -> ☆☆☆☆ | X21: 消化と吸収 | Y21: =正答数入力!CO5 -> 4 | Z21: =IF($B$3="","",INDEX(正答数入力!$CO$6:$CO$341,MATCH(個票!$B$3,正答数入力!$DV$6:$DV$341,0))) | AA21: =IF(OR(Z21="",Z21=0),"☆☆☆☆",IF(Z21=1,"★☆☆☆",IF(Z21=2,"★★☆☆",IF(Z21=3,"★★★☆","★★★★")))) -> ☆☆☆☆ | AC21: 助動詞 | AD21: =正答数入力!DN5 -> 4 | AE21: =IF($B$3="","",INDEX(正答数入力!$DN$6:$DN$341,MATCH(個票!$B$3,正答数入力!$DV$6:$DV$341,0))) | AF21: =IF(OR(AE21="",AE21=0),"☆☆☆☆",IF(AE21=1,"★☆☆☆",IF(AE21=2,"★★☆☆",IF(AE21=3,"★★★☆","★★★★")))) -> ☆☆☆☆
F22: 15 | I22: 推敲と表現をまなぶ | J22: =正答数入力!S5 -> 3 | K22: =IF($B$3="","",INDEX(正答数入力!$S$6:$S$341,MATCH(個票!$B$3,正答数入力!$DV$6:$DV$341,0))) | L22: =IF(OR(K22="",K22=0),"☆☆☆",IF(K22=1,"★☆☆",IF(K22=2,"★★☆","★★★"))) -> ☆☆☆ | N22: 中世の日本と東アジア | O22: =正答数入力!AR5 -> 4 | P22: =IF($B$3="","",INDEX(正答数入力!$AR$6:$AR$341,MATCH(個票!$B$3,正答数入力!$DV$6:$DV$341,0))) | Q22: =IF(OR(P22="",P22=0),"☆☆☆☆",IF(P22=1,"★☆☆☆",IF(P22=2,"★★☆☆",IF(P22=3,"★★★☆","★★★★")))) -> ☆☆☆☆ | S22: １次関数⑵ | T22: =正答数入力!BQ5 -> 4 | U22: =IF($B$3="","",INDEX(正答数入力!$BQ$6:$BQ$341,MATCH(個票!$B$3,正答数入力!$DV$6:$DV$341,0))) | V22: =IF(OR(U22="",U22=0),"☆☆☆☆",IF(U22=1,"★☆☆☆",IF(U22=2,"★★☆☆",IF(U22=3,"★★★☆","★★★★")))) -> ☆☆☆☆ | X22: 呼吸，血液の循環 | Y22: =正答数入力!CP5 -> 4 | Z22: =IF($B$3="","",INDEX(正答数入力!$CP$6:$CP$341,MATCH(個票!$B$3,正答数入力!$DV$6:$DV$341,0))) | AA22: =IF(OR(Z22="",Z22=0),"☆☆☆☆",IF(Z22=1,"★☆☆☆",IF(Z22=2,"★★☆☆",IF(Z22=3,"★★★☆","★★★★")))) -> ☆☆☆☆ | AC22: 不定詞⑴ | AD22: =正答数入力!DO5 -> 4 | AE22: =IF($B$3="","",INDEX(正答数入力!$DO$6:$DO$341,MATCH(個票!$B$3,正答数入力!$DV$6:$DV$341,0))) | AF22: =IF(OR(AE22="",AE22=0),"☆☆☆☆",IF(AE22=1,"★☆☆☆",IF(AE22=2,"★★☆☆",IF(AE22=3,"★★★☆","★★★★")))) -> ☆☆☆☆
F23: 16 | I23: 鑑賞文・感想文を書く | J23: =正答数入力!T5 -> 3 | K23: =IF($B$3="","",INDEX(正答数入力!$T$6:$T$341,MATCH(個票!$B$3,正答数入力!$DV$6:$DV$341,0))) | L23: =IF(OR(K23="",K23=0),"☆☆☆",IF(K23=1,"★☆☆",IF(K23=2,"★★☆","★★★"))) -> ☆☆☆ | N23: 世界の動きと天下統一 | O23: =正答数入力!AS5 -> 4 | P23: =IF($B$3="","",INDEX(正答数入力!$AS$6:$AS$341,MATCH(個票!$B$3,正答数入力!$DV$6:$DV$341,0))) | Q23: =IF(OR(P23="",P23=0),"☆☆☆☆",IF(P23=1,"★☆☆☆",IF(P23=2,"★★☆☆",IF(P23=3,"★★★☆","★★★★")))) -> ☆☆☆☆ | S23: 平行と合同 | T23: =正答数入力!BR5 -> 4 | U23: =IF($B$3="","",INDEX(正答数入力!$BR$6:$BR$341,MATCH(個票!$B$3,正答数入力!$DV$6:$DV$341,0))) | V23: =IF(OR(U23="",U23=0),"☆☆☆☆",IF(U23=1,"★☆☆☆",IF(U23=2,"★★☆☆",IF(U23=3,"★★★☆","★★★★")))) -> ☆☆☆☆ | X23: 排出，感覚器官，行動のしくみ | Y23: =正答数入力!CQ5 -> 4 | Z23: =IF($B$3="","",INDEX(正答数入力!$CQ$6:$CQ$341,MATCH(個票!$B$3,正答数入力!$DV$6:$DV$341,0))) | AA23: =IF(OR(Z23="",Z23=0),"☆☆☆☆",IF(Z23=1,"★☆☆☆",IF(Z23=2,"★★☆☆",IF(Z23=3,"★★★☆","★★★★")))) -> ☆☆☆☆ | AC23: 動名詞 | AD23: =正答数入力!DP5 -> 4 | AE23: =IF($B$3="","",INDEX(正答数入力!$DP$6:$DP$341,MATCH(個票!$B$3,正答数入力!$DV$6:$DV$341,0))) | AF23: =IF(OR(AE23="",AE23=0),"☆☆☆☆",IF(AE23=1,"★☆☆☆",IF(AE23=2,"★★☆☆",IF(AE23=3,"★★★☆","★★★★")))) -> ☆☆☆☆
I24: 小計 | J24: =SUM(J20:J23) -> 12 | K24: =IF(COUNTBLANK(K20:K23)=4,"",SUM(K20:K23)) | N24: 小計 | O24: =SUM(O20:O23) -> 16 | P24: =IF(COUNTBLANK(P20:P23)=4,"",SUM(P20:P23)) | S24: 小計 | T24: =SUM(T20:T23) -> 16 | U24: =IF(COUNTBLANK(U20:U23)=4,"",SUM(U20:U23)) | X24: 小計 | Y24: =SUM(Y20:Y23) -> 16 | Z24: =IF(COUNTBLANK(Z20:Z23)=4,"",SUM(Z20:Z23)) | AC24: 小計 | AD24: =SUM(AD20:AD23) -> 16 | AE24: =IF(COUNTBLANK(AE20:AE23)=4,"",SUM(AE20:AE23))
F25: 17 | G25: ５回 | H25: =IF(正答数入力!X3="","",正答数入力!X3) | I25: 古典の基礎をまなぶ | J25: =正答数入力!U5 -> 3 | K25: =IF($B$3="","",INDEX(正答数入力!$U$6:$U$341,MATCH(個票!$B$3,正答数入力!$DV$6:$DV$341,0))) | L25: =IF(OR(K25="",K25=0),"☆☆☆",IF(K25=1,"★☆☆",IF(K25=2,"★★☆","★★★"))) -> ☆☆☆ | M25: =IF(正答数入力!AW3="","",正答数入力!AW3) | N25: 近世日本の発展 | O25: =正答数入力!AT5 -> 4 | P25: =IF($B$3="","",INDEX(正答数入力!$AT$6:$AT$341,MATCH(個票!$B$3,正答数入力!$DV$6:$DV$341,0))) | Q25: =IF(OR(P25="",P25=0),"☆☆☆☆",IF(P25=1,"★☆☆☆",IF(P25=2,"★★☆☆",IF(P25=3,"★★★☆","★★★★")))) -> ☆☆☆☆ | R25: =IF(正答数入力!BV3="","",正答数入力!BV3) | S25: 三角形 | T25: =正答数入力!BS5 -> 4 | U25: =IF($B$3="","",INDEX(正答数入力!$BS$6:$BS$341,MATCH(個票!$B$3,正答数入力!$DV$6:$DV$341,0))) | V25: =IF(OR(U25="",U25=0),"☆☆☆☆",IF(U25=1,"★☆☆☆",IF(U25=2,"★★☆☆",IF(U25=3,"★★★☆","★★★★")))) -> ☆☆☆☆ | W25: =IF(正答数入力!CU3="","",正答数入力!CU3) | X25: 電流と電圧 | Y25: =正答数入力!CR5 -> 4 | Z25: =IF($B$3="","",INDEX(正答数入力!$CR$6:$CR$341,MATCH(個票!$B$3,正答数入力!$DV$6:$DV$341,0))) | AA25: =IF(OR(Z25="",Z25=0),"☆☆☆☆",IF(Z25=1,"★☆☆☆",IF(Z25=2,"★★☆☆",IF(Z25=3,"★★★☆","★★★★")))) -> ☆☆☆☆ | AB25: =IF(正答数入力!DT3="","",正答数入力!DT3) | AC25: 接続詞 | AD25: =正答数入力!DQ5 -> 4 | AE25: =IF($B$3="","",INDEX(正答数入力!$DQ$6:$DQ$341,MATCH(個票!$B$3,正答数入力!$DV$6:$DV$341,0))) | AF25: =IF(OR(AE25="",AE25=0),"☆☆☆☆",IF(AE25=1,"★☆☆☆",IF(AE25=2,"★★☆☆",IF(AE25=3,"★★★☆","★★★★")))) -> ☆☆☆☆
F26: 18 | I26: 古文を読む | J26: =正答数入力!V5 -> 3 | K26: =IF($B$3="","",INDEX(正答数入力!$V$6:$V$341,MATCH(個票!$B$3,正答数入力!$DV$6:$DV$341,0))) | L26: =IF(OR(K26="",K26=0),"☆☆☆",IF(K26=1,"★☆☆",IF(K26=2,"★★☆","★★★"))) -> ☆☆☆ | N26: 欧米の進出と日本の開国 | O26: =正答数入力!AU5 -> 4 | P26: =IF($B$3="","",INDEX(正答数入力!$AU$6:$AU$341,MATCH(個票!$B$3,正答数入力!$DV$6:$DV$341,0))) | Q26: =IF(OR(P26="",P26=0),"☆☆☆☆",IF(P26=1,"★☆☆☆",IF(P26=2,"★★☆☆",IF(P26=3,"★★★☆","★★★★")))) -> ☆☆☆☆ | S26: 平行四辺形 | T26: =正答数入力!BT5 -> 4 | U26: =IF($B$3="","",INDEX(正答数入力!$BT$6:$BT$341,MATCH(個票!$B$3,正答数入力!$DV$6:$DV$341,0))) | V26: =IF(OR(U26="",U26=0),"☆☆☆☆",IF(U26=1,"★☆☆☆",IF(U26=2,"★★☆☆",IF(U26=3,"★★★☆","★★★★")))) -> ☆☆☆☆ | X26: 電流のはたらき | Y26: =正答数入力!CS5 -> 4 | Z26: =IF($B$3="","",INDEX(正答数入力!$CS$6:$CS$341,MATCH(個票!$B$3,正答数入力!$DV$6:$DV$341,0))) | AA26: =IF(OR(Z26="",Z26=0),"☆☆☆☆",IF(Z26=1,"★☆☆☆",IF(Z26=2,"★★☆☆",IF(Z26=3,"★★★☆","★★★★")))) -> ☆☆☆☆ | AC26: 比較の文⑴ | AD26: =正答数入力!DR5 -> 4 | AE26: =IF($B$3="","",INDEX(正答数入力!$DR$6:$DR$341,MATCH(個票!$B$3,正答数入力!$DV$6:$DV$341,0))) | AF26: =IF(OR(AE26="",AE26=0),"☆☆☆☆",IF(AE26=1,"★☆☆☆",IF(AE26=2,"★★☆☆",IF(AE26=3,"★★★☆","★★★★")))) -> ☆☆☆☆
F27: 19 | I27: 漢詩・漢文を読む | J27: =正答数入力!W5 -> 3 | K27: =IF($B$3="","",INDEX(正答数入力!$W$6:$W$341,MATCH(個票!$B$3,正答数入力!$DV$6:$DV$341,0))) | L27: =IF(OR(K27="",K27=0),"☆☆☆",IF(K27=1,"★☆☆",IF(K27=2,"★★☆","★★★"))) -> ☆☆☆ | N27: 近代日本の歩み | O27: =正答数入力!AV5 -> 4 | P27: =IF($B$3="","",INDEX(正答数入力!$AV$6:$AV$341,MATCH(個票!$B$3,正答数入力!$DV$6:$DV$341,0))) | Q27: =IF(OR(P27="",P27=0),"☆☆☆☆",IF(P27=1,"★☆☆☆",IF(P27=2,"★★☆☆",IF(P27=3,"★★★☆","★★★★")))) -> ☆☆☆☆ | S27: 確率 | T27: =正答数入力!BU5 -> 4 | U27: =IF($B$3="","",INDEX(正答数入力!$BU$6:$BU$341,MATCH(個票!$B$3,正答数入力!$DV$6:$DV$341,0))) | V27: =IF(OR(U27="",U27=0),"☆☆☆☆",IF(U27=1,"★☆☆☆",IF(U27=2,"★★☆☆",IF(U27=3,"★★★☆","★★★★")))) -> ☆☆☆☆ | X27: 気象観測，大気中の水蒸気 | Y27: =正答数入力!CT5 -> 4 | Z27: =IF($B$3="","",INDEX(正答数入力!$CT$6:$CT$341,MATCH(個票!$B$3,正答数入力!$DV$6:$DV$341,0))) | AA27: =IF(OR(Z27="",Z27=0),"☆☆☆☆",IF(Z27=1,"★☆☆☆",IF(Z27=2,"★★☆☆",IF(Z27=3,"★★★☆","★★★★")))) -> ☆☆☆☆ | AC27: 比較の文⑵ | AD27: =正答数入力!DS5 -> 4 | AE27: =IF($B$3="","",INDEX(正答数入力!$DS$6:$DS$341,MATCH(個票!$B$3,正答数入力!$DV$6:$DV$341,0))) | AF27: =IF(OR(AE27="",AE27=0),"☆☆☆☆",IF(AE27=1,"★☆☆☆",IF(AE27=2,"★★☆☆",IF(AE27=3,"★★★☆","★★★★")))) -> ☆☆☆☆
F28: 20 | I28: 古典を含む文章を読む | J28: =正答数入力!X5 -> 3 | K28: =IF($B$3="","",INDEX(正答数入力!$X$6:$X$341,MATCH(個票!$B$3,正答数入力!$DV$6:$DV$341,0))) | L28: =IF(OR(K28="",K28=0),"☆☆☆",IF(K28=1,"★☆☆",IF(K28=2,"★★☆","★★★"))) -> ☆☆☆ | N28: 近代までの文化にみる歴史の流れ | O28: =正答数入力!AW5 -> 4 | P28: =IF($B$3="","",INDEX(正答数入力!$AW$6:$AW$341,MATCH(個票!$B$3,正答数入力!$DV$6:$DV$341,0))) | Q28: =IF(OR(P28="",P28=0),"☆☆☆☆",IF(P28=1,"★☆☆☆",IF(P28=2,"★★☆☆",IF(P28=3,"★★★☆","★★★★")))) -> ☆☆☆☆ | S28: 箱ひげ図とデータの活用 | T28: =正答数入力!BV5 -> 4 | U28: =IF($B$3="","",INDEX(正答数入力!$BV$6:$BV$341,MATCH(個票!$B$3,正答数入力!$DV$6:$DV$341,0))) | V28: =IF(OR(U28="",U28=0),"☆☆☆☆",IF(U28=1,"★☆☆☆",IF(U28=2,"★★☆☆",IF(U28=3,"★★★☆","★★★★")))) -> ☆☆☆☆ | X28: 大気と天気の変化 | Y28: =正答数入力!CU5 -> 4 | Z28: =IF($B$3="","",INDEX(正答数入力!$CU$6:$CU$341,MATCH(個票!$B$3,正答数入力!$DV$6:$DV$341,0))) | AA28: =IF(OR(Z28="",Z28=0),"☆☆☆☆",IF(Z28=1,"★☆☆☆",IF(Z28=2,"★★☆☆",IF(Z28=3,"★★★☆","★★★★")))) -> ☆☆☆☆ | AC28: 会話表現⑴ | AD28: =正答数入力!DT5 -> 4 | AE28: =IF($B$3="","",INDEX(正答数入力!$DT$6:$DT$341,MATCH(個票!$B$3,正答数入力!$DV$6:$DV$341,0))) | AF28: =IF(OR(AE28="",AE28=0),"☆☆☆☆",IF(AE28=1,"★☆☆☆",IF(AE28=2,"★★☆☆",IF(AE28=3,"★★★☆","★★★★")))) -> ☆☆☆☆
I29: 小計 | J29: =SUM(J25:J28) -> 12 | K29: =IF(COUNTBLANK(K25:K28)=4,"",SUM(K25:K28)) | N29: 小計 | O29: =SUM(O25:O28) -> 16 | P29: =IF(COUNTBLANK(P25:P28)=4,"",SUM(P25:P28)) | S29: 小計 | T29: =SUM(T25:T28) -> 16 | U29: =IF(COUNTBLANK(U25:U28)=4,"",SUM(U25:U28)) | X29: 小計 | Y29: =SUM(Y25:Y28) -> 16 | Z29: =IF(COUNTBLANK(Z25:Z28)=4,"",SUM(Z25:Z28)) | AC29: 小計 | AD29: =SUM(AD25:AD28) -> 16 | AE29: =IF(COUNTBLANK(AE25:AE28)=4,"",SUM(AE25:AE28))
I30: 合計 | J30: =SUM(J9,J14,J19,J24,J29) -> 60 | K30: =IF(SUM(K9,K14,K19,K24,K29)=0,"",SUM(K9,K14,K19,K24,K29)) | N30: 合計 | O30: =SUM(O9,O14,O19,O24,O29) -> 80 | P30: =IF(SUM(P9,P14,P19,P24,P29)=0,"",SUM(P9,P14,P19,P24,P29)) | S30: 合計 | T30: =SUM(T9,T14,T19,T24,T29) -> 80 | U30: =IF(SUM(U9,U14,U19,U24,U29)=0,"",SUM(U9,U14,U19,U24,U29)) | X30: 合計 | Y30: =SUM(Y9,Y14,Y19,Y24,Y29) -> 80 | Z30: =IF(SUM(Z9,Z14,Z19,Z24,Z29)=0,"",SUM(Z9,Z14,Z19,Z24,Z29)) | AC30: 合計 | AD30: =SUM(AD9,AD14,AD19,AD24,AD29) -> 80 | AE30: =IF(SUM(AE9,AE14,AE19,AE24,AE29)=0,"",SUM(AE9,AE14,AE19,AE24,AE29))
E31: ３年の学習内容 | F31: 21 | I31: 詩と鑑賞文を読む | N31: 二度の世界大戦と日本 | S31: 乗法公式・因数分解 | X31: 化学変化とイオン | AC31: 受け身の文
B32: =SUM(B33:B40) -> #N/A | F32: 22 | I32: 短歌と鑑賞文を読む | N32: 現代の日本と世界 | S32: 平方根 | X32: 酸・アルカリ，中和と塩 | AC32: 現在完了⑴
B33: =IF($B$5=C33,INDEX(初期設定!E8:E47,MATCH($B$7,生徒名①,0)),0) -> #N/A | C33: =IF(初期設定!E$5="","",初期設定!E$5) | F33: 23 | I33: 俳句と鑑賞文を読む | N33: わたしたちと現代社会 | S33: ２次方程式 | X33: 生物の成長とふえ方 | AC33: 現在完了⑵／現在完了進行形
B34: =IF($B$5=C34,INDEX(初期設定!H8:H47,MATCH($B$7,生徒名②,0)),0) -> #N/A | C34: =IF(初期設定!H$5="","",初期設定!H$5) | F34: 24 | I34: 文の組み立てをまなぶ | N34: 人間の尊重と日本国憲法 | S34: 関数y=ax2 | X34: 遺伝のきまり，進化 | AC34: 不定詞⑵
B35: =IF($B$5=C35,INDEX(初期設定!K8:K47,MATCH($B$7,生徒名③,0)),0) -> #N/A | C35: =IF(初期設定!K$5="","",初期設定!K$5) | F35: 25 | I35: 自立語をまなぶ | N35: 現代の民主政治，国会と内閣 | S35: 相似な図形⑴ | X35: 運動と力 | AC35: 不定詞⑶
B36: =IF($B$5=C36,INDEX(初期設定!N8:N47,MATCH($B$7,生徒名④,0)),0) -> #N/A | C36: =IF(初期設定!N$5="","",初期設定!N$5) | F36: 26 | I36: 付属語をまなぶ | N36: 裁判所，三権分立，地方の政治と自治 | S36: 相似な図形⑵ | X36: 仕事とエネルギー | AC36: 会話表現⑵
B37: =IF($B$5=C37,INDEX(初期設定!Q8:Q47,MATCH($B$7,生徒名⑤,0)),0) -> #N/A | C37: =IF(初期設定!Q$5="","",初期設定!Q$5) | F37: 27 | I37: コミュニケーションをまなぶ | N37: 消費生活，流通と生産，労働と生活 | S37: 円 | X37: 天体の動き | AC37: いろいろな文の構造⑵／特別な疑問文
B38: =IF($B$5=C38,INDEX(初期設定!T8:T47,MATCH($B$7,生徒名⑥,0)),0) -> #N/A | C38: =IF(初期設定!T$5="","",初期設定!T$5) | F38: 28 | I38: 敬語をまなぶ | N38: 市場経済と金融 | S38: 三平方の定理⑴ | X38: 惑星と太陽系 | AC38: 名詞を修飾する分詞
B39: =IF($B$5=C39,INDEX(初期設定!W8:W47,MATCH($B$7,生徒名⑦,0)),0) -> #N/A | C39: =IF(初期設定!W$5="","",初期設定!W$5) | F39: 29 | I39: 作文を書く（テーマ型） | N39: 財政と社会保障，環境保全と経済 | S39: 三平方の定理⑵ | X39: エネルギーの利用／科学技術と人間 | AC39: 関係代名詞⑴
B40: =IF($B$5=C40,INDEX(初期設定!Z8:Z47,MATCH($B$7,生徒名⑧,0)),0) -> #N/A | C40: =IF(初期設定!Z$5="","",初期設定!Z$5) | F40: 30 | I40: 作文を書く（資料型） | N40: 地球社会とわたしたち | S40: 標本調査 | X40: 自然と人間 | AC40: 関係代名詞⑵／仮定法
I42: 国語 | J42: 問題数 | K42: 正答数 | L42: 到達度 | N42: 社会 | O42: 問題数 | P42: 正答数 | Q42: 到達度 | S42: 数学 | T42: 問題数 | U42: 正答数 | V42: 到達度 | X42: 理科 | Y42: 問題数 | Z42: 正答数 | AA42: 到達度 | AC42: 英語 | AD42: 問題数 | AE42: 正答数 | AF42: 到達度
I43: 正解した数をぬりつぶした 星★の数 | J43: 60 | K43: 48～60 | L43: =IF(K30="","",IF(K30>=48,"◎","")) | N43: 正解した数をぬりつぶした 星★の数 | O43: 80 | P43: 64～80 | Q43: =IF(P30="","",IF(P30>=64,"◎","")) | S43: 正解した数をぬりつぶした 星★の数 | T43: 80 | U43: 64～80 | V43: =IF(U30="","",IF(U30>=64,"◎","")) | X43: 正解した数をぬりつぶした 星★の数 | Y43: 80 | Z43: 64～80 | AA43: =IF(Z30="","",IF(Z30>=64,"◎","")) | AC43: 正解した数をぬりつぶした 星★の数 | AD43: 80 | AE43: 64～80 | AF43: =IF(AE30="","",IF(AE30>=64,"◎",""))
K44: 30～47 | L44: =IF(K30="","",IF(AND(K30>=30,K30<=47),"○","")) | P44: 40～63 | Q44: =IF(P30="","",IF(AND(P30>=40,P30<=63),"○","")) | U44: 40～63 | V44: =IF(U30="","",IF(AND(U30>=40,U30<=63),"○","")) | Z44: 40～63 | AA44: =IF(Z30="","",IF(AND(Z30>=40,Z30<=63),"○","")) | AE44: 40～63 | AF44: =IF(AE30="","",IF(AND(AE30>=40,AE30<=63),"○",""))
K45: ～29 | L45: =IF(K30="","",IF(K30<=29,"△","")) | P45: ～39 | Q45: =IF(P30="","",IF(P30<=39,"△","")) | U45: ～39 | V45: =IF(U30="","",IF(U30<=39,"△","")) | Z45: ～39 | AA45: =IF(Z30="","",IF(Z30<=39,"△","")) | AE45: ～39 | AF45: =IF(AE30="","",IF(AE30<=39,"△",""))
I47: 学習のアドバイス | L47: ⇒ | M47: ◎ | N47: よくがんばりました！ ★まちがえた問題は，解説を読んで解き方などを確認しよう。 ★次は，より発展的な問題に取り組んでみよう。 | R47: ○ | S47: もう少しがんばろう！ ★まちがえた問題は，リターン表をもとに「ラーニングナビ」にもどって内容を確認し，もう一度，問題にチャレンジしよう。 | W47: △ | X47: もっとがんばろう！ ★「ラーニングナビ」を使ってもう一度学習内容を確認し，基礎・基本をしっかりおさえよう。
